Workbook
Name BEANS: '[1]Vegetable Subgroups'!$C$4:$C$50
Name BEANS: #REF!
Name BEANS: '[2]Vegetable Subgroups'!$C$4:$C$50
Name BEANS: #REF!
Name BEANS: #REF!
Name BEANS: #REF!
Name BEANS: #REF!
Name BEANS: #REF!
Name Cups: [3]dropdowns!$A$1:$A$17
Name Cups: [2]Sheet2!$A$1:$A$17
Name Cups: [4]dropdowns!$A$1:$A$17
Name Cups: dropdowns!$A$1:$A$17
Name cups1: [5]dropdowns!$D$1:$D$25
Name cups1: dropdowns!$D$1:$D$25
Name grains: dropdowns!$F$1:$F$3
Name GREEN: '[1]Vegetable Subgroups'!$A$4:$A$50
Name GREEN: #REF!
Name GREEN: #REF!
Name GREEN: '[2]Vegetable Subgroups'!$A$4:$A$50
Name GREEN: #REF!
Name GREEN: #REF!
Name GREEN: #REF!
Name GREEN: #REF!
Name GREEN: #REF!
Name l: #REF!
Name l: #REF!
Name l: #REF!
Name l: #REF!
Name l: #REF!
Name meals: '[3]All Meals'!$C$12:$C$61
Name meals: '[2]All Meals'!$B$11:$B$60
Name meals: '[4]All Meals'!$C$12:$C$61
Name meals: 'All Meals'!$C$12:$C$62
Name Milk: dropdowns!$C$1:$C$9
Name OTHER: '[1]Vegetable Subgroups'!$E$4:$E$50
Name OTHER: #REF!
Name OTHER: #REF!
Name OTHER: '[2]Vegetable Subgroups'!$E$4:$E$50
Name OTHER: #REF!
Name OTHER: #REF!
Name OTHER: #REF!
Name OTHER: #REF!
Name OTHER: #REF!
Name RED: '[1]Vegetable Subgroups'!$B$4:$B$50
Name RED: #REF!
Name RED: #REF!
Name RED: '[2]Vegetable Subgroups'!$B$4:$B$50
Name RED: #REF!
Name RED: #REF!
Name RED: #REF!
Name RED: #REF!
Name RED: #REF!
Name STARCHY: '[1]Vegetable Subgroups'!$D$4:$D$50
Name STARCHY: #REF!
Name STARCHY: #REF!
Name STARCHY: '[2]Vegetable Subgroups'!$D$4:$D$50
Name STARCHY: #REF!
Name STARCHY: #REF!
Name STARCHY: #REF!
Name STARCHY: #REF!

Sheet dropdowns
A2: 0.125 | C2: 0.25 | D2: 0.125 | F2: Total offerings
A3: 0.25 | C3: 0.5 | D3: 0.25 | F3: Total oz equivalents
A4: 0.375 | C4: 0.75 | D4: 0.375
A5: 0.5 | C5: 1 | D5: 0.5
A6: 0.625 | C6: 1.25 | D6: 0.625
A7: 0.75 | C7: 1.5 | D7: 0.75
A8: 0.875 | C8: 1.75 | D8: 0.875
A9: 1 | C9: 2 | D9: 1
A10: 1.125 | D10: 1.125
A11: 1.25 | D11: 1.25
A12: 1.375 | D12: 1.375
A13: 1.5 | D13: 1.5
A14: 1.625 | D14: 1.625
A15: 1.75 | D15: 1.75
A16: 1.875 | D16: 1.875
A17: 2 | D17: 2
D18: 2.125
D19: 2.25
D20: 2.375
D21: 2.5
D22: 2.625
D23: 2.75
D24: 2.875
D25: 3

Sheet Breakfast Worksheet Instruction
A2: Directions for SFSP Breakfast Menu Verification Worksheet
A3: FDACS Revised 5/2018
A5: Purpose:
A6: Completion of this worksheet allows sponsors to double check that their breakfast menu meets the SFSP meal pattern established by the USDA.
A8: Getting Started
A9: REMEMBER TO PERIODICALLY SAVE THE WORKSHEET AS IT IS BEING COMPLETED!!!!
A10: Materials needed:
A11: 1 week menu plan (5 days if 5 day operation, 4 days if 4 day operation, etc.)
A12: Portion sizes for all reimbursable menu items
A13: Contribution information for each menu item (CN Label, USDA Food Fact Sheet)
A14: Standardized Recipes
A15: Production Records
... A109: For fruit/vegetable/juice and milk, the daily quantity requirement as well as the milk variety best practice is summarized for each day of the week.

Sheet SFA Notes
A1: SFA Certification Worksheet Notes Breakfast

Sheet All Meals
A1: SFSP Meal Pattern Reimbursable Breakfast
B2: SFA Name:
B3: Menu #:
B4: Enter each breakfast menu plan offered during the reference week and select or enter the quantity of each of the required components. Each reimbursable meal consists of all required food components: any grains in a main dish and/or side dish, total amount of fruit offered with this meal, total amount of vegetables in a main dish and/or side dish, and amount of milk. The types of milk will be recorded on a different tab. | V4: OPTIONAL Tools to Assist in Fraction and Decimal Calculations
A5: 1 | B5: 2 | C5: 3 | D5: 4 | E5: 5 | F5: 6 | G5: 7 | H5: 8 | I5: 9 | J5: 10 | K5: 11 | L5: 12 | M5: 13 | N5: 14 | O5: 15 | P5: 16 | Q5: 17 | R5: 18 | S5: 19
C6: Click here to go the Food Buying Guide Calculator | E6: Click here to go the Instructions | G6: Click here to the Weekly Report | V6: Fraction Calculator: Use this calculator to add the number of cups. | W6: 1 | X6: =INDEX(Cups,W6) -> 0
B7: 1 | D7: 2 | E7: 2a | F7: 2b | G7: 3 | J7: 3a | M7: 3b | P7: 3c | S7: 4
B8: Meal Name Enter the name of each reimbursable meal as found on the weekly menu. Select the first blank if the component was not offered with the meal. ** DO NOT DELETE ROWS** | D8: Grains **NOTE: Grains must be offered as ounce equivalents. All grains served in the SFSP must be whole grain, whole grain-rich or enriched. Cereal may be fortified. | G8: Fruit and/or Vegetables (cups) | S8: Fluid Milk (cups) | W8: 1 | X8: =INDEX(Cups,W8) -> 0
D9: Enter the TOTAL number of oz eq of grains (Minimum= 1 oz. eq. daily) | E9: Of the grains offered with this meal, enter the number of oz. eq. that are whole grain or whole grain rich, if any. | F9: Enter the number of oz eq of Meats/Meat Alternates counting toward Grains requirement | G9: Select the total in cups of Fruit/ Vegetables/ Juice (1/2 cup daily required minimum) | H9: F_i | I9: F_num | Q9: jv_i | R9: jv_num | S9: Enter the number of cups of fluid Milk offered with this meal | W9: 1 | X9: =INDEX(Cups,W9) -> 0
W10: 1 | X10: =INDEX(Cups,W10) -> 0
C11: Example: Bagel and cream cheese /apples | D11: 1 | E11: 1 | F11: 0 | H11: 5 | I11: =IF(H11=1,"",INDEX(Cups,H11)) -> 0.5 | Q11: 1 | R11: =IF(Q11=1, "", INDEX(Cups,Q11)) | S11: 1 | W11: 1 | X11: =INDEX(Cups,W11) -> 0 | Y11: =SUM(X6:X11) -> 0
A12: 1
A13: 2 | B13: 1 | H13: 1 | I13: =IF(H13=1,"", INDEX(Cups,H13)) | Q13: 1 | R13: =IF(Q13=1, "", INDEX(Cups,Q13))
A14: 3 | B14: 2 | H14: 1 | I14: =IF(H14=1,"", INDEX(Cups,H14)) | Q14: 1 | R14: =IF(Q14=1, "", INDEX(Cups,Q14)) | V14: Decimal/Fraction Converter (Rounded down to the nearest 1/8)
A15: 4 | B15: 3 | H15: 1 | I15: =IF(H15=1,"", INDEX(Cups,H15)) | Q15: 1 | R15: =IF(Q15=1, "", INDEX(Cups,Q15)) | V15: Enter the decimal you wish to convert to a fraction in the box:
A16: 5 | B16: 4 | H16: 1 | I16: =IF(H16=1,"", INDEX(Cups,H16)) | Q16: 1 | R16: =IF(Q16=1, "", INDEX(Cups,Q16))
A17: 6 | B17: 5 | H17: 1 | I17: =IF(H17=1,"", INDEX(Cups,H17)) | Q17: 1 | R17: =IF(Q17=1, "", INDEX(Cups,Q17)) | V17: The decimal entered above has been converted to the following fraction: | Y17: =FLOOR(Y15, 0.125) -> 0
A18: 7 | B18: 6 | H18: 1 | I18: =IF(H18=1,"", INDEX(Cups,H18)) | Q18: 1 | R18: =IF(Q18=1, "", INDEX(Cups,Q18))
A19: 8 | B19: 7 | H19: 1 | I19: =IF(H19=1,"", INDEX(Cups,H19)) | Q19: 1 | R19: =IF(Q19=1, "", INDEX(Cups,Q19))
A20: 9 | B20: 8 | H20: 1 | I20: =IF(H20=1,"", INDEX(Cups,H20)) | Q20: 1 | R20: =IF(Q20=1, "", INDEX(Cups,Q20))
A21: 10 | B21: 9 | H21: 1 | I21: =IF(H21=1,"", INDEX(Cups,H21)) | Q21: 1 | R21: =IF(Q21=1, "", INDEX(Cups,Q21))
A22: 11 | B22: 10 | H22: 1 | I22: =IF(H22=1,"", INDEX(Cups,H22)) | Q22: 1 | R22: =IF(Q22=1, "", INDEX(Cups,Q22))
A23: 12 | B23: 11 | H23: 1 | I23: =IF(H23=1,"", INDEX(Cups,H23)) | Q23: 1 | R23: =IF(Q23=1, "", INDEX(Cups,Q23))
A24: 13 | B24: 12 | H24: 1 | I24: =IF(H24=1,"", INDEX(Cups,H24)) | Q24: 1 | R24: =IF(Q24=1, "", INDEX(Cups,Q24))
A25: 14 | B25: 13 | H25: 1 | I25: =IF(H25=1,"", INDEX(Cups,H25)) | Q25: 1 | R25: =IF(Q25=1, "", INDEX(Cups,Q25))
A26: 15 | B26: 14 | H26: 1 | I26: =IF(H26=1,"", INDEX(Cups,H26)) | Q26: 1 | R26: =IF(Q26=1, "", INDEX(Cups,Q26))
A27: 16 | B27: 15 | H27: 1 | I27: =IF(H27=1,"", INDEX(Cups,H27)) | Q27: 1 | R27: =IF(Q27=1, "", INDEX(Cups,Q27))
A28: 17 | B28: 16 | H28: 1 | I28: =IF(H28=1,"", INDEX(Cups,H28)) | Q28: 1 | R28: =IF(Q28=1, "", INDEX(Cups,Q28))
A29: 18 | B29: 17 | H29: 1 | I29: =IF(H29=1,"", INDEX(Cups,H29)) | Q29: 1 | R29: =IF(Q29=1, "", INDEX(Cups,Q29))
... A61: 50 | B61: 49 | H61: 1 | I61: =IF(H61=1,"", INDEX(Cups,H61)) | Q61: 1 | R61: =IF(Q61=1, "", INDEX(Cups,Q61))
B62: 50 | H62: 1 | I62: =IF(H62=1,"", INDEX(Cups,H62)) | Q62: 1 | R62: =IF(Q62=1, "", INDEX(Cups,Q62))

Sheet Monday
C1: Monday Daily Breakfast Requirement Check | R1: Go to Weekly Report
C2: The daily worksheet will perform daily requirement checks for the reimbursable meals offered each day. Requirements met are flagged "Yes" and the cell turns green. Requirements NOT met are flagged "No" and the cell turns red. NOTE: The top row is frozen to display the column headers as the daily meals are entered. Grains are rounded down to the nearest quarter ounce. Once you are finished selecting the meals offered each day, make sure to scroll to the right to enter milk type information. | R2: Go to Instructions
A3: K-12 Menu #: | C3: Monday
C4: Select the reimbursable breakfasts offered on Monday | E4: Fruits / Vegetables / 100% Juice | J4: Grains All grains served in the SFSP must be whole grain, whole grain-rich or enriched. Cereal may be fortififed. | M4: Daily Grains Requirement Check (1 oz equivalent) | N4: Milk | P4: Milk Type Check the type of milk below if it is offered to students on Monday. All types of milk included.
C5: Meal Name Note: You may not delete lines, if you want to clear a meal select the first blank in the drop down list | E5: Total fruit/ vegetable/ juice cups | F5: Cups of fruit/vegetable juice | G5: Cups of non-starchy vegetables | H5: Cups of starchy vegetables | I5: Daily Requirement Check (1/2 cup) | J5: Number of oz eq of GRAINS | K5: Number of oz eq of Whole Grain-Rich GRAINS | L5: Number of oz eq of Meats/Meat Alternates | N5: Milk cups | O5: Daily Milk Requirement Check (1 cup) | P5: Skim/fat-free, unflavored | U5: FALSE | W5: =IF(OR(U5=TRUE,U6=TRUE,U7=TRUE,U8=TRUE,U9=TRUE),"Yes","")
P6: Skim/fat-free, flavored | U6: FALSE
A7: 1 | B7: =INDEX(meals,A7) -> 0 | C7: 1 | E7: =IF(B7=0,"",IF((VLOOKUP(A7,'All Meals'!$A$12:$S$62,9))="",0,(VLOOKUP(A7,'All Meals'!$A$12:$S$62,9)))) | F7: =IF(B7=0,"",IF((VLOOKUP(A7,'All Meals'!$A$12:$S$62,12))="",0,(VLOOKUP(A7,'All Meals'!$A$12:$S$62,12)))) | G7: =IF(B7=0,"",IF((VLOOKUP(A7,'All Meals'!$A$12:$S$62,15))="",0,(VLOOKUP(A7,'All Meals'!$A$12:$S$62,15)))) | H7: =IF(B7=0,"",IF((VLOOKUP(A7,'All Meals'!$A$12:$S$62,18))="",0,(VLOOKUP(A7,'All Meals'!$A$12:$S$62,18)))) | I7: =IF(B7=0,"",IF(E7="","No",IF(E7>=0.5,"Yes","No"))) | J7: =IF(B7=0,"",IF((VLOOKUP(A7,'All Meals'!$A$12:$S$62,4))="",0,(VLOOKUP(A7,'All Meals'!$A$12:$S$62,4)))) | K7: =IF(B7=0,"",IF((VLOOKUP(A7,'All Meals'!$A$12:$S$62,5))="",0,(VLOOKUP(A7,'All Meals'!$A$12:$S$62,5)))) | L7: =IF(B7=0,"",IF((VLOOKUP(A7,'All Meals'!$A$12:$S$62,6))="",0,(VLOOKUP(A7,'All Meals'!$A$12:$S$62,6)))) | M7: =IF(B7=0,"",IF(SUM(J7-L7)>=1,"Yes","No")) | N7: =IF(B7=0,"",IF((VLOOKUP(A7,'All Meals'!$A$12:$S$62,19))="",0,(VLOOKUP(A7,'All Meals'!$A$12:$S$62,19)))) | O7: =IF(B7=0,"",IF(N7="","No",IF(N7>=1,"Yes","No"))) | P7: Low-fat (1% or less), unflavored | U7: FALSE
A8: 1 | B8: =INDEX(meals,A8) -> 0 | C8: 2 | E8: =IF(B8=0,"",IF((VLOOKUP(A8,'All Meals'!$A$12:$S$62,9))="",0,(VLOOKUP(A8,'All Meals'!$A$12:$S$62,9)))) | F8: =IF(B8=0,"",IF((VLOOKUP(A8,'All Meals'!$A$12:$S$62,12))="",0,(VLOOKUP(A8,'All Meals'!$A$12:$S$62,12)))) | G8: =IF(B8=0,"",IF((VLOOKUP(A8,'All Meals'!$A$12:$S$62,15))="",0,(VLOOKUP(A8,'All Meals'!$A$12:$S$62,15)))) | H8: =IF(B8=0,"",IF((VLOOKUP(A8,'All Meals'!$A$12:$S$62,18))="",0,(VLOOKUP(A8,'All Meals'!$A$12:$S$62,18)))) | I8: =IF(B8=0,"",IF(E8="","No",IF(E8>=0.5,"Yes","No"))) | J8: =IF(B8=0,"",IF((VLOOKUP(A8,'All Meals'!$A$12:$S$62,4))="",0,(VLOOKUP(A8,'All Meals'!$A$12:$S$62,4)))) | L8: =IF(B8=0,"",IF((VLOOKUP(A8,'All Meals'!$A$12:$S$62,6))="",0,(VLOOKUP(A8,'All Meals'!$A$12:$S$62,6)))) | M8: =IF(B8=0,"",IF(SUM(J8-L8)>=1,"Yes","No")) | N8: =IF(B8=0,"",IF((VLOOKUP(A8,'All Meals'!$A$12:$S$62,19))="",0,(VLOOKUP(A8,'All Meals'!$A$12:$S$62,19)))) | O8: =IF(B8=0,"",IF(N8="","No",IF(N8>=1,"Yes","No"))) | P8: Low-fat (1% or less), flavored | U8: FALSE
A9: 1 | B9: =INDEX(meals,A9) -> 0 | C9: 3 | E9: =IF(B9=0,"",IF((VLOOKUP(A9,'All Meals'!$A$12:$S$62,9))="",0,(VLOOKUP(A9,'All Meals'!$A$12:$S$62,9)))) | F9: =IF(B9=0,"",IF((VLOOKUP(A9,'All Meals'!$A$12:$S$62,12))="",0,(VLOOKUP(A9,'All Meals'!$A$12:$S$62,12)))) | G9: =IF(B9=0,"",IF((VLOOKUP(A9,'All Meals'!$A$12:$S$62,15))="",0,(VLOOKUP(A9,'All Meals'!$A$12:$S$62,15)))) | H9: =IF(B9=0,"",IF((VLOOKUP(A9,'All Meals'!$A$12:$S$62,18))="",0,(VLOOKUP(A9,'All Meals'!$A$12:$S$62,18)))) | I9: =IF(B9=0,"",IF(E9="","No",IF(E9>=0.5,"Yes","No"))) | J9: =IF(B9=0,"",IF((VLOOKUP(A9,'All Meals'!$A$12:$S$62,4))="",0,(VLOOKUP(A9,'All Meals'!$A$12:$S$62,4)))) | K9: =IF(B9=0,"",IF((VLOOKUP(A9,'All Meals'!$A$12:$S$62,5))="",0,(VLOOKUP(A9,'All Meals'!$A$12:$S$62,5)))) | L9: =IF(B9=0,"",IF((VLOOKUP(A9,'All Meals'!$A$12:$S$62,6))="",0,(VLOOKUP(A9,'All Meals'!$A$12:$S$62,6)))) | M9: =IF(B9=0,"",IF(SUM(J9-L9)>=1,"Yes","No")) | N9: =IF(B9=0,"",IF((VLOOKUP(A9,'All Meals'!$A$12:$S$62,19))="",0,(VLOOKUP(A9,'All Meals'!$A$12:$S$62,19)))) | O9: =IF(B9=0,"",IF(N9="","No",IF(N9>=1,"Yes","No"))) | P9: Reduced fat (2% fat) or whole, unflavored and flavored | U9: FALSE
A10: 1 | B10: =INDEX(meals,A10) -> 0 | C10: 4 | E10: =IF(B10=0,"",IF((VLOOKUP(A10,'All Meals'!$A$12:$S$62,9))="",0,(VLOOKUP(A10,'All Meals'!$A$12:$S$62,9)))) | F10: =IF(B10=0,"",IF((VLOOKUP(A10,'All Meals'!$A$12:$S$62,12))="",0,(VLOOKUP(A10,'All Meals'!$A$12:$S$62,12)))) | G10: =IF(B10=0,"",IF((VLOOKUP(A10,'All Meals'!$A$12:$S$62,15))="",0,(VLOOKUP(A10,'All Meals'!$A$12:$S$62,15)))) | H10: =IF(B10=0,"",IF((VLOOKUP(A10,'All Meals'!$A$12:$S$62,18))="",0,(VLOOKUP(A10,'All Meals'!$A$12:$S$62,18)))) | I10: =IF(B10=0,"",IF(E10="","No",IF(E10>=0.5,"Yes","No"))) | J10: =IF(B10=0,"",IF((VLOOKUP(A10,'All Meals'!$A$12:$S$62,4))="",0,(VLOOKUP(A10,'All Meals'!$A$12:$S$62,4)))) | K10: =IF(B10=0,"",IF((VLOOKUP(A10,'All Meals'!$A$12:$S$62,5))="",0,(VLOOKUP(A10,'All Meals'!$A$12:$S$62,5)))) | L10: =IF(B10=0,"",IF((VLOOKUP(A10,'All Meals'!$A$12:$S$62,6))="",0,(VLOOKUP(A10,'All Meals'!$A$12:$S$62,6)))) | M10: =IF(B10=0,"",IF(SUM(J10-L10)>=1,"Yes","No")) | N10: =IF(B10=0,"",IF((VLOOKUP(A10,'All Meals'!$A$12:$S$62,19))="",0,(VLOOKUP(A10,'All Meals'!$A$12:$S$62,19)))) | O10: =IF(B10=0,"",IF(N10="","No",IF(N10>=1,"Yes","No")))
A11: 1 | B11: =INDEX(meals,A11) -> 0 | C11: 5 | E11: =IF(B11=0,"",IF((VLOOKUP(A11,'All Meals'!$A$12:$S$62,9))="",0,(VLOOKUP(A11,'All Meals'!$A$12:$S$62,9)))) | F11: =IF(B11=0,"",IF((VLOOKUP(A11,'All Meals'!$A$12:$S$62,12))="",0,(VLOOKUP(A11,'All Meals'!$A$12:$S$62,12)))) | G11: =IF(B11=0,"",IF((VLOOKUP(A11,'All Meals'!$A$12:$S$62,15))="",0,(VLOOKUP(A11,'All Meals'!$A$12:$S$62,15)))) | H11: =IF(B11=0,"",IF((VLOOKUP(A11,'All Meals'!$A$12:$S$62,18))="",0,(VLOOKUP(A11,'All Meals'!$A$12:$S$62,18)))) | I11: =IF(B11=0,"",IF(E11="","No",IF(E11>=0.5,"Yes","No"))) | J11: =IF(B11=0,"",IF((VLOOKUP(A11,'All Meals'!$A$12:$S$62,4))="",0,(VLOOKUP(A11,'All Meals'!$A$12:$S$62,4)))) | K11: =IF(B11=0,"",IF((VLOOKUP(A11,'All Meals'!$A$12:$S$62,5))="",0,(VLOOKUP(A11,'All Meals'!$A$12:$S$62,5)))) | L11: =IF(B11=0,"",IF((VLOOKUP(A11,'All Meals'!$A$12:$S$62,6))="",0,(VLOOKUP(A11,'All Meals'!$A$12:$S$62,6)))) | M11: =IF(B11=0,"",IF(SUM(J11-L11)>=1,"Yes","No")) | N11: =IF(B11=0,"",IF((VLOOKUP(A11,'All Meals'!$A$12:$S$62,19))="",0,(VLOOKUP(A11,'All Meals'!$A$12:$S$62,19)))) | O11: =IF(B11=0,"",IF(N11="","No",IF(N11>=1,"Yes","No"))) | Q11: OPTIONAL Tools to Assist in Fraction and Decimal Calculations
A12: 1 | B12: =INDEX(meals,A12) -> 0 | C12: 6 | E12: =IF(B12=0,"",IF((VLOOKUP(A12,'All Meals'!$A$12:$S$62,9))="",0,(VLOOKUP(A12,'All Meals'!$A$12:$S$62,9)))) | F12: =IF(B12=0,"",IF((VLOOKUP(A12,'All Meals'!$A$12:$S$62,12))="",0,(VLOOKUP(A12,'All Meals'!$A$12:$S$62,12)))) | G12: =IF(B12=0,"",IF((VLOOKUP(A12,'All Meals'!$A$12:$S$62,15))="",0,(VLOOKUP(A12,'All Meals'!$A$12:$S$62,15)))) | H12: =IF(B12=0,"",IF((VLOOKUP(A12,'All Meals'!$A$12:$S$62,18))="",0,(VLOOKUP(A12,'All Meals'!$A$12:$S$62,18)))) | I12: =IF(B12=0,"",IF(E12="","No",IF(E12>=0.5,"Yes","No"))) | J12: =IF(B12=0,"",IF((VLOOKUP(A12,'All Meals'!$A$12:$S$62,4))="",0,(VLOOKUP(A12,'All Meals'!$A$12:$S$62,4)))) | K12: =IF(B12=0,"",IF((VLOOKUP(A12,'All Meals'!$A$12:$S$62,5))="",0,(VLOOKUP(A12,'All Meals'!$A$12:$S$62,5)))) | L12: =IF(B12=0,"",IF((VLOOKUP(A12,'All Meals'!$A$12:$S$62,6))="",0,(VLOOKUP(A12,'All Meals'!$A$12:$S$62,6)))) | M12: =IF(B12=0,"",IF(SUM(J12-L12)>=1,"Yes","No")) | N12: =IF(B12=0,"",IF((VLOOKUP(A12,'All Meals'!$A$12:$S$62,19))="",0,(VLOOKUP(A12,'All Meals'!$A$12:$S$62,19)))) | O12: =IF(B12=0,"",IF(N12="","No",IF(N12>=1,"Yes","No")))
A13: 1 | B13: =INDEX(meals,A13) -> 0 | C13: 7 | E13: =IF(B13=0,"",IF((VLOOKUP(A13,'All Meals'!$A$12:$S$62,9))="",0,(VLOOKUP(A13,'All Meals'!$A$12:$S$62,9)))) | F13: =IF(B13=0,"",IF((VLOOKUP(A13,'All Meals'!$A$12:$S$62,12))="",0,(VLOOKUP(A13,'All Meals'!$A$12:$S$62,12)))) | G13: =IF(B13=0,"",IF((VLOOKUP(A13,'All Meals'!$A$12:$S$62,15))="",0,(VLOOKUP(A13,'All Meals'!$A$12:$S$62,15)))) | H13: =IF(B13=0,"",IF((VLOOKUP(A13,'All Meals'!$A$12:$S$62,18))="",0,(VLOOKUP(A13,'All Meals'!$A$12:$S$62,18)))) | I13: =IF(B13=0,"",IF(E13="","No",IF(E13>=0.5,"Yes","No"))) | J13: =IF(B13=0,"",IF((VLOOKUP(A13,'All Meals'!$A$12:$S$62,4))="",0,(VLOOKUP(A13,'All Meals'!$A$12:$S$62,4)))) | K13: =IF(B13=0,"",IF((VLOOKUP(A13,'All Meals'!$A$12:$S$62,5))="",0,(VLOOKUP(A13,'All Meals'!$A$12:$S$62,5)))) | L13: =IF(B13=0,"",IF((VLOOKUP(A13,'All Meals'!$A$12:$S$62,6))="",0,(VLOOKUP(A13,'All Meals'!$A$12:$S$62,6)))) | M13: =IF(B13=0,"",IF(SUM(J13-L13)>=1,"Yes","No")) | N13: =IF(B13=0,"",IF((VLOOKUP(A13,'All Meals'!$A$12:$S$62,19))="",0,(VLOOKUP(A13,'All Meals'!$A$12:$S$62,19)))) | O13: =IF(B13=0,"",IF(N13="","No",IF(N13>=1,"Yes","No"))) | Q13: Fraction Calculator: Use this calculator to add the number of cups. | T13: 1 | U13: =INDEX(Cups,T13) -> 0
A14: 1 | B14: =INDEX(meals,A14) -> 0 | C14: 8 | E14: =IF(B14=0,"",IF((VLOOKUP(A14,'All Meals'!$A$12:$S$62,9))="",0,(VLOOKUP(A14,'All Meals'!$A$12:$S$62,9)))) | F14: =IF(B14=0,"",IF((VLOOKUP(A14,'All Meals'!$A$12:$S$62,12))="",0,(VLOOKUP(A14,'All Meals'!$A$12:$S$62,12)))) | G14: =IF(B14=0,"",IF((VLOOKUP(A14,'All Meals'!$A$12:$S$62,15))="",0,(VLOOKUP(A14,'All Meals'!$A$12:$S$62,15)))) | H14: =IF(B14=0,"",IF((VLOOKUP(A14,'All Meals'!$A$12:$S$62,18))="",0,(VLOOKUP(A14,'All Meals'!$A$12:$S$62,18)))) | I14: =IF(B14=0,"",IF(E14="","No",IF(E14>=0.5,"Yes","No"))) | J14: =IF(B14=0,"",IF((VLOOKUP(A14,'All Meals'!$A$12:$S$62,4))="",0,(VLOOKUP(A14,'All Meals'!$A$12:$S$62,4)))) | K14: =IF(B14=0,"",IF((VLOOKUP(A14,'All Meals'!$A$12:$S$62,5))="",0,(VLOOKUP(A14,'All Meals'!$A$12:$S$62,5)))) | L14: =IF(B14=0,"",IF((VLOOKUP(A14,'All Meals'!$A$12:$S$62,6))="",0,(VLOOKUP(A14,'All Meals'!$A$12:$S$62,6)))) | M14: =IF(B14=0,"",IF(SUM(J14-L14)>=1,"Yes","No")) | N14: =IF(B14=0,"",IF((VLOOKUP(A14,'All Meals'!$A$12:$S$62,19))="",0,(VLOOKUP(A14,'All Meals'!$A$12:$S$62,19)))) | O14: =IF(B14=0,"",IF(N14="","No",IF(N14>=1,"Yes","No"))) | T14: 1 | U14: =INDEX(Cups,T14) -> 0
A15: 1 | B15: =INDEX(meals,A15) -> 0 | C15: 9 | E15: =IF(B15=0,"",IF((VLOOKUP(A15,'All Meals'!$A$12:$S$62,9))="",0,(VLOOKUP(A15,'All Meals'!$A$12:$S$62,9)))) | F15: =IF(B15=0,"",IF((VLOOKUP(A15,'All Meals'!$A$12:$S$62,12))="",0,(VLOOKUP(A15,'All Meals'!$A$12:$S$62,12)))) | G15: =IF(B15=0,"",IF((VLOOKUP(A15,'All Meals'!$A$12:$S$62,15))="",0,(VLOOKUP(A15,'All Meals'!$A$12:$S$62,15)))) | H15: =IF(B15=0,"",IF((VLOOKUP(A15,'All Meals'!$A$12:$S$62,18))="",0,(VLOOKUP(A15,'All Meals'!$A$12:$S$62,18)))) | I15: =IF(B15=0,"",IF(E15="","No",IF(E15>=0.5,"Yes","No"))) | J15: =IF(B15=0,"",IF((VLOOKUP(A15,'All Meals'!$A$12:$S$62,4))="",0,(VLOOKUP(A15,'All Meals'!$A$12:$S$62,4)))) | K15: =IF(B15=0,"",IF((VLOOKUP(A15,'All Meals'!$A$12:$S$62,5))="",0,(VLOOKUP(A15,'All Meals'!$A$12:$S$62,5)))) | L15: =IF(B15=0,"",IF((VLOOKUP(A15,'All Meals'!$A$12:$S$62,6))="",0,(VLOOKUP(A15,'All Meals'!$A$12:$S$62,6)))) | M15: =IF(B15=0,"",IF(SUM(J15-L15)>=1,"Yes","No")) | N15: =IF(B15=0,"",IF((VLOOKUP(A15,'All Meals'!$A$12:$S$62,19))="",0,(VLOOKUP(A15,'All Meals'!$A$12:$S$62,19)))) | O15: =IF(B15=0,"",IF(N15="","No",IF(N15>=1,"Yes","No"))) | T15: 1 | U15: =INDEX(Cups,T15) -> 0
A16: 1 | B16: =INDEX(meals,A16) -> 0 | C16: 10 | E16: =IF(B16=0,"",IF((VLOOKUP(A16,'All Meals'!$A$12:$S$62,9))="",0,(VLOOKUP(A16,'All Meals'!$A$12:$S$62,9)))) | F16: =IF(B16=0,"",IF((VLOOKUP(A16,'All Meals'!$A$12:$S$62,12))="",0,(VLOOKUP(A16,'All Meals'!$A$12:$S$62,12)))) | G16: =IF(B16=0,"",IF((VLOOKUP(A16,'All Meals'!$A$12:$S$62,15))="",0,(VLOOKUP(A16,'All Meals'!$A$12:$S$62,15)))) | H16: =IF(B16=0,"",IF((VLOOKUP(A16,'All Meals'!$A$12:$S$62,18))="",0,(VLOOKUP(A16,'All Meals'!$A$12:$S$62,18)))) | I16: =IF(B16=0,"",IF(E16="","No",IF(E16>=0.5,"Yes","No"))) | J16: =IF(B16=0,"",IF((VLOOKUP(A16,'All Meals'!$A$12:$S$62,4))="",0,(VLOOKUP(A16,'All Meals'!$A$12:$S$62,4)))) | K16: =IF(B16=0,"",IF((VLOOKUP(A16,'All Meals'!$A$12:$S$62,5))="",0,(VLOOKUP(A16,'All Meals'!$A$12:$S$62,5)))) | L16: =IF(B16=0,"",IF((VLOOKUP(A16,'All Meals'!$A$12:$S$62,6))="",0,(VLOOKUP(A16,'All Meals'!$A$12:$S$62,6)))) | M16: =IF(B16=0,"",IF(SUM(J16-L16)>=1,"Yes","No")) | N16: =IF(B16=0,"",IF((VLOOKUP(A16,'All Meals'!$A$12:$S$62,19))="",0,(VLOOKUP(A16,'All Meals'!$A$12:$S$62,19)))) | O16: =IF(B16=0,"",IF(N16="","No",IF(N16>=1,"Yes","No"))) | T16: 1 | U16: =INDEX(Cups,T16) -> 0
A17: 1 | B17: =INDEX(meals,A17) -> 0 | C17: 11 | E17: =IF(B17=0,"",IF((VLOOKUP(A17,'All Meals'!$A$12:$S$62,9))="",0,(VLOOKUP(A17,'All Meals'!$A$12:$S$62,9)))) | F17: =IF(B17=0,"",IF((VLOOKUP(A17,'All Meals'!$A$12:$S$62,12))="",0,(VLOOKUP(A17,'All Meals'!$A$12:$S$62,12)))) | G17: =IF(B17=0,"",IF((VLOOKUP(A17,'All Meals'!$A$12:$S$62,15))="",0,(VLOOKUP(A17,'All Meals'!$A$12:$S$62,15)))) | H17: =IF(B17=0,"",IF((VLOOKUP(A17,'All Meals'!$A$12:$S$62,18))="",0,(VLOOKUP(A17,'All Meals'!$A$12:$S$62,18)))) | I17: =IF(B17=0,"",IF(E17="","No",IF(E17>=0.5,"Yes","No"))) | J17: =IF(B17=0,"",IF((VLOOKUP(A17,'All Meals'!$A$12:$S$62,4))="",0,(VLOOKUP(A17,'All Meals'!$A$12:$S$62,4)))) | K17: =IF(B17=0,"",IF((VLOOKUP(A17,'All Meals'!$A$12:$S$62,5))="",0,(VLOOKUP(A17,'All Meals'!$A$12:$S$62,5)))) | L17: =IF(B17=0,"",IF((VLOOKUP(A17,'All Meals'!$A$12:$S$62,6))="",0,(VLOOKUP(A17,'All Meals'!$A$12:$S$62,6)))) | M17: =IF(B17=0,"",IF(SUM(J17-L17)>=1,"Yes","No")) | N17: =IF(B17=0,"",IF((VLOOKUP(A17,'All Meals'!$A$12:$S$62,19))="",0,(VLOOKUP(A17,'All Meals'!$A$12:$S$62,19)))) | O17: =IF(B17=0,"",IF(N17="","No",IF(N17>=1,"Yes","No"))) | T17: 1 | U17: =INDEX(Cups,T17) -> 0
A18: 1 | B18: =INDEX(meals,A18) -> 0 | C18: 12 | E18: =IF(B18=0,"",IF((VLOOKUP(A18,'All Meals'!$A$12:$S$62,9))="",0,(VLOOKUP(A18,'All Meals'!$A$12:$S$62,9)))) | F18: =IF(B18=0,"",IF((VLOOKUP(A18,'All Meals'!$A$12:$S$62,12))="",0,(VLOOKUP(A18,'All Meals'!$A$12:$S$62,12)))) | G18: =IF(B18=0,"",IF((VLOOKUP(A18,'All Meals'!$A$12:$S$62,15))="",0,(VLOOKUP(A18,'All Meals'!$A$12:$S$62,15)))) | H18: =IF(B18=0,"",IF((VLOOKUP(A18,'All Meals'!$A$12:$S$62,18))="",0,(VLOOKUP(A18,'All Meals'!$A$12:$S$62,18)))) | I18: =IF(B18=0,"",IF(E18="","No",IF(E18>=0.5,"Yes","No"))) | J18: =IF(B18=0,"",IF((VLOOKUP(A18,'All Meals'!$A$12:$S$62,4))="",0,(VLOOKUP(A18,'All Meals'!$A$12:$S$62,4)))) | K18: =IF(B18=0,"",IF((VLOOKUP(A18,'All Meals'!$A$12:$S$62,5))="",0,(VLOOKUP(A18,'All Meals'!$A$12:$S$62,5)))) | L18: =IF(B18=0,"",IF((VLOOKUP(A18,'All Meals'!$A$12:$S$62,6))="",0,(VLOOKUP(A18,'All Meals'!$A$12:$S$62,6)))) | M18: =IF(B18=0,"",IF(SUM(J18-L18)>=1,"Yes","No")) | N18: =IF(B18=0,"",IF((VLOOKUP(A18,'All Meals'!$A$12:$S$62,19))="",0,(VLOOKUP(A18,'All Meals'!$A$12:$S$62,19)))) | O18: =IF(B18=0,"",IF(N18="","No",IF(N18>=1,"Yes","No"))) | V18: =SUM(U13:U17) -> 0
A19: 1 | B19: =INDEX(meals,A19) -> 0 | C19: 13 | E19: =IF(B19=0,"",IF((VLOOKUP(A19,'All Meals'!$A$12:$S$62,9))="",0,(VLOOKUP(A19,'All Meals'!$A$12:$S$62,9)))) | F19: =IF(B19=0,"",IF((VLOOKUP(A19,'All Meals'!$A$12:$S$62,12))="",0,(VLOOKUP(A19,'All Meals'!$A$12:$S$62,12)))) | G19: =IF(B19=0,"",IF((VLOOKUP(A19,'All Meals'!$A$12:$S$62,15))="",0,(VLOOKUP(A19,'All Meals'!$A$12:$S$62,15)))) | H19: =IF(B19=0,"",IF((VLOOKUP(A19,'All Meals'!$A$12:$S$62,18))="",0,(VLOOKUP(A19,'All Meals'!$A$12:$S$62,18)))) | I19: =IF(B19=0,"",IF(E19="","No",IF(E19>=0.5,"Yes","No"))) | J19: =IF(B19=0,"",IF((VLOOKUP(A19,'All Meals'!$A$12:$S$62,4))="",0,(VLOOKUP(A19,'All Meals'!$A$12:$S$62,4)))) | K19: =IF(B19=0,"",IF((VLOOKUP(A19,'All Meals'!$A$12:$S$62,5))="",0,(VLOOKUP(A19,'All Meals'!$A$12:$S$62,5)))) | L19: =IF(B19=0,"",IF((VLOOKUP(A19,'All Meals'!$A$12:$S$62,6))="",0,(VLOOKUP(A19,'All Meals'!$A$12:$S$62,6)))) | M19: =IF(B19=0,"",IF(SUM(J19-L19)>=1,"Yes","No")) | N19: =IF(B19=0,"",IF((VLOOKUP(A19,'All Meals'!$A$12:$S$62,19))="",0,(VLOOKUP(A19,'All Meals'!$A$12:$S$62,19)))) | O19: =IF(B19=0,"",IF(N19="","No",IF(N19>=1,"Yes","No"))) | Q19: Decimal/Fraction Converter (Rounded down to the nearest 1/8)
A20: 1 | B20: =INDEX(meals,A20) -> 0 | C20: 14 | E20: =IF(B20=0,"",IF((VLOOKUP(A20,'All Meals'!$A$12:$S$62,9))="",0,(VLOOKUP(A20,'All Meals'!$A$12:$S$62,9)))) | F20: =IF(B20=0,"",IF((VLOOKUP(A20,'All Meals'!$A$12:$S$62,12))="",0,(VLOOKUP(A20,'All Meals'!$A$12:$S$62,12)))) | G20: =IF(B20=0,"",IF((VLOOKUP(A20,'All Meals'!$A$12:$S$62,15))="",0,(VLOOKUP(A20,'All Meals'!$A$12:$S$62,15)))) | H20: =IF(B20=0,"",IF((VLOOKUP(A20,'All Meals'!$A$12:$S$62,18))="",0,(VLOOKUP(A20,'All Meals'!$A$12:$S$62,18)))) | I20: =IF(B20=0,"",IF(E20="","No",IF(E20>=0.5,"Yes","No"))) | J20: =IF(B20=0,"",IF((VLOOKUP(A20,'All Meals'!$A$12:$S$62,4))="",0,(VLOOKUP(A20,'All Meals'!$A$12:$S$62,4)))) | K20: =IF(B20=0,"",IF((VLOOKUP(A20,'All Meals'!$A$12:$S$62,5))="",0,(VLOOKUP(A20,'All Meals'!$A$12:$S$62,5)))) | L20: =IF(B20=0,"",IF((VLOOKUP(A20,'All Meals'!$A$12:$S$62,6))="",0,(VLOOKUP(A20,'All Meals'!$A$12:$S$62,6)))) | M20: =IF(B20=0,"",IF(SUM(J20-L20)>=1,"Yes","No")) | N20: =IF(B20=0,"",IF((VLOOKUP(A20,'All Meals'!$A$12:$S$62,19))="",0,(VLOOKUP(A20,'All Meals'!$A$12:$S$62,19)))) | O20: =IF(B20=0,"",IF(N20="","No",IF(N20>=1,"Yes","No"))) | Q20: Enter the decimal you wish to convert to a fraction in the box:
A21: 1 | B21: =INDEX(meals,A21) -> 0 | C21: 15 | E21: =IF(B21=0,"",IF((VLOOKUP(A21,'All Meals'!$A$12:$S$62,9))="",0,(VLOOKUP(A21,'All Meals'!$A$12:$S$62,9)))) | F21: =IF(B21=0,"",IF((VLOOKUP(A21,'All Meals'!$A$12:$S$62,12))="",0,(VLOOKUP(A21,'All Meals'!$A$12:$S$62,12)))) | G21: =IF(B21=0,"",IF((VLOOKUP(A21,'All Meals'!$A$12:$S$62,15))="",0,(VLOOKUP(A21,'All Meals'!$A$12:$S$62,15)))) | H21: =IF(B21=0,"",IF((VLOOKUP(A21,'All Meals'!$A$12:$S$62,18))="",0,(VLOOKUP(A21,'All Meals'!$A$12:$S$62,18)))) | I21: =IF(B21=0,"",IF(E21="","No",IF(E21>=0.5,"Yes","No"))) | J21: =IF(B21=0,"",IF((VLOOKUP(A21,'All Meals'!$A$12:$S$62,4))="",0,(VLOOKUP(A21,'All Meals'!$A$12:$S$62,4)))) | K21: =IF(B21=0,"",IF((VLOOKUP(A21,'All Meals'!$A$12:$S$62,5))="",0,(VLOOKUP(A21,'All Meals'!$A$12:$S$62,5)))) | L21: =IF(B21=0,"",IF((VLOOKUP(A21,'All Meals'!$A$12:$S$62,6))="",0,(VLOOKUP(A21,'All Meals'!$A$12:$S$62,6)))) | M21: =IF(B21=0,"",IF(SUM(J21-L21)>=1,"Yes","No")) | N21: =IF(B21=0,"",IF((VLOOKUP(A21,'All Meals'!$A$12:$S$62,19))="",0,(VLOOKUP(A21,'All Meals'!$A$12:$S$62,19)))) | O21: =IF(B21=0,"",IF(N21="","No",IF(N21>=1,"Yes","No")))
A22: 1 | B22: =INDEX(meals,A22) -> 0 | C22: 16 | E22: =IF(B22=0,"",IF((VLOOKUP(A22,'All Meals'!$A$12:$S$62,9))="",0,(VLOOKUP(A22,'All Meals'!$A$12:$S$62,9)))) | F22: =IF(B22=0,"",IF((VLOOKUP(A22,'All Meals'!$A$12:$S$62,12))="",0,(VLOOKUP(A22,'All Meals'!$A$12:$S$62,12)))) | G22: =IF(B22=0,"",IF((VLOOKUP(A22,'All Meals'!$A$12:$S$62,15))="",0,(VLOOKUP(A22,'All Meals'!$A$12:$S$62,15)))) | H22: =IF(B22=0,"",IF((VLOOKUP(A22,'All Meals'!$A$12:$S$62,18))="",0,(VLOOKUP(A22,'All Meals'!$A$12:$S$62,18)))) | I22: =IF(B22=0,"",IF(E22="","No",IF(E22>=0.5,"Yes","No"))) | J22: =IF(B22=0,"",IF((VLOOKUP(A22,'All Meals'!$A$12:$S$62,4))="",0,(VLOOKUP(A22,'All Meals'!$A$12:$S$62,4)))) | K22: =IF(B22=0,"",IF((VLOOKUP(A22,'All Meals'!$A$12:$S$62,5))="",0,(VLOOKUP(A22,'All Meals'!$A$12:$S$62,5)))) | L22: =IF(B22=0,"",IF((VLOOKUP(A22,'All Meals'!$A$12:$S$62,6))="",0,(VLOOKUP(A22,'All Meals'!$A$12:$S$62,6)))) | M22: =IF(B22=0,"",IF(SUM(J22-L22)>=1,"Yes","No")) | N22: =IF(B22=0,"",IF((VLOOKUP(A22,'All Meals'!$A$12:$S$62,19))="",0,(VLOOKUP(A22,'All Meals'!$A$12:$S$62,19)))) | O22: =IF(B22=0,"",IF(N22="","No",IF(N22>=1,"Yes","No"))) | Q22: The decimal entered above has been converted to the following fraction: | V22: =FLOOR(V20,0.125) -> 0
A23: 1 | B23: =INDEX(meals,A23) -> 0 | C23: 17 | E23: =IF(B23=0,"",IF((VLOOKUP(A23,'All Meals'!$A$12:$S$62,9))="",0,(VLOOKUP(A23,'All Meals'!$A$12:$S$62,9)))) | F23: =IF(B23=0,"",IF((VLOOKUP(A23,'All Meals'!$A$12:$S$62,12))="",0,(VLOOKUP(A23,'All Meals'!$A$12:$S$62,12)))) | G23: =IF(B23=0,"",IF((VLOOKUP(A23,'All Meals'!$A$12:$S$62,15))="",0,(VLOOKUP(A23,'All Meals'!$A$12:$S$62,15)))) | H23: =IF(B23=0,"",IF((VLOOKUP(A23,'All Meals'!$A$12:$S$62,18))="",0,(VLOOKUP(A23,'All Meals'!$A$12:$S$62,18)))) | I23: =IF(B23=0,"",IF(E23="","No",IF(E23>=0.5,"Yes","No"))) | J23: =IF(B23=0,"",IF((VLOOKUP(A23,'All Meals'!$A$12:$S$62,4))="",0,(VLOOKUP(A23,'All Meals'!$A$12:$S$62,4)))) | K23: =IF(B23=0,"",IF((VLOOKUP(A23,'All Meals'!$A$12:$S$62,5))="",0,(VLOOKUP(A23,'All Meals'!$A$12:$S$62,5)))) | L23: =IF(B23=0,"",IF((VLOOKUP(A23,'All Meals'!$A$12:$S$62,6))="",0,(VLOOKUP(A23,'All Meals'!$A$12:$S$62,6)))) | M23: =IF(B23=0,"",IF(SUM(J23-L23)>=1,"Yes","No")) | N23: =IF(B23=0,"",IF((VLOOKUP(A23,'All Meals'!$A$12:$S$62,19))="",0,(VLOOKUP(A23,'All Meals'!$A$12:$S$62,19)))) | O23: =IF(B23=0,"",IF(N23="","No",IF(N23>=1,"Yes","No")))
A24: 1 | B24: =INDEX(meals,A24) -> 0 | C24: 18 | E24: =IF(B24=0,"",IF((VLOOKUP(A24,'All Meals'!$A$12:$S$62,9))="",0,(VLOOKUP(A24,'All Meals'!$A$12:$S$62,9)))) | F24: =IF(B24=0,"",IF((VLOOKUP(A24,'All Meals'!$A$12:$S$62,12))="",0,(VLOOKUP(A24,'All Meals'!$A$12:$S$62,12)))) | G24: =IF(B24=0,"",IF((VLOOKUP(A24,'All Meals'!$A$12:$S$62,15))="",0,(VLOOKUP(A24,'All Meals'!$A$12:$S$62,15)))) | H24: =IF(B24=0,"",IF((VLOOKUP(A24,'All Meals'!$A$12:$S$62,18))="",0,(VLOOKUP(A24,'All Meals'!$A$12:$S$62,18)))) | I24: =IF(B24=0,"",IF(E24="","No",IF(E24>=0.5,"Yes","No"))) | J24: =IF(B24=0,"",IF((VLOOKUP(A24,'All Meals'!$A$12:$S$62,4))="",0,(VLOOKUP(A24,'All Meals'!$A$12:$S$62,4)))) | K24: =IF(B24=0,"",IF((VLOOKUP(A24,'All Meals'!$A$12:$S$62,5))="",0,(VLOOKUP(A24,'All Meals'!$A$12:$S$62,5)))) | L24: =IF(B24=0,"",IF((VLOOKUP(A24,'All Meals'!$A$12:$S$62,6))="",0,(VLOOKUP(A24,'All Meals'!$A$12:$S$62,6)))) | M24: =IF(B24=0,"",IF(SUM(J24-L24)>=1,"Yes","No")) | N24: =IF(B24=0,"",IF((VLOOKUP(A24,'All Meals'!$A$12:$S$62,19))="",0,(VLOOKUP(A24,'All Meals'!$A$12:$S$62,19)))) | O24: =IF(B24=0,"",IF(N24="","No",IF(N24>=1,"Yes","No")))
A25: 1 | B25: =INDEX(meals,A25) -> 0 | C25: 19 | E25: =IF(B25=0,"",IF((VLOOKUP(A25,'All Meals'!$A$12:$S$62,9))="",0,(VLOOKUP(A25,'All Meals'!$A$12:$S$62,9)))) | F25: =IF(B25=0,"",IF((VLOOKUP(A25,'All Meals'!$A$12:$S$62,12))="",0,(VLOOKUP(A25,'All Meals'!$A$12:$S$62,12)))) | G25: =IF(B25=0,"",IF((VLOOKUP(A25,'All Meals'!$A$12:$S$62,15))="",0,(VLOOKUP(A25,'All Meals'!$A$12:$S$62,15)))) | H25: =IF(B25=0,"",IF((VLOOKUP(A25,'All Meals'!$A$12:$S$62,18))="",0,(VLOOKUP(A25,'All Meals'!$A$12:$S$62,18)))) | I25: =IF(B25=0,"",IF(E25="","No",IF(E25>=0.5,"Yes","No"))) | J25: =IF(B25=0,"",IF((VLOOKUP(A25,'All Meals'!$A$12:$S$62,4))="",0,(VLOOKUP(A25,'All Meals'!$A$12:$S$62,4)))) | K25: =IF(B25=0,"",IF((VLOOKUP(A25,'All Meals'!$A$12:$S$62,5))="",0,(VLOOKUP(A25,'All Meals'!$A$12:$S$62,5)))) | L25: =IF(B25=0,"",IF((VLOOKUP(A25,'All Meals'!$A$12:$S$62,6))="",0,(VLOOKUP(A25,'All Meals'!$A$12:$S$62,6)))) | M25: =IF(B25=0,"",IF(SUM(J25-L25)>=1,"Yes","No")) | N25: =IF(B25=0,"",IF((VLOOKUP(A25,'All Meals'!$A$12:$S$62,19))="",0,(VLOOKUP(A25,'All Meals'!$A$12:$S$62,19)))) | O25: =IF(B25=0,"",IF(N25="","No",IF(N25>=1,"Yes","No")))
A26: 1 | B26: =INDEX(meals,A26) -> 0 | C26: 20 | E26: =IF(B26=0,"",IF((VLOOKUP(A26,'All Meals'!$A$12:$S$62,9))="",0,(VLOOKUP(A26,'All Meals'!$A$12:$S$62,9)))) | F26: =IF(B26=0,"",IF((VLOOKUP(A26,'All Meals'!$A$12:$S$62,12))="",0,(VLOOKUP(A26,'All Meals'!$A$12:$S$62,12)))) | G26: =IF(B26=0,"",IF((VLOOKUP(A26,'All Meals'!$A$12:$S$62,15))="",0,(VLOOKUP(A26,'All Meals'!$A$12:$S$62,15)))) | H26: =IF(B26=0,"",IF((VLOOKUP(A26,'All Meals'!$A$12:$S$62,18))="",0,(VLOOKUP(A26,'All Meals'!$A$12:$S$62,18)))) | I26: =IF(B26=0,"",IF(E26="","No",IF(E26>=0.5,"Yes","No"))) | J26: =IF(B26=0,"",IF((VLOOKUP(A26,'All Meals'!$A$12:$S$62,4))="",0,(VLOOKUP(A26,'All Meals'!$A$12:$S$62,4)))) | K26: =IF(B26=0,"",IF((VLOOKUP(A26,'All Meals'!$A$12:$S$62,5))="",0,(VLOOKUP(A26,'All Meals'!$A$12:$S$62,5)))) | L26: =IF(B26=0,"",IF((VLOOKUP(A26,'All Meals'!$A$12:$S$62,6))="",0,(VLOOKUP(A26,'All Meals'!$A$12:$S$62,6)))) | M26: =IF(B26=0,"",IF(SUM(J26-L26)>=1,"Yes","No")) | N26: =IF(B26=0,"",IF((VLOOKUP(A26,'All Meals'!$A$12:$S$62,19))="",0,(VLOOKUP(A26,'All Meals'!$A$12:$S$62,19)))) | O26: =IF(B26=0,"",IF(N26="","No",IF(N26>=1,"Yes","No")))

Sheet Tuesday
C1: Tuesday Daily Breakfast Requirement Check | R1: Go to Weekly Report
C2: The daily worksheet will perform daily requirement checks for the reimbursable meals offered each day. Requirements met are flagged "Yes" and the cell turns green. Requirements NOT met are flagged "No" and the cell turns red. NOTE: The top row is frozen to display the column headers as the daily meals are entered. Grains are rounded down to the nearest quarter ounce. Once you are finished selecting the meals offered each day, make sure to scroll to the right to enter milk type information. | R2: Go to Instructions
A3: K-12 Menu #: | C3: Tuesday
C4: Select the reimbursable breakfasts offered on Tuesday | E4: Fruits / Vegetables / 100% Juice | J4: Grains All grains served in the SFSP must be whole grain, whole grain-rich or enriched. Cereal may be fortififed. | M4: Daily Grains Requirement Check (1 oz equivalent) | N4: Milk | P4: Milk Type Check the type of milk below if it is offered to students on Tuesday. All types of milk included.
C5: Meal Name Note: You may not delete lines, if you want to clear a meal select the first blank in the drop down list | E5: Total fruit/ vegetable/ juice cups | F5: Cups of fruit/vegetable juice | G5: Cups of non-starchy vegetables | H5: Cups of starchy vegetables | I5: Daily Requirement Check (1/2 cup) | J5: Number of oz eq of GRAINS | K5: Number of oz eq of Whole Grain-Rich GRAINS | L5: Number of oz eq of Meats/Meat Alternates | N5: Milk cups | O5: Daily Milk Requirement Check (1 cup) | P5: Skim/fat-free, unflavored | U5: FALSE | W5: =IF(OR(U5=TRUE,U6=TRUE,U7=TRUE,U8=TRUE,U9=TRUE),"Yes","")
P6: Skim/fat-free, flavored | U6: FALSE
A7: 1 | B7: =INDEX(meals,A7) -> 0 | C7: 1 | E7: =IF(B7=0,"",IF((VLOOKUP(A7,'All Meals'!$A$12:$S$62,9))="",0,(VLOOKUP(A7,'All Meals'!$A$12:$S$62,9)))) | F7: =IF(B7=0,"",IF((VLOOKUP(A7,'All Meals'!$A$12:$S$62,12))="",0,(VLOOKUP(A7,'All Meals'!$A$12:$S$62,12)))) | G7: =IF(B7=0,"",IF((VLOOKUP(A7,'All Meals'!$A$12:$S$62,15))="",0,(VLOOKUP(A7,'All Meals'!$A$12:$S$62,15)))) | H7: =IF(B7=0,"",IF((VLOOKUP(A7,'All Meals'!$A$12:$S$62,18))="",0,(VLOOKUP(A7,'All Meals'!$A$12:$S$62,18)))) | I7: =IF(B7=0,"",IF(E7="","No",IF(E7>=0.5,"Yes","No"))) | J7: =IF(B7=0,"",IF((VLOOKUP(A7,'All Meals'!$A$12:$S$62,4))="",0,(VLOOKUP(A7,'All Meals'!$A$12:$S$62,4)))) | K7: =IF(B7=0,"",IF((VLOOKUP(A7,'All Meals'!$A$12:$S$62,5))="",0,(VLOOKUP(A7,'All Meals'!$A$12:$S$62,5)))) | L7: =IF(B7=0,"",IF((VLOOKUP(A7,'All Meals'!$A$12:$S$62,6))="",0,(VLOOKUP(A7,'All Meals'!$A$12:$S$62,6)))) | M7: =IF(B7=0,"",IF(SUM(J7-L7)>=1,"Yes","No")) | N7: =IF(B7=0,"",IF((VLOOKUP(A7,'All Meals'!$A$12:$S$62,19))="",0,(VLOOKUP(A7,'All Meals'!$A$12:$S$62,19)))) | O7: =IF(B7=0,"",IF(N7="","No",IF(N7>=1,"Yes","No"))) | P7: Low-fat (1% or less), unflavored | U7: FALSE
A8: 1 | B8: =INDEX(meals,A8) -> 0 | C8: 2 | E8: =IF(B8=0,"",IF((VLOOKUP(A8,'All Meals'!$A$12:$S$62,9))="",0,(VLOOKUP(A8,'All Meals'!$A$12:$S$62,9)))) | F8: =IF(B8=0,"",IF((VLOOKUP(A8,'All Meals'!$A$12:$S$62,12))="",0,(VLOOKUP(A8,'All Meals'!$A$12:$S$62,12)))) | G8: =IF(B8=0,"",IF((VLOOKUP(A8,'All Meals'!$A$12:$S$62,15))="",0,(VLOOKUP(A8,'All Meals'!$A$12:$S$62,15)))) | H8: =IF(B8=0,"",IF((VLOOKUP(A8,'All Meals'!$A$12:$S$62,18))="",0,(VLOOKUP(A8,'All Meals'!$A$12:$S$62,18)))) | I8: =IF(B8=0,"",IF(E8="","No",IF(E8>=0.5,"Yes","No"))) | J8: =IF(B8=0,"",IF((VLOOKUP(A8,'All Meals'!$A$12:$S$62,4))="",0,(VLOOKUP(A8,'All Meals'!$A$12:$S$62,4)))) | K8: =IF(B8=0,"",IF((VLOOKUP(A8,'All Meals'!$A$12:$S$62,5))="",0,(VLOOKUP(A8,'All Meals'!$A$12:$S$62,5)))) | L8: =IF(B8=0,"",IF((VLOOKUP(A8,'All Meals'!$A$12:$S$62,6))="",0,(VLOOKUP(A8,'All Meals'!$A$12:$S$62,6)))) | M8: =IF(B8=0,"",IF(SUM(J8-L8)>=1,"Yes","No")) | N8: =IF(B8=0,"",IF((VLOOKUP(A8,'All Meals'!$A$12:$S$62,19))="",0,(VLOOKUP(A8,'All Meals'!$A$12:$S$62,19)))) | O8: =IF(B8=0,"",IF(N8="","No",IF(N8>=1,"Yes","No"))) | P8: Low-fat (1% or less), flavored | U8: FALSE
A9: 1 | B9: =INDEX(meals,A9) -> 0 | C9: 3 | E9: =IF(B9=0,"",IF((VLOOKUP(A9,'All Meals'!$A$12:$S$62,9))="",0,(VLOOKUP(A9,'All Meals'!$A$12:$S$62,9)))) | F9: =IF(B9=0,"",IF((VLOOKUP(A9,'All Meals'!$A$12:$S$62,12))="",0,(VLOOKUP(A9,'All Meals'!$A$12:$S$62,12)))) | G9: =IF(B9=0,"",IF((VLOOKUP(A9,'All Meals'!$A$12:$S$62,15))="",0,(VLOOKUP(A9,'All Meals'!$A$12:$S$62,15)))) | H9: =IF(B9=0,"",IF((VLOOKUP(A9,'All Meals'!$A$12:$S$62,18))="",0,(VLOOKUP(A9,'All Meals'!$A$12:$S$62,18)))) | I9: =IF(B9=0,"",IF(E9="","No",IF(E9>=0.5,"Yes","No"))) | J9: =IF(B9=0,"",IF((VLOOKUP(A9,'All Meals'!$A$12:$S$62,4))="",0,(VLOOKUP(A9,'All Meals'!$A$12:$S$62,4)))) | K9: =IF(B9=0,"",IF((VLOOKUP(A9,'All Meals'!$A$12:$S$62,5))="",0,(VLOOKUP(A9,'All Meals'!$A$12:$S$62,5)))) | L9: =IF(B9=0,"",IF((VLOOKUP(A9,'All Meals'!$A$12:$S$62,6))="",0,(VLOOKUP(A9,'All Meals'!$A$12:$S$62,6)))) | M9: =IF(B9=0,"",IF(SUM(J9-L9)>=1,"Yes","No")) | N9: =IF(B9=0,"",IF((VLOOKUP(A9,'All Meals'!$A$12:$S$62,19))="",0,(VLOOKUP(A9,'All Meals'!$A$12:$S$62,19)))) | O9: =IF(B9=0,"",IF(N9="","No",IF(N9>=1,"Yes","No"))) | P9: Reduced fat (2% fat) or whole, unflavored and flavored | U9: FALSE
A10: 1 | B10: =INDEX(meals,A10) -> 0 | C10: 4 | E10: =IF(B10=0,"",IF((VLOOKUP(A10,'All Meals'!$A$12:$S$62,9))="",0,(VLOOKUP(A10,'All Meals'!$A$12:$S$62,9)))) | F10: =IF(B10=0,"",IF((VLOOKUP(A10,'All Meals'!$A$12:$S$62,12))="",0,(VLOOKUP(A10,'All Meals'!$A$12:$S$62,12)))) | G10: =IF(B10=0,"",IF((VLOOKUP(A10,'All Meals'!$A$12:$S$62,15))="",0,(VLOOKUP(A10,'All Meals'!$A$12:$S$62,15)))) | H10: =IF(B10=0,"",IF((VLOOKUP(A10,'All Meals'!$A$12:$S$62,18))="",0,(VLOOKUP(A10,'All Meals'!$A$12:$S$62,18)))) | I10: =IF(B10=0,"",IF(E10="","No",IF(E10>=0.5,"Yes","No"))) | J10: =IF(B10=0,"",IF((VLOOKUP(A10,'All Meals'!$A$12:$S$62,4))="",0,(VLOOKUP(A10,'All Meals'!$A$12:$S$62,4)))) | K10: =IF(B10=0,"",IF((VLOOKUP(A10,'All Meals'!$A$12:$S$62,5))="",0,(VLOOKUP(A10,'All Meals'!$A$12:$S$62,5)))) | L10: =IF(B10=0,"",IF((VLOOKUP(A10,'All Meals'!$A$12:$S$62,6))="",0,(VLOOKUP(A10,'All Meals'!$A$12:$S$62,6)))) | M10: =IF(B10=0,"",IF(SUM(J10-L10)>=1,"Yes","No")) | N10: =IF(B10=0,"",IF((VLOOKUP(A10,'All Meals'!$A$12:$S$62,19))="",0,(VLOOKUP(A10,'All Meals'!$A$12:$S$62,19)))) | O10: =IF(B10=0,"",IF(N10="","No",IF(N10>=1,"Yes","No")))
A11: 1 | B11: =INDEX(meals,A11) -> 0 | C11: 5 | E11: =IF(B11=0,"",IF((VLOOKUP(A11,'All Meals'!$A$12:$S$62,9))="",0,(VLOOKUP(A11,'All Meals'!$A$12:$S$62,9)))) | F11: =IF(B11=0,"",IF((VLOOKUP(A11,'All Meals'!$A$12:$S$62,12))="",0,(VLOOKUP(A11,'All Meals'!$A$12:$S$62,12)))) | G11: =IF(B11=0,"",IF((VLOOKUP(A11,'All Meals'!$A$12:$S$62,15))="",0,(VLOOKUP(A11,'All Meals'!$A$12:$S$62,15)))) | H11: =IF(B11=0,"",IF((VLOOKUP(A11,'All Meals'!$A$12:$S$62,18))="",0,(VLOOKUP(A11,'All Meals'!$A$12:$S$62,18)))) | I11: =IF(B11=0,"",IF(E11="","No",IF(E11>=0.5,"Yes","No"))) | J11: =IF(B11=0,"",IF((VLOOKUP(A11,'All Meals'!$A$12:$S$62,4))="",0,(VLOOKUP(A11,'All Meals'!$A$12:$S$62,4)))) | L11: =IF(B11=0,"",IF((VLOOKUP(A11,'All Meals'!$A$12:$S$62,6))="",0,(VLOOKUP(A11,'All Meals'!$A$12:$S$62,6)))) | M11: =IF(B11=0,"",IF(SUM(J11-L11)>=1,"Yes","No")) | N11: =IF(B11=0,"",IF((VLOOKUP(A11,'All Meals'!$A$12:$S$62,19))="",0,(VLOOKUP(A11,'All Meals'!$A$12:$S$62,19)))) | O11: =IF(B11=0,"",IF(N11="","No",IF(N11>=1,"Yes","No"))) | Q11: OPTIONAL Tools to Assist in Fraction and Decimal Calculations
A12: 1 | B12: =INDEX(meals,A12) -> 0 | C12: 6 | E12: =IF(B12=0,"",IF((VLOOKUP(A12,'All Meals'!$A$12:$S$62,9))="",0,(VLOOKUP(A12,'All Meals'!$A$12:$S$62,9)))) | F12: =IF(B12=0,"",IF((VLOOKUP(A12,'All Meals'!$A$12:$S$62,12))="",0,(VLOOKUP(A12,'All Meals'!$A$12:$S$62,12)))) | G12: =IF(B12=0,"",IF((VLOOKUP(A12,'All Meals'!$A$12:$S$62,15))="",0,(VLOOKUP(A12,'All Meals'!$A$12:$S$62,15)))) | H12: =IF(B12=0,"",IF((VLOOKUP(A12,'All Meals'!$A$12:$S$62,18))="",0,(VLOOKUP(A12,'All Meals'!$A$12:$S$62,18)))) | I12: =IF(B12=0,"",IF(E12="","No",IF(E12>=0.5,"Yes","No"))) | J12: =IF(B12=0,"",IF((VLOOKUP(A12,'All Meals'!$A$12:$S$62,4))="",0,(VLOOKUP(A12,'All Meals'!$A$12:$S$62,4)))) | K12: =IF(B12=0,"",IF((VLOOKUP(A12,'All Meals'!$A$12:$S$62,5))="",0,(VLOOKUP(A12,'All Meals'!$A$12:$S$62,5)))) | L12: =IF(B12=0,"",IF((VLOOKUP(A12,'All Meals'!$A$12:$S$62,6))="",0,(VLOOKUP(A12,'All Meals'!$A$12:$S$62,6)))) | M12: =IF(B12=0,"",IF(SUM(J12-L12)>=1,"Yes","No")) | N12: =IF(B12=0,"",IF((VLOOKUP(A12,'All Meals'!$A$12:$S$62,19))="",0,(VLOOKUP(A12,'All Meals'!$A$12:$S$62,19)))) | O12: =IF(B12=0,"",IF(N12="","No",IF(N12>=1,"Yes","No")))
A13: 1 | B13: =INDEX(meals,A13) -> 0 | C13: 7 | E13: =IF(B13=0,"",IF((VLOOKUP(A13,'All Meals'!$A$12:$S$62,9))="",0,(VLOOKUP(A13,'All Meals'!$A$12:$S$62,9)))) | F13: =IF(B13=0,"",IF((VLOOKUP(A13,'All Meals'!$A$12:$S$62,12))="",0,(VLOOKUP(A13,'All Meals'!$A$12:$S$62,12)))) | G13: =IF(B13=0,"",IF((VLOOKUP(A13,'All Meals'!$A$12:$S$62,15))="",0,(VLOOKUP(A13,'All Meals'!$A$12:$S$62,15)))) | H13: =IF(B13=0,"",IF((VLOOKUP(A13,'All Meals'!$A$12:$S$62,18))="",0,(VLOOKUP(A13,'All Meals'!$A$12:$S$62,18)))) | I13: =IF(B13=0,"",IF(E13="","No",IF(E13>=0.5,"Yes","No"))) | J13: =IF(B13=0,"",IF((VLOOKUP(A13,'All Meals'!$A$12:$S$62,4))="",0,(VLOOKUP(A13,'All Meals'!$A$12:$S$62,4)))) | K13: =IF(B13=0,"",IF((VLOOKUP(A13,'All Meals'!$A$12:$S$62,5))="",0,(VLOOKUP(A13,'All Meals'!$A$12:$S$62,5)))) | L13: =IF(B13=0,"",IF((VLOOKUP(A13,'All Meals'!$A$12:$S$62,6))="",0,(VLOOKUP(A13,'All Meals'!$A$12:$S$62,6)))) | M13: =IF(B13=0,"",IF(SUM(J13-L13)>=1,"Yes","No")) | N13: =IF(B13=0,"",IF((VLOOKUP(A13,'All Meals'!$A$12:$S$62,19))="",0,(VLOOKUP(A13,'All Meals'!$A$12:$S$62,19)))) | O13: =IF(B13=0,"",IF(N13="","No",IF(N13>=1,"Yes","No"))) | Q13: Fraction Calculator: Use this calculator to add the number of cups. | T13: 1 | U13: =INDEX(Cups,T13) -> 0
A14: 1 | B14: =INDEX(meals,A14) -> 0 | C14: 8 | E14: =IF(B14=0,"",IF((VLOOKUP(A14,'All Meals'!$A$12:$S$62,9))="",0,(VLOOKUP(A14,'All Meals'!$A$12:$S$62,9)))) | F14: =IF(B14=0,"",IF((VLOOKUP(A14,'All Meals'!$A$12:$S$62,12))="",0,(VLOOKUP(A14,'All Meals'!$A$12:$S$62,12)))) | G14: =IF(B14=0,"",IF((VLOOKUP(A14,'All Meals'!$A$12:$S$62,15))="",0,(VLOOKUP(A14,'All Meals'!$A$12:$S$62,15)))) | H14: =IF(B14=0,"",IF((VLOOKUP(A14,'All Meals'!$A$12:$S$62,18))="",0,(VLOOKUP(A14,'All Meals'!$A$12:$S$62,18)))) | I14: =IF(B14=0,"",IF(E14="","No",IF(E14>=0.5,"Yes","No"))) | J14: =IF(B14=0,"",IF((VLOOKUP(A14,'All Meals'!$A$12:$S$62,4))="",0,(VLOOKUP(A14,'All Meals'!$A$12:$S$62,4)))) | K14: =IF(B14=0,"",IF((VLOOKUP(A14,'All Meals'!$A$12:$S$62,5))="",0,(VLOOKUP(A14,'All Meals'!$A$12:$S$62,5)))) | L14: =IF(B14=0,"",IF((VLOOKUP(A14,'All Meals'!$A$12:$S$62,6))="",0,(VLOOKUP(A14,'All Meals'!$A$12:$S$62,6)))) | M14: =IF(B14=0,"",IF(SUM(J14-L14)>=1,"Yes","No")) | N14: =IF(B14=0,"",IF((VLOOKUP(A14,'All Meals'!$A$12:$S$62,19))="",0,(VLOOKUP(A14,'All Meals'!$A$12:$S$62,19)))) | O14: =IF(B14=0,"",IF(N14="","No",IF(N14>=1,"Yes","No"))) | T14: 1 | U14: =INDEX(Cups,T14) -> 0
A15: 1 | B15: =INDEX(meals,A15) -> 0 | C15: 9 | E15: =IF(B15=0,"",IF((VLOOKUP(A15,'All Meals'!$A$12:$S$62,9))="",0,(VLOOKUP(A15,'All Meals'!$A$12:$S$62,9)))) | F15: =IF(B15=0,"",IF((VLOOKUP(A15,'All Meals'!$A$12:$S$62,12))="",0,(VLOOKUP(A15,'All Meals'!$A$12:$S$62,12)))) | G15: =IF(B15=0,"",IF((VLOOKUP(A15,'All Meals'!$A$12:$S$62,15))="",0,(VLOOKUP(A15,'All Meals'!$A$12:$S$62,15)))) | H15: =IF(B15=0,"",IF((VLOOKUP(A15,'All Meals'!$A$12:$S$62,18))="",0,(VLOOKUP(A15,'All Meals'!$A$12:$S$62,18)))) | I15: =IF(B15=0,"",IF(E15="","No",IF(E15>=0.5,"Yes","No"))) | J15: =IF(B15=0,"",IF((VLOOKUP(A15,'All Meals'!$A$12:$S$62,4))="",0,(VLOOKUP(A15,'All Meals'!$A$12:$S$62,4)))) | K15: =IF(B15=0,"",IF((VLOOKUP(A15,'All Meals'!$A$12:$S$62,5))="",0,(VLOOKUP(A15,'All Meals'!$A$12:$S$62,5)))) | L15: =IF(B15=0,"",IF((VLOOKUP(A15,'All Meals'!$A$12:$S$62,6))="",0,(VLOOKUP(A15,'All Meals'!$A$12:$S$62,6)))) | M15: =IF(B15=0,"",IF(SUM(J15-L15)>=1,"Yes","No")) | N15: =IF(B15=0,"",IF((VLOOKUP(A15,'All Meals'!$A$12:$S$62,19))="",0,(VLOOKUP(A15,'All Meals'!$A$12:$S$62,19)))) | O15: =IF(B15=0,"",IF(N15="","No",IF(N15>=1,"Yes","No"))) | T15: 1 | U15: =INDEX(Cups,T15) -> 0
A16: 1 | B16: =INDEX(meals,A16) -> 0 | C16: 10 | E16: =IF(B16=0,"",IF((VLOOKUP(A16,'All Meals'!$A$12:$S$62,9))="",0,(VLOOKUP(A16,'All Meals'!$A$12:$S$62,9)))) | F16: =IF(B16=0,"",IF((VLOOKUP(A16,'All Meals'!$A$12:$S$62,12))="",0,(VLOOKUP(A16,'All Meals'!$A$12:$S$62,12)))) | G16: =IF(B16=0,"",IF((VLOOKUP(A16,'All Meals'!$A$12:$S$62,15))="",0,(VLOOKUP(A16,'All Meals'!$A$12:$S$62,15)))) | H16: =IF(B16=0,"",IF((VLOOKUP(A16,'All Meals'!$A$12:$S$62,18))="",0,(VLOOKUP(A16,'All Meals'!$A$12:$S$62,18)))) | I16: =IF(B16=0,"",IF(E16="","No",IF(E16>=0.5,"Yes","No"))) | J16: =IF(B16=0,"",IF((VLOOKUP(A16,'All Meals'!$A$12:$S$62,4))="",0,(VLOOKUP(A16,'All Meals'!$A$12:$S$62,4)))) | K16: =IF(B16=0,"",IF((VLOOKUP(A16,'All Meals'!$A$12:$S$62,5))="",0,(VLOOKUP(A16,'All Meals'!$A$12:$S$62,5)))) | L16: =IF(B16=0,"",IF((VLOOKUP(A16,'All Meals'!$A$12:$S$62,6))="",0,(VLOOKUP(A16,'All Meals'!$A$12:$S$62,6)))) | M16: =IF(B16=0,"",IF(SUM(J16-L16)>=1,"Yes","No")) | N16: =IF(B16=0,"",IF((VLOOKUP(A16,'All Meals'!$A$12:$S$62,19))="",0,(VLOOKUP(A16,'All Meals'!$A$12:$S$62,19)))) | O16: =IF(B16=0,"",IF(N16="","No",IF(N16>=1,"Yes","No"))) | T16: 1 | U16: =INDEX(Cups,T16) -> 0
A17: 1 | B17: =INDEX(meals,A17) -> 0 | C17: 11 | E17: =IF(B17=0,"",IF((VLOOKUP(A17,'All Meals'!$A$12:$S$62,9))="",0,(VLOOKUP(A17,'All Meals'!$A$12:$S$62,9)))) | F17: =IF(B17=0,"",IF((VLOOKUP(A17,'All Meals'!$A$12:$S$62,12))="",0,(VLOOKUP(A17,'All Meals'!$A$12:$S$62,12)))) | G17: =IF(B17=0,"",IF((VLOOKUP(A17,'All Meals'!$A$12:$S$62,15))="",0,(VLOOKUP(A17,'All Meals'!$A$12:$S$62,15)))) | H17: =IF(B17=0,"",IF((VLOOKUP(A17,'All Meals'!$A$12:$S$62,18))="",0,(VLOOKUP(A17,'All Meals'!$A$12:$S$62,18)))) | I17: =IF(B17=0,"",IF(E17="","No",IF(E17>=0.5,"Yes","No"))) | J17: =IF(B17=0,"",IF((VLOOKUP(A17,'All Meals'!$A$12:$S$62,4))="",0,(VLOOKUP(A17,'All Meals'!$A$12:$S$62,4)))) | K17: =IF(B17=0,"",IF((VLOOKUP(A17,'All Meals'!$A$12:$S$62,5))="",0,(VLOOKUP(A17,'All Meals'!$A$12:$S$62,5)))) | L17: =IF(B17=0,"",IF((VLOOKUP(A17,'All Meals'!$A$12:$S$62,6))="",0,(VLOOKUP(A17,'All Meals'!$A$12:$S$62,6)))) | M17: =IF(B17=0,"",IF(SUM(J17-L17)>=1,"Yes","No")) | N17: =IF(B17=0,"",IF((VLOOKUP(A17,'All Meals'!$A$12:$S$62,19))="",0,(VLOOKUP(A17,'All Meals'!$A$12:$S$62,19)))) | O17: =IF(B17=0,"",IF(N17="","No",IF(N17>=1,"Yes","No"))) | T17: 1 | U17: =INDEX(Cups,T17) -> 0
A18: 1 | B18: =INDEX(meals,A18) -> 0 | C18: 12 | E18: =IF(B18=0,"",IF((VLOOKUP(A18,'All Meals'!$A$12:$S$62,9))="",0,(VLOOKUP(A18,'All Meals'!$A$12:$S$62,9)))) | F18: =IF(B18=0,"",IF((VLOOKUP(A18,'All Meals'!$A$12:$S$62,12))="",0,(VLOOKUP(A18,'All Meals'!$A$12:$S$62,12)))) | G18: =IF(B18=0,"",IF((VLOOKUP(A18,'All Meals'!$A$12:$S$62,15))="",0,(VLOOKUP(A18,'All Meals'!$A$12:$S$62,15)))) | H18: =IF(B18=0,"",IF((VLOOKUP(A18,'All Meals'!$A$12:$S$62,18))="",0,(VLOOKUP(A18,'All Meals'!$A$12:$S$62,18)))) | I18: =IF(B18=0,"",IF(E18="","No",IF(E18>=0.5,"Yes","No"))) | J18: =IF(B18=0,"",IF((VLOOKUP(A18,'All Meals'!$A$12:$S$62,4))="",0,(VLOOKUP(A18,'All Meals'!$A$12:$S$62,4)))) | K18: =IF(B18=0,"",IF((VLOOKUP(A18,'All Meals'!$A$12:$S$62,5))="",0,(VLOOKUP(A18,'All Meals'!$A$12:$S$62,5)))) | L18: =IF(B18=0,"",IF((VLOOKUP(A18,'All Meals'!$A$12:$S$62,6))="",0,(VLOOKUP(A18,'All Meals'!$A$12:$S$62,6)))) | M18: =IF(B18=0,"",IF(SUM(J18-L18)>=1,"Yes","No")) | N18: =IF(B18=0,"",IF((VLOOKUP(A18,'All Meals'!$A$12:$S$62,19))="",0,(VLOOKUP(A18,'All Meals'!$A$12:$S$62,19)))) | O18: =IF(B18=0,"",IF(N18="","No",IF(N18>=1,"Yes","No"))) | V18: =SUM(U13:U17) -> 0
A19: 1 | B19: =INDEX(meals,A19) -> 0 | C19: 13 | E19: =IF(B19=0,"",IF((VLOOKUP(A19,'All Meals'!$A$12:$S$62,9))="",0,(VLOOKUP(A19,'All Meals'!$A$12:$S$62,9)))) | F19: =IF(B19=0,"",IF((VLOOKUP(A19,'All Meals'!$A$12:$S$62,12))="",0,(VLOOKUP(A19,'All Meals'!$A$12:$S$62,12)))) | G19: =IF(B19=0,"",IF((VLOOKUP(A19,'All Meals'!$A$12:$S$62,15))="",0,(VLOOKUP(A19,'All Meals'!$A$12:$S$62,15)))) | H19: =IF(B19=0,"",IF((VLOOKUP(A19,'All Meals'!$A$12:$S$62,18))="",0,(VLOOKUP(A19,'All Meals'!$A$12:$S$62,18)))) | I19: =IF(B19=0,"",IF(E19="","No",IF(E19>=0.5,"Yes","No"))) | J19: =IF(B19=0,"",IF((VLOOKUP(A19,'All Meals'!$A$12:$S$62,4))="",0,(VLOOKUP(A19,'All Meals'!$A$12:$S$62,4)))) | K19: =IF(B19=0,"",IF((VLOOKUP(A19,'All Meals'!$A$12:$S$62,5))="",0,(VLOOKUP(A19,'All Meals'!$A$12:$S$62,5)))) | L19: =IF(B19=0,"",IF((VLOOKUP(A19,'All Meals'!$A$12:$S$62,6))="",0,(VLOOKUP(A19,'All Meals'!$A$12:$S$62,6)))) | M19: =IF(B19=0,"",IF(SUM(J19-L19)>=1,"Yes","No")) | N19: =IF(B19=0,"",IF((VLOOKUP(A19,'All Meals'!$A$12:$S$62,19))="",0,(VLOOKUP(A19,'All Meals'!$A$12:$S$62,19)))) | O19: =IF(B19=0,"",IF(N19="","No",IF(N19>=1,"Yes","No"))) | Q19: Decimal/Fraction Converter (Rounded down to the nearest 1/8)
A20: 1 | B20: =INDEX(meals,A20) -> 0 | C20: 14 | E20: =IF(B20=0,"",IF((VLOOKUP(A20,'All Meals'!$A$12:$S$62,9))="",0,(VLOOKUP(A20,'All Meals'!$A$12:$S$62,9)))) | F20: =IF(B20=0,"",IF((VLOOKUP(A20,'All Meals'!$A$12:$S$62,12))="",0,(VLOOKUP(A20,'All Meals'!$A$12:$S$62,12)))) | G20: =IF(B20=0,"",IF((VLOOKUP(A20,'All Meals'!$A$12:$S$62,15))="",0,(VLOOKUP(A20,'All Meals'!$A$12:$S$62,15)))) | H20: =IF(B20=0,"",IF((VLOOKUP(A20,'All Meals'!$A$12:$S$62,18))="",0,(VLOOKUP(A20,'All Meals'!$A$12:$S$62,18)))) | I20: =IF(B20=0,"",IF(E20="","No",IF(E20>=0.5,"Yes","No"))) | J20: =IF(B20=0,"",IF((VLOOKUP(A20,'All Meals'!$A$12:$S$62,4))="",0,(VLOOKUP(A20,'All Meals'!$A$12:$S$62,4)))) | K20: =IF(B20=0,"",IF((VLOOKUP(A20,'All Meals'!$A$12:$S$62,5))="",0,(VLOOKUP(A20,'All Meals'!$A$12:$S$62,5)))) | L20: =IF(B20=0,"",IF((VLOOKUP(A20,'All Meals'!$A$12:$S$62,6))="",0,(VLOOKUP(A20,'All Meals'!$A$12:$S$62,6)))) | M20: =IF(B20=0,"",IF(SUM(J20-L20)>=1,"Yes","No")) | N20: =IF(B20=0,"",IF((VLOOKUP(A20,'All Meals'!$A$12:$S$62,19))="",0,(VLOOKUP(A20,'All Meals'!$A$12:$S$62,19)))) | O20: =IF(B20=0,"",IF(N20="","No",IF(N20>=1,"Yes","No"))) | Q20: Enter the decimal you wish to convert to a fraction in the box:
A21: 1 | B21: =INDEX(meals,A21) -> 0 | C21: 15 | E21: =IF(B21=0,"",IF((VLOOKUP(A21,'All Meals'!$A$12:$S$62,9))="",0,(VLOOKUP(A21,'All Meals'!$A$12:$S$62,9)))) | F21: =IF(B21=0,"",IF((VLOOKUP(A21,'All Meals'!$A$12:$S$62,12))="",0,(VLOOKUP(A21,'All Meals'!$A$12:$S$62,12)))) | G21: =IF(B21=0,"",IF((VLOOKUP(A21,'All Meals'!$A$12:$S$62,15))="",0,(VLOOKUP(A21,'All Meals'!$A$12:$S$62,15)))) | H21: =IF(B21=0,"",IF((VLOOKUP(A21,'All Meals'!$A$12:$S$62,18))="",0,(VLOOKUP(A21,'All Meals'!$A$12:$S$62,18)))) | I21: =IF(B21=0,"",IF(E21="","No",IF(E21>=0.5,"Yes","No"))) | J21: =IF(B21=0,"",IF((VLOOKUP(A21,'All Meals'!$A$12:$S$62,4))="",0,(VLOOKUP(A21,'All Meals'!$A$12:$S$62,4)))) | K21: =IF(B21=0,"",IF((VLOOKUP(A21,'All Meals'!$A$12:$S$62,5))="",0,(VLOOKUP(A21,'All Meals'!$A$12:$S$62,5)))) | L21: =IF(B21=0,"",IF((VLOOKUP(A21,'All Meals'!$A$12:$S$62,6))="",0,(VLOOKUP(A21,'All Meals'!$A$12:$S$62,6)))) | M21: =IF(B21=0,"",IF(SUM(J21-L21)>=1,"Yes","No")) | N21: =IF(B21=0,"",IF((VLOOKUP(A21,'All Meals'!$A$12:$S$62,19))="",0,(VLOOKUP(A21,'All Meals'!$A$12:$S$62,19)))) | O21: =IF(B21=0,"",IF(N21="","No",IF(N21>=1,"Yes","No")))
A22: 1 | B22: =INDEX(meals,A22) -> 0 | C22: 16 | E22: =IF(B22=0,"",IF((VLOOKUP(A22,'All Meals'!$A$12:$S$62,9))="",0,(VLOOKUP(A22,'All Meals'!$A$12:$S$62,9)))) | F22: =IF(B22=0,"",IF((VLOOKUP(A22,'All Meals'!$A$12:$S$62,12))="",0,(VLOOKUP(A22,'All Meals'!$A$12:$S$62,12)))) | G22: =IF(B22=0,"",IF((VLOOKUP(A22,'All Meals'!$A$12:$S$62,15))="",0,(VLOOKUP(A22,'All Meals'!$A$12:$S$62,15)))) | H22: =IF(B22=0,"",IF((VLOOKUP(A22,'All Meals'!$A$12:$S$62,18))="",0,(VLOOKUP(A22,'All Meals'!$A$12:$S$62,18)))) | I22: =IF(B22=0,"",IF(E22="","No",IF(E22>=0.5,"Yes","No"))) | J22: =IF(B22=0,"",IF((VLOOKUP(A22,'All Meals'!$A$12:$S$62,4))="",0,(VLOOKUP(A22,'All Meals'!$A$12:$S$62,4)))) | K22: =IF(B22=0,"",IF((VLOOKUP(A22,'All Meals'!$A$12:$S$62,5))="",0,(VLOOKUP(A22,'All Meals'!$A$12:$S$62,5)))) | L22: =IF(B22=0,"",IF((VLOOKUP(A22,'All Meals'!$A$12:$S$62,6))="",0,(VLOOKUP(A22,'All Meals'!$A$12:$S$62,6)))) | M22: =IF(B22=0,"",IF(SUM(J22-L22)>=1,"Yes","No")) | N22: =IF(B22=0,"",IF((VLOOKUP(A22,'All Meals'!$A$12:$S$62,19))="",0,(VLOOKUP(A22,'All Meals'!$A$12:$S$62,19)))) | O22: =IF(B22=0,"",IF(N22="","No",IF(N22>=1,"Yes","No"))) | Q22: The decimal entered above has been converted to the following fraction: | V22: =FLOOR(V20,0.125) -> 0
A23: 1 | B23: =INDEX(meals,A23) -> 0 | C23: 17 | E23: =IF(B23=0,"",IF((VLOOKUP(A23,'All Meals'!$A$12:$S$62,9))="",0,(VLOOKUP(A23,'All Meals'!$A$12:$S$62,9)))) | F23: =IF(B23=0,"",IF((VLOOKUP(A23,'All Meals'!$A$12:$S$62,12))="",0,(VLOOKUP(A23,'All Meals'!$A$12:$S$62,12)))) | G23: =IF(B23=0,"",IF((VLOOKUP(A23,'All Meals'!$A$12:$S$62,15))="",0,(VLOOKUP(A23,'All Meals'!$A$12:$S$62,15)))) | H23: =IF(B23=0,"",IF((VLOOKUP(A23,'All Meals'!$A$12:$S$62,18))="",0,(VLOOKUP(A23,'All Meals'!$A$12:$S$62,18)))) | I23: =IF(B23=0,"",IF(E23="","No",IF(E23>=0.5,"Yes","No"))) | J23: =IF(B23=0,"",IF((VLOOKUP(A23,'All Meals'!$A$12:$S$62,4))="",0,(VLOOKUP(A23,'All Meals'!$A$12:$S$62,4)))) | K23: =IF(B23=0,"",IF((VLOOKUP(A23,'All Meals'!$A$12:$S$62,5))="",0,(VLOOKUP(A23,'All Meals'!$A$12:$S$62,5)))) | L23: =IF(B23=0,"",IF((VLOOKUP(A23,'All Meals'!$A$12:$S$62,6))="",0,(VLOOKUP(A23,'All Meals'!$A$12:$S$62,6)))) | M23: =IF(B23=0,"",IF(SUM(J23-L23)>=1,"Yes","No")) | N23: =IF(B23=0,"",IF((VLOOKUP(A23,'All Meals'!$A$12:$S$62,19))="",0,(VLOOKUP(A23,'All Meals'!$A$12:$S$62,19)))) | O23: =IF(B23=0,"",IF(N23="","No",IF(N23>=1,"Yes","No")))
A24: 1 | B24: =INDEX(meals,A24) -> 0 | C24: 18 | E24: =IF(B24=0,"",IF((VLOOKUP(A24,'All Meals'!$A$12:$S$62,9))="",0,(VLOOKUP(A24,'All Meals'!$A$12:$S$62,9)))) | F24: =IF(B24=0,"",IF((VLOOKUP(A24,'All Meals'!$A$12:$S$62,12))="",0,(VLOOKUP(A24,'All Meals'!$A$12:$S$62,12)))) | G24: =IF(B24=0,"",IF((VLOOKUP(A24,'All Meals'!$A$12:$S$62,15))="",0,(VLOOKUP(A24,'All Meals'!$A$12:$S$62,15)))) | H24: =IF(B24=0,"",IF((VLOOKUP(A24,'All Meals'!$A$12:$S$62,18))="",0,(VLOOKUP(A24,'All Meals'!$A$12:$S$62,18)))) | I24: =IF(B24=0,"",IF(E24="","No",IF(E24>=0.5,"Yes","No"))) | J24: =IF(B24=0,"",IF((VLOOKUP(A24,'All Meals'!$A$12:$S$62,4))="",0,(VLOOKUP(A24,'All Meals'!$A$12:$S$62,4)))) | K24: =IF(B24=0,"",IF((VLOOKUP(A24,'All Meals'!$A$12:$S$62,5))="",0,(VLOOKUP(A24,'All Meals'!$A$12:$S$62,5)))) | L24: =IF(B24=0,"",IF((VLOOKUP(A24,'All Meals'!$A$12:$S$62,6))="",0,(VLOOKUP(A24,'All Meals'!$A$12:$S$62,6)))) | M24: =IF(B24=0,"",IF(SUM(J24-L24)>=1,"Yes","No")) | N24: =IF(B24=0,"",IF((VLOOKUP(A24,'All Meals'!$A$12:$S$62,19))="",0,(VLOOKUP(A24,'All Meals'!$A$12:$S$62,19)))) | O24: =IF(B24=0,"",IF(N24="","No",IF(N24>=1,"Yes","No")))
A25: 1 | B25: =INDEX(meals,A25) -> 0 | C25: 19 | E25: =IF(B25=0,"",IF((VLOOKUP(A25,'All Meals'!$A$12:$S$62,9))="",0,(VLOOKUP(A25,'All Meals'!$A$12:$S$62,9)))) | F25: =IF(B25=0,"",IF((VLOOKUP(A25,'All Meals'!$A$12:$S$62,12))="",0,(VLOOKUP(A25,'All Meals'!$A$12:$S$62,12)))) | G25: =IF(B25=0,"",IF((VLOOKUP(A25,'All Meals'!$A$12:$S$62,15))="",0,(VLOOKUP(A25,'All Meals'!$A$12:$S$62,15)))) | H25: =IF(B25=0,"",IF((VLOOKUP(A25,'All Meals'!$A$12:$S$62,18))="",0,(VLOOKUP(A25,'All Meals'!$A$12:$S$62,18)))) | I25: =IF(B25=0,"",IF(E25="","No",IF(E25>=0.5,"Yes","No"))) | J25: =IF(B25=0,"",IF((VLOOKUP(A25,'All Meals'!$A$12:$S$62,4))="",0,(VLOOKUP(A25,'All Meals'!$A$12:$S$62,4)))) | K25: =IF(B25=0,"",IF((VLOOKUP(A25,'All Meals'!$A$12:$S$62,5))="",0,(VLOOKUP(A25,'All Meals'!$A$12:$S$62,5)))) | L25: =IF(B25=0,"",IF((VLOOKUP(A25,'All Meals'!$A$12:$S$62,6))="",0,(VLOOKUP(A25,'All Meals'!$A$12:$S$62,6)))) | M25: =IF(B25=0,"",IF(SUM(J25-L25)>=1,"Yes","No")) | N25: =IF(B25=0,"",IF((VLOOKUP(A25,'All Meals'!$A$12:$S$62,19))="",0,(VLOOKUP(A25,'All Meals'!$A$12:$S$62,19)))) | O25: =IF(B25=0,"",IF(N25="","No",IF(N25>=1,"Yes","No")))
A26: 1 | B26: =INDEX(meals,A26) -> 0 | C26: 20 | E26: =IF(B26=0,"",IF((VLOOKUP(A26,'All Meals'!$A$12:$S$62,9))="",0,(VLOOKUP(A26,'All Meals'!$A$12:$S$62,9)))) | F26: =IF(B26=0,"",IF((VLOOKUP(A26,'All Meals'!$A$12:$S$62,12))="",0,(VLOOKUP(A26,'All Meals'!$A$12:$S$62,12)))) | G26: =IF(B26=0,"",IF((VLOOKUP(A26,'All Meals'!$A$12:$S$62,15))="",0,(VLOOKUP(A26,'All Meals'!$A$12:$S$62,15)))) | H26: =IF(B26=0,"",IF((VLOOKUP(A26,'All Meals'!$A$12:$S$62,18))="",0,(VLOOKUP(A26,'All Meals'!$A$12:$S$62,18)))) | I26: =IF(B26=0,"",IF(E26="","No",IF(E26>=0.5,"Yes","No"))) | J26: =IF(B26=0,"",IF((VLOOKUP(A26,'All Meals'!$A$12:$S$62,4))="",0,(VLOOKUP(A26,'All Meals'!$A$12:$S$62,4)))) | K26: =IF(B26=0,"",IF((VLOOKUP(A26,'All Meals'!$A$12:$S$62,5))="",0,(VLOOKUP(A26,'All Meals'!$A$12:$S$62,5)))) | L26: =IF(B26=0,"",IF((VLOOKUP(A26,'All Meals'!$A$12:$S$62,6))="",0,(VLOOKUP(A26,'All Meals'!$A$12:$S$62,6)))) | M26: =IF(B26=0,"",IF(SUM(J26-L26)>=1,"Yes","No")) | N26: =IF(B26=0,"",IF((VLOOKUP(A26,'All Meals'!$A$12:$S$62,19))="",0,(VLOOKUP(A26,'All Meals'!$A$12:$S$62,19)))) | O26: =IF(B26=0,"",IF(N26="","No",IF(N26>=1,"Yes","No")))

Sheet Wednesday
C1: Wednesday Daily Breakfast Requirement Check | R1: Go to Weekly Report
C2: The daily worksheet will perform daily requirement checks for the reimbursable meals offered each day. Requirements met are flagged "Yes" and the cell turns green. Requirements NOT met are flagged "No" and the cell turns red. NOTE: The top row is frozen to display the column headers as the daily meals are entered. Grains are rounded down to the nearest quarter ounce. Once you are finished selecting the meals offered each day, make sure to scroll to the right to enter milk type information. | R2: Go to Instructions
A3: K-12 Menu #: | C3: Wednesday
C4: Select the reimbursable breakfasts offered on Wednesday | E4: Fruits / Vegetables / 100% Juice | J4: Grains All grains served in the SFSP must be whole grain, whole grain-rich or enriched. Cereal may be fortififed. | M4: Daily Grains Requirement Check (1 oz equivalent) | N4: Milk | P4: Milk Type Check the type of milk below if it is offered to students on Wednesday. All types of milk included.
C5: Meal Name Note: You may not delete lines, if you want to clear a meal select the first blank in the drop down list | E5: Total fruit/ vegetable/ juice cups | F5: Cups of fruit/vegetable juice | G5: Cups of non-starchy vegetables | H5: Cups of starchy vegetables | I5: Daily Requirement Check (1/2 cup) | J5: Number of oz eq of GRAINS | K5: Number of oz eq of Whole Grain-Rich GRAINS | L5: Number of oz eq of Meats/Meat Alternates | N5: Milk cups | O5: Daily Milk Requirement Check (1 cup) | P5: Skim/fat-free, unflavored | U5: FALSE | W5: =IF(OR(U5=TRUE,U6=TRUE,U7=TRUE,U8=TRUE,U9=TRUE),"Yes","")
P6: Skim/fat-free, flavored | U6: FALSE
A7: 1 | B7: =INDEX(meals,A7) -> 0 | C7: 1 | E7: =IF(B7=0,"",IF((VLOOKUP(A7,'All Meals'!$A$12:$S$62,9))="",0,(VLOOKUP(A7,'All Meals'!$A$12:$S$62,9)))) | F7: =IF(B7=0,"",IF((VLOOKUP(A7,'All Meals'!$A$12:$S$62,12))="",0,(VLOOKUP(A7,'All Meals'!$A$12:$S$62,12)))) | G7: =IF(B7=0,"",IF((VLOOKUP(A7,'All Meals'!$A$12:$S$62,15))="",0,(VLOOKUP(A7,'All Meals'!$A$12:$S$62,15)))) | H7: =IF(B7=0,"",IF((VLOOKUP(A7,'All Meals'!$A$12:$S$62,18))="",0,(VLOOKUP(A7,'All Meals'!$A$12:$S$62,18)))) | I7: =IF(B7=0,"",IF(E7="","No",IF(E7>=0.5,"Yes","No"))) | J7: =IF(B7=0,"",IF((VLOOKUP(A7,'All Meals'!$A$12:$S$62,4))="",0,(VLOOKUP(A7,'All Meals'!$A$12:$S$62,4)))) | K7: =IF(B7=0,"",IF((VLOOKUP(A7,'All Meals'!$A$12:$S$62,5))="",0,(VLOOKUP(A7,'All Meals'!$A$12:$S$62,5)))) | L7: =IF(B7=0,"",IF((VLOOKUP(A7,'All Meals'!$A$12:$S$62,6))="",0,(VLOOKUP(A7,'All Meals'!$A$12:$S$62,6)))) | M7: =IF(B7=0,"",IF(SUM(J7-L7)>=1,"Yes","No")) | N7: =IF(B7=0,"",IF((VLOOKUP(A7,'All Meals'!$A$12:$S$62,19))="",0,(VLOOKUP(A7,'All Meals'!$A$12:$S$62,19)))) | O7: =IF(B7=0,"",IF(N7="","No",IF(N7>=1,"Yes","No"))) | P7: Low-fat (1% or less), unflavored | U7: FALSE
A8: 1 | B8: =INDEX(meals,A8) -> 0 | C8: 2 | E8: =IF(B8=0,"",IF((VLOOKUP(A8,'All Meals'!$A$12:$S$62,9))="",0,(VLOOKUP(A8,'All Meals'!$A$12:$S$62,9)))) | F8: =IF(B8=0,"",IF((VLOOKUP(A8,'All Meals'!$A$12:$S$62,12))="",0,(VLOOKUP(A8,'All Meals'!$A$12:$S$62,12)))) | G8: =IF(B8=0,"",IF((VLOOKUP(A8,'All Meals'!$A$12:$S$62,15))="",0,(VLOOKUP(A8,'All Meals'!$A$12:$S$62,15)))) | H8: =IF(B8=0,"",IF((VLOOKUP(A8,'All Meals'!$A$12:$S$62,18))="",0,(VLOOKUP(A8,'All Meals'!$A$12:$S$62,18)))) | I8: =IF(B8=0,"",IF(E8="","No",IF(E8>=0.5,"Yes","No"))) | J8: =IF(B8=0,"",IF((VLOOKUP(A8,'All Meals'!$A$12:$S$62,4))="",0,(VLOOKUP(A8,'All Meals'!$A$12:$S$62,4)))) | K8: =IF(B8=0,"",IF((VLOOKUP(A8,'All Meals'!$A$12:$S$62,5))="",0,(VLOOKUP(A8,'All Meals'!$A$12:$S$62,5)))) | L8: =IF(B8=0,"",IF((VLOOKUP(A8,'All Meals'!$A$12:$S$62,6))="",0,(VLOOKUP(A8,'All Meals'!$A$12:$S$62,6)))) | M8: =IF(B8=0,"",IF(SUM(J8-L8)>=1,"Yes","No")) | N8: =IF(B8=0,"",IF((VLOOKUP(A8,'All Meals'!$A$12:$S$62,19))="",0,(VLOOKUP(A8,'All Meals'!$A$12:$S$62,19)))) | O8: =IF(B8=0,"",IF(N8="","No",IF(N8>=1,"Yes","No"))) | P8: Low-fat (1% or less), flavored | U8: FALSE
A9: 1 | B9: =INDEX(meals,A9) -> 0 | C9: 3 | E9: =IF(B9=0,"",IF((VLOOKUP(A9,'All Meals'!$A$12:$S$62,9))="",0,(VLOOKUP(A9,'All Meals'!$A$12:$S$62,9)))) | F9: =IF(B9=0,"",IF((VLOOKUP(A9,'All Meals'!$A$12:$S$62,12))="",0,(VLOOKUP(A9,'All Meals'!$A$12:$S$62,12)))) | G9: =IF(B9=0,"",IF((VLOOKUP(A9,'All Meals'!$A$12:$S$62,15))="",0,(VLOOKUP(A9,'All Meals'!$A$12:$S$62,15)))) | H9: =IF(B9=0,"",IF((VLOOKUP(A9,'All Meals'!$A$12:$S$62,18))="",0,(VLOOKUP(A9,'All Meals'!$A$12:$S$62,18)))) | I9: =IF(B9=0,"",IF(E9="","No",IF(E9>=0.5,"Yes","No"))) | J9: =IF(B9=0,"",IF((VLOOKUP(A9,'All Meals'!$A$12:$S$62,4))="",0,(VLOOKUP(A9,'All Meals'!$A$12:$S$62,4)))) | K9: =IF(B9=0,"",IF((VLOOKUP(A9,'All Meals'!$A$12:$S$62,5))="",0,(VLOOKUP(A9,'All Meals'!$A$12:$S$62,5)))) | L9: =IF(B9=0,"",IF((VLOOKUP(A9,'All Meals'!$A$12:$S$62,6))="",0,(VLOOKUP(A9,'All Meals'!$A$12:$S$62,6)))) | M9: =IF(B9=0,"",IF(SUM(J9-L9)>=1,"Yes","No")) | N9: =IF(B9=0,"",IF((VLOOKUP(A9,'All Meals'!$A$12:$S$62,19))="",0,(VLOOKUP(A9,'All Meals'!$A$12:$S$62,19)))) | O9: =IF(B9=0,"",IF(N9="","No",IF(N9>=1,"Yes","No"))) | P9: Reduced fat (2% fat) or whole, unflavored and flavored | U9: FALSE
A10: 1 | B10: =INDEX(meals,A10) -> 0 | C10: 4 | E10: =IF(B10=0,"",IF((VLOOKUP(A10,'All Meals'!$A$12:$S$62,9))="",0,(VLOOKUP(A10,'All Meals'!$A$12:$S$62,9)))) | F10: =IF(B10=0,"",IF((VLOOKUP(A10,'All Meals'!$A$12:$S$62,12))="",0,(VLOOKUP(A10,'All Meals'!$A$12:$S$62,12)))) | G10: =IF(B10=0,"",IF((VLOOKUP(A10,'All Meals'!$A$12:$S$62,15))="",0,(VLOOKUP(A10,'All Meals'!$A$12:$S$62,15)))) | H10: =IF(B10=0,"",IF((VLOOKUP(A10,'All Meals'!$A$12:$S$62,18))="",0,(VLOOKUP(A10,'All Meals'!$A$12:$S$62,18)))) | I10: =IF(B10=0,"",IF(E10="","No",IF(E10>=0.5,"Yes","No"))) | J10: =IF(B10=0,"",IF((VLOOKUP(A10,'All Meals'!$A$12:$S$62,4))="",0,(VLOOKUP(A10,'All Meals'!$A$12:$S$62,4)))) | K10: =IF(B10=0,"",IF((VLOOKUP(A10,'All Meals'!$A$12:$S$62,5))="",0,(VLOOKUP(A10,'All Meals'!$A$12:$S$62,5)))) | L10: =IF(B10=0,"",IF((VLOOKUP(A10,'All Meals'!$A$12:$S$62,6))="",0,(VLOOKUP(A10,'All Meals'!$A$12:$S$62,6)))) | M10: =IF(B10=0,"",IF(SUM(J10-L10)>=1,"Yes","No")) | N10: =IF(B10=0,"",IF((VLOOKUP(A10,'All Meals'!$A$12:$S$62,19))="",0,(VLOOKUP(A10,'All Meals'!$A$12:$S$62,19)))) | O10: =IF(B10=0,"",IF(N10="","No",IF(N10>=1,"Yes","No")))
A11: 1 | B11: =INDEX(meals,A11) -> 0 | C11: 5 | E11: =IF(B11=0,"",IF((VLOOKUP(A11,'All Meals'!$A$12:$S$62,9))="",0,(VLOOKUP(A11,'All Meals'!$A$12:$S$62,9)))) | F11: =IF(B11=0,"",IF((VLOOKUP(A11,'All Meals'!$A$12:$S$62,12))="",0,(VLOOKUP(A11,'All Meals'!$A$12:$S$62,12)))) | G11: =IF(B11=0,"",IF((VLOOKUP(A11,'All Meals'!$A$12:$S$62,15))="",0,(VLOOKUP(A11,'All Meals'!$A$12:$S$62,15)))) | H11: =IF(B11=0,"",IF((VLOOKUP(A11,'All Meals'!$A$12:$S$62,18))="",0,(VLOOKUP(A11,'All Meals'!$A$12:$S$62,18)))) | I11: =IF(B11=0,"",IF(E11="","No",IF(E11>=0.5,"Yes","No"))) | J11: =IF(B11=0,"",IF((VLOOKUP(A11,'All Meals'!$A$12:$S$62,4))="",0,(VLOOKUP(A11,'All Meals'!$A$12:$S$62,4)))) | K11: =IF(B11=0,"",IF((VLOOKUP(A11,'All Meals'!$A$12:$S$62,5))="",0,(VLOOKUP(A11,'All Meals'!$A$12:$S$62,5)))) | L11: =IF(B11=0,"",IF((VLOOKUP(A11,'All Meals'!$A$12:$S$62,6))="",0,(VLOOKUP(A11,'All Meals'!$A$12:$S$62,6)))) | M11: =IF(B11=0,"",IF(SUM(J11-L11)>=1,"Yes","No")) | N11: =IF(B11=0,"",IF((VLOOKUP(A11,'All Meals'!$A$12:$S$62,19))="",0,(VLOOKUP(A11,'All Meals'!$A$12:$S$62,19)))) | O11: =IF(B11=0,"",IF(N11="","No",IF(N11>=1,"Yes","No"))) | Q11: OPTIONAL Tools to Assist in Fraction and Decimal Calculations
A12: 1 | B12: =INDEX(meals,A12) -> 0 | C12: 6 | E12: =IF(B12=0,"",IF((VLOOKUP(A12,'All Meals'!$A$12:$S$62,9))="",0,(VLOOKUP(A12,'All Meals'!$A$12:$S$62,9)))) | F12: =IF(B12=0,"",IF((VLOOKUP(A12,'All Meals'!$A$12:$S$62,12))="",0,(VLOOKUP(A12,'All Meals'!$A$12:$S$62,12)))) | G12: =IF(B12=0,"",IF((VLOOKUP(A12,'All Meals'!$A$12:$S$62,15))="",0,(VLOOKUP(A12,'All Meals'!$A$12:$S$62,15)))) | H12: =IF(B12=0,"",IF((VLOOKUP(A12,'All Meals'!$A$12:$S$62,18))="",0,(VLOOKUP(A12,'All Meals'!$A$12:$S$62,18)))) | I12: =IF(B12=0,"",IF(E12="","No",IF(E12>=0.5,"Yes","No"))) | J12: =IF(B12=0,"",IF((VLOOKUP(A12,'All Meals'!$A$12:$S$62,4))="",0,(VLOOKUP(A12,'All Meals'!$A$12:$S$62,4)))) | K12: =IF(B12=0,"",IF((VLOOKUP(A12,'All Meals'!$A$12:$S$62,5))="",0,(VLOOKUP(A12,'All Meals'!$A$12:$S$62,5)))) | L12: =IF(B12=0,"",IF((VLOOKUP(A12,'All Meals'!$A$12:$S$62,6))="",0,(VLOOKUP(A12,'All Meals'!$A$12:$S$62,6)))) | M12: =IF(B12=0,"",IF(SUM(J12-L12)>=1,"Yes","No")) | N12: =IF(B12=0,"",IF((VLOOKUP(A12,'All Meals'!$A$12:$S$62,19))="",0,(VLOOKUP(A12,'All Meals'!$A$12:$S$62,19)))) | O12: =IF(B12=0,"",IF(N12="","No",IF(N12>=1,"Yes","No")))
A13: 1 | B13: =INDEX(meals,A13) -> 0 | C13: 7 | E13: =IF(B13=0,"",IF((VLOOKUP(A13,'All Meals'!$A$12:$S$62,9))="",0,(VLOOKUP(A13,'All Meals'!$A$12:$S$62,9)))) | F13: =IF(B13=0,"",IF((VLOOKUP(A13,'All Meals'!$A$12:$S$62,12))="",0,(VLOOKUP(A13,'All Meals'!$A$12:$S$62,12)))) | G13: =IF(B13=0,"",IF((VLOOKUP(A13,'All Meals'!$A$12:$S$62,15))="",0,(VLOOKUP(A13,'All Meals'!$A$12:$S$62,15)))) | H13: =IF(B13=0,"",IF((VLOOKUP(A13,'All Meals'!$A$12:$S$62,18))="",0,(VLOOKUP(A13,'All Meals'!$A$12:$S$62,18)))) | I13: =IF(B13=0,"",IF(E13="","No",IF(E13>=0.5,"Yes","No"))) | J13: =IF(B13=0,"",IF((VLOOKUP(A13,'All Meals'!$A$12:$S$62,4))="",0,(VLOOKUP(A13,'All Meals'!$A$12:$S$62,4)))) | K13: =IF(B13=0,"",IF((VLOOKUP(A13,'All Meals'!$A$12:$S$62,5))="",0,(VLOOKUP(A13,'All Meals'!$A$12:$S$62,5)))) | L13: =IF(B13=0,"",IF((VLOOKUP(A13,'All Meals'!$A$12:$S$62,6))="",0,(VLOOKUP(A13,'All Meals'!$A$12:$S$62,6)))) | M13: =IF(B13=0,"",IF(SUM(J13-L13)>=1,"Yes","No")) | N13: =IF(B13=0,"",IF((VLOOKUP(A13,'All Meals'!$A$12:$S$62,19))="",0,(VLOOKUP(A13,'All Meals'!$A$12:$S$62,19)))) | O13: =IF(B13=0,"",IF(N13="","No",IF(N13>=1,"Yes","No"))) | Q13: Fraction Calculator: Use this calculator to add the number of cups. | T13: 1 | U13: =INDEX(Cups,T13) -> 0
A14: 1 | B14: =INDEX(meals,A14) -> 0 | C14: 8 | E14: =IF(B14=0,"",IF((VLOOKUP(A14,'All Meals'!$A$12:$S$62,9))="",0,(VLOOKUP(A14,'All Meals'!$A$12:$S$62,9)))) | F14: =IF(B14=0,"",IF((VLOOKUP(A14,'All Meals'!$A$12:$S$62,12))="",0,(VLOOKUP(A14,'All Meals'!$A$12:$S$62,12)))) | G14: =IF(B14=0,"",IF((VLOOKUP(A14,'All Meals'!$A$12:$S$62,15))="",0,(VLOOKUP(A14,'All Meals'!$A$12:$S$62,15)))) | H14: =IF(B14=0,"",IF((VLOOKUP(A14,'All Meals'!$A$12:$S$62,18))="",0,(VLOOKUP(A14,'All Meals'!$A$12:$S$62,18)))) | I14: =IF(B14=0,"",IF(E14="","No",IF(E14>=0.5,"Yes","No"))) | J14: =IF(B14=0,"",IF((VLOOKUP(A14,'All Meals'!$A$12:$S$62,4))="",0,(VLOOKUP(A14,'All Meals'!$A$12:$S$62,4)))) | K14: =IF(B14=0,"",IF((VLOOKUP(A14,'All Meals'!$A$12:$S$62,5))="",0,(VLOOKUP(A14,'All Meals'!$A$12:$S$62,5)))) | L14: =IF(B14=0,"",IF((VLOOKUP(A14,'All Meals'!$A$12:$S$62,6))="",0,(VLOOKUP(A14,'All Meals'!$A$12:$S$62,6)))) | M14: =IF(B14=0,"",IF(SUM(J14-L14)>=1,"Yes","No")) | N14: =IF(B14=0,"",IF((VLOOKUP(A14,'All Meals'!$A$12:$S$62,19))="",0,(VLOOKUP(A14,'All Meals'!$A$12:$S$62,19)))) | O14: =IF(B14=0,"",IF(N14="","No",IF(N14>=1,"Yes","No"))) | T14: 1 | U14: =INDEX(Cups,T14) -> 0
A15: 1 | B15: =INDEX(meals,A15) -> 0 | C15: 9 | E15: =IF(B15=0,"",IF((VLOOKUP(A15,'All Meals'!$A$12:$S$62,9))="",0,(VLOOKUP(A15,'All Meals'!$A$12:$S$62,9)))) | F15: =IF(B15=0,"",IF((VLOOKUP(A15,'All Meals'!$A$12:$S$62,12))="",0,(VLOOKUP(A15,'All Meals'!$A$12:$S$62,12)))) | G15: =IF(B15=0,"",IF((VLOOKUP(A15,'All Meals'!$A$12:$S$62,15))="",0,(VLOOKUP(A15,'All Meals'!$A$12:$S$62,15)))) | H15: =IF(B15=0,"",IF((VLOOKUP(A15,'All Meals'!$A$12:$S$62,18))="",0,(VLOOKUP(A15,'All Meals'!$A$12:$S$62,18)))) | I15: =IF(B15=0,"",IF(E15="","No",IF(E15>=0.5,"Yes","No"))) | J15: =IF(B15=0,"",IF((VLOOKUP(A15,'All Meals'!$A$12:$S$62,4))="",0,(VLOOKUP(A15,'All Meals'!$A$12:$S$62,4)))) | K15: =IF(B15=0,"",IF((VLOOKUP(A15,'All Meals'!$A$12:$S$62,5))="",0,(VLOOKUP(A15,'All Meals'!$A$12:$S$62,5)))) | L15: =IF(B15=0,"",IF((VLOOKUP(A15,'All Meals'!$A$12:$S$62,6))="",0,(VLOOKUP(A15,'All Meals'!$A$12:$S$62,6)))) | M15: =IF(B15=0,"",IF(SUM(J15-L15)>=1,"Yes","No")) | N15: =IF(B15=0,"",IF((VLOOKUP(A15,'All Meals'!$A$12:$S$62,19))="",0,(VLOOKUP(A15,'All Meals'!$A$12:$S$62,19)))) | O15: =IF(B15=0,"",IF(N15="","No",IF(N15>=1,"Yes","No"))) | T15: 1 | U15: =INDEX(Cups,T15) -> 0
A16: 1 | B16: =INDEX(meals,A16) -> 0 | C16: 10 | E16: =IF(B16=0,"",IF((VLOOKUP(A16,'All Meals'!$A$12:$S$62,9))="",0,(VLOOKUP(A16,'All Meals'!$A$12:$S$62,9)))) | F16: =IF(B16=0,"",IF((VLOOKUP(A16,'All Meals'!$A$12:$S$62,12))="",0,(VLOOKUP(A16,'All Meals'!$A$12:$S$62,12)))) | G16: =IF(B16=0,"",IF((VLOOKUP(A16,'All Meals'!$A$12:$S$62,15))="",0,(VLOOKUP(A16,'All Meals'!$A$12:$S$62,15)))) | H16: =IF(B16=0,"",IF((VLOOKUP(A16,'All Meals'!$A$12:$S$62,18))="",0,(VLOOKUP(A16,'All Meals'!$A$12:$S$62,18)))) | I16: =IF(B16=0,"",IF(E16="","No",IF(E16>=0.5,"Yes","No"))) | J16: =IF(B16=0,"",IF((VLOOKUP(A16,'All Meals'!$A$12:$S$62,4))="",0,(VLOOKUP(A16,'All Meals'!$A$12:$S$62,4)))) | K16: =IF(B16=0,"",IF((VLOOKUP(A16,'All Meals'!$A$12:$S$62,5))="",0,(VLOOKUP(A16,'All Meals'!$A$12:$S$62,5)))) | L16: =IF(B16=0,"",IF((VLOOKUP(A16,'All Meals'!$A$12:$S$62,6))="",0,(VLOOKUP(A16,'All Meals'!$A$12:$S$62,6)))) | M16: =IF(B16=0,"",IF(SUM(J16-L16)>=1,"Yes","No")) | N16: =IF(B16=0,"",IF((VLOOKUP(A16,'All Meals'!$A$12:$S$62,19))="",0,(VLOOKUP(A16,'All Meals'!$A$12:$S$62,19)))) | O16: =IF(B16=0,"",IF(N16="","No",IF(N16>=1,"Yes","No"))) | T16: 1 | U16: =INDEX(Cups,T16) -> 0
A17: 1 | B17: =INDEX(meals,A17) -> 0 | C17: 11 | E17: =IF(B17=0,"",IF((VLOOKUP(A17,'All Meals'!$A$12:$S$62,9))="",0,(VLOOKUP(A17,'All Meals'!$A$12:$S$62,9)))) | F17: =IF(B17=0,"",IF((VLOOKUP(A17,'All Meals'!$A$12:$S$62,12))="",0,(VLOOKUP(A17,'All Meals'!$A$12:$S$62,12)))) | G17: =IF(B17=0,"",IF((VLOOKUP(A17,'All Meals'!$A$12:$S$62,15))="",0,(VLOOKUP(A17,'All Meals'!$A$12:$S$62,15)))) | H17: =IF(B17=0,"",IF((VLOOKUP(A17,'All Meals'!$A$12:$S$62,18))="",0,(VLOOKUP(A17,'All Meals'!$A$12:$S$62,18)))) | I17: =IF(B17=0,"",IF(E17="","No",IF(E17>=0.5,"Yes","No"))) | J17: =IF(B17=0,"",IF((VLOOKUP(A17,'All Meals'!$A$12:$S$62,4))="",0,(VLOOKUP(A17,'All Meals'!$A$12:$S$62,4)))) | K17: =IF(B17=0,"",IF((VLOOKUP(A17,'All Meals'!$A$12:$S$62,5))="",0,(VLOOKUP(A17,'All Meals'!$A$12:$S$62,5)))) | L17: =IF(B17=0,"",IF((VLOOKUP(A17,'All Meals'!$A$12:$S$62,6))="",0,(VLOOKUP(A17,'All Meals'!$A$12:$S$62,6)))) | M17: =IF(B17=0,"",IF(SUM(J17-L17)>=1,"Yes","No")) | N17: =IF(B17=0,"",IF((VLOOKUP(A17,'All Meals'!$A$12:$S$62,19))="",0,(VLOOKUP(A17,'All Meals'!$A$12:$S$62,19)))) | O17: =IF(B17=0,"",IF(N17="","No",IF(N17>=1,"Yes","No"))) | T17: 1 | U17: =INDEX(Cups,T17) -> 0
A18: 1 | B18: =INDEX(meals,A18) -> 0 | C18: 12 | E18: =IF(B18=0,"",IF((VLOOKUP(A18,'All Meals'!$A$12:$S$62,9))="",0,(VLOOKUP(A18,'All Meals'!$A$12:$S$62,9)))) | F18: =IF(B18=0,"",IF((VLOOKUP(A18,'All Meals'!$A$12:$S$62,12))="",0,(VLOOKUP(A18,'All Meals'!$A$12:$S$62,12)))) | G18: =IF(B18=0,"",IF((VLOOKUP(A18,'All Meals'!$A$12:$S$62,15))="",0,(VLOOKUP(A18,'All Meals'!$A$12:$S$62,15)))) | H18: =IF(B18=0,"",IF((VLOOKUP(A18,'All Meals'!$A$12:$S$62,18))="",0,(VLOOKUP(A18,'All Meals'!$A$12:$S$62,18)))) | I18: =IF(B18=0,"",IF(E18="","No",IF(E18>=0.5,"Yes","No"))) | J18: =IF(B18=0,"",IF((VLOOKUP(A18,'All Meals'!$A$12:$S$62,4))="",0,(VLOOKUP(A18,'All Meals'!$A$12:$S$62,4)))) | K18: =IF(B18=0,"",IF((VLOOKUP(A18,'All Meals'!$A$12:$S$62,5))="",0,(VLOOKUP(A18,'All Meals'!$A$12:$S$62,5)))) | L18: =IF(B18=0,"",IF((VLOOKUP(A18,'All Meals'!$A$12:$S$62,6))="",0,(VLOOKUP(A18,'All Meals'!$A$12:$S$62,6)))) | M18: =IF(B18=0,"",IF(SUM(J18-L18)>=1,"Yes","No")) | N18: =IF(B18=0,"",IF((VLOOKUP(A18,'All Meals'!$A$12:$S$62,19))="",0,(VLOOKUP(A18,'All Meals'!$A$12:$S$62,19)))) | O18: =IF(B18=0,"",IF(N18="","No",IF(N18>=1,"Yes","No"))) | V18: =SUM(U13:U17) -> 0
A19: 1 | B19: =INDEX(meals,A19) -> 0 | C19: 13 | E19: =IF(B19=0,"",IF((VLOOKUP(A19,'All Meals'!$A$12:$S$62,9))="",0,(VLOOKUP(A19,'All Meals'!$A$12:$S$62,9)))) | F19: =IF(B19=0,"",IF((VLOOKUP(A19,'All Meals'!$A$12:$S$62,12))="",0,(VLOOKUP(A19,'All Meals'!$A$12:$S$62,12)))) | G19: =IF(B19=0,"",IF((VLOOKUP(A19,'All Meals'!$A$12:$S$62,15))="",0,(VLOOKUP(A19,'All Meals'!$A$12:$S$62,15)))) | H19: =IF(B19=0,"",IF((VLOOKUP(A19,'All Meals'!$A$12:$S$62,18))="",0,(VLOOKUP(A19,'All Meals'!$A$12:$S$62,18)))) | I19: =IF(B19=0,"",IF(E19="","No",IF(E19>=0.5,"Yes","No"))) | J19: =IF(B19=0,"",IF((VLOOKUP(A19,'All Meals'!$A$12:$S$62,4))="",0,(VLOOKUP(A19,'All Meals'!$A$12:$S$62,4)))) | K19: =IF(B19=0,"",IF((VLOOKUP(A19,'All Meals'!$A$12:$S$62,5))="",0,(VLOOKUP(A19,'All Meals'!$A$12:$S$62,5)))) | L19: =IF(B19=0,"",IF((VLOOKUP(A19,'All Meals'!$A$12:$S$62,6))="",0,(VLOOKUP(A19,'All Meals'!$A$12:$S$62,6)))) | M19: =IF(B19=0,"",IF(SUM(J19-L19)>=1,"Yes","No")) | N19: =IF(B19=0,"",IF((VLOOKUP(A19,'All Meals'!$A$12:$S$62,19))="",0,(VLOOKUP(A19,'All Meals'!$A$12:$S$62,19)))) | O19: =IF(B19=0,"",IF(N19="","No",IF(N19>=1,"Yes","No"))) | Q19: Decimal/Fraction Converter (Rounded down to the nearest 1/8)
A20: 1 | B20: =INDEX(meals,A20) -> 0 | C20: 14 | E20: =IF(B20=0,"",IF((VLOOKUP(A20,'All Meals'!$A$12:$S$62,9))="",0,(VLOOKUP(A20,'All Meals'!$A$12:$S$62,9)))) | F20: =IF(B20=0,"",IF((VLOOKUP(A20,'All Meals'!$A$12:$S$62,12))="",0,(VLOOKUP(A20,'All Meals'!$A$12:$S$62,12)))) | G20: =IF(B20=0,"",IF((VLOOKUP(A20,'All Meals'!$A$12:$S$62,15))="",0,(VLOOKUP(A20,'All Meals'!$A$12:$S$62,15)))) | H20: =IF(B20=0,"",IF((VLOOKUP(A20,'All Meals'!$A$12:$S$62,18))="",0,(VLOOKUP(A20,'All Meals'!$A$12:$S$62,18)))) | I20: =IF(B20=0,"",IF(E20="","No",IF(E20>=0.5,"Yes","No"))) | J20: =IF(B20=0,"",IF((VLOOKUP(A20,'All Meals'!$A$12:$S$62,4))="",0,(VLOOKUP(A20,'All Meals'!$A$12:$S$62,4)))) | K20: =IF(B20=0,"",IF((VLOOKUP(A20,'All Meals'!$A$12:$S$62,5))="",0,(VLOOKUP(A20,'All Meals'!$A$12:$S$62,5)))) | L20: =IF(B20=0,"",IF((VLOOKUP(A20,'All Meals'!$A$12:$S$62,6))="",0,(VLOOKUP(A20,'All Meals'!$A$12:$S$62,6)))) | M20: =IF(B20=0,"",IF(SUM(J20-L20)>=1,"Yes","No")) | N20: =IF(B20=0,"",IF((VLOOKUP(A20,'All Meals'!$A$12:$S$62,19))="",0,(VLOOKUP(A20,'All Meals'!$A$12:$S$62,19)))) | O20: =IF(B20=0,"",IF(N20="","No",IF(N20>=1,"Yes","No"))) | Q20: Enter the decimal you wish to convert to a fraction in the box:
A21: 1 | B21: =INDEX(meals,A21) -> 0 | C21: 15 | E21: =IF(B21=0,"",IF((VLOOKUP(A21,'All Meals'!$A$12:$S$62,9))="",0,(VLOOKUP(A21,'All Meals'!$A$12:$S$62,9)))) | F21: =IF(B21=0,"",IF((VLOOKUP(A21,'All Meals'!$A$12:$S$62,12))="",0,(VLOOKUP(A21,'All Meals'!$A$12:$S$62,12)))) | G21: =IF(B21=0,"",IF((VLOOKUP(A21,'All Meals'!$A$12:$S$62,15))="",0,(VLOOKUP(A21,'All Meals'!$A$12:$S$62,15)))) | H21: =IF(B21=0,"",IF((VLOOKUP(A21,'All Meals'!$A$12:$S$62,18))="",0,(VLOOKUP(A21,'All Meals'!$A$12:$S$62,18)))) | I21: =IF(B21=0,"",IF(E21="","No",IF(E21>=0.5,"Yes","No"))) | J21: =IF(B21=0,"",IF((VLOOKUP(A21,'All Meals'!$A$12:$S$62,4))="",0,(VLOOKUP(A21,'All Meals'!$A$12:$S$62,4)))) | K21: =IF(B21=0,"",IF((VLOOKUP(A21,'All Meals'!$A$12:$S$62,5))="",0,(VLOOKUP(A21,'All Meals'!$A$12:$S$62,5)))) | L21: =IF(B21=0,"",IF((VLOOKUP(A21,'All Meals'!$A$12:$S$62,6))="",0,(VLOOKUP(A21,'All Meals'!$A$12:$S$62,6)))) | M21: =IF(B21=0,"",IF(SUM(J21-L21)>=1,"Yes","No")) | N21: =IF(B21=0,"",IF((VLOOKUP(A21,'All Meals'!$A$12:$S$62,19))="",0,(VLOOKUP(A21,'All Meals'!$A$12:$S$62,19)))) | O21: =IF(B21=0,"",IF(N21="","No",IF(N21>=1,"Yes","No")))
A22: 1 | B22: =INDEX(meals,A22) -> 0 | C22: 16 | E22: =IF(B22=0,"",IF((VLOOKUP(A22,'All Meals'!$A$12:$S$62,9))="",0,(VLOOKUP(A22,'All Meals'!$A$12:$S$62,9)))) | F22: =IF(B22=0,"",IF((VLOOKUP(A22,'All Meals'!$A$12:$S$62,12))="",0,(VLOOKUP(A22,'All Meals'!$A$12:$S$62,12)))) | G22: =IF(B22=0,"",IF((VLOOKUP(A22,'All Meals'!$A$12:$S$62,15))="",0,(VLOOKUP(A22,'All Meals'!$A$12:$S$62,15)))) | H22: =IF(B22=0,"",IF((VLOOKUP(A22,'All Meals'!$A$12:$S$62,18))="",0,(VLOOKUP(A22,'All Meals'!$A$12:$S$62,18)))) | I22: =IF(B22=0,"",IF(E22="","No",IF(E22>=0.5,"Yes","No"))) | J22: =IF(B22=0,"",IF((VLOOKUP(A22,'All Meals'!$A$12:$S$62,4))="",0,(VLOOKUP(A22,'All Meals'!$A$12:$S$62,4)))) | K22: =IF(B22=0,"",IF((VLOOKUP(A22,'All Meals'!$A$12:$S$62,5))="",0,(VLOOKUP(A22,'All Meals'!$A$12:$S$62,5)))) | L22: =IF(B22=0,"",IF((VLOOKUP(A22,'All Meals'!$A$12:$S$62,6))="",0,(VLOOKUP(A22,'All Meals'!$A$12:$S$62,6)))) | M22: =IF(B22=0,"",IF(SUM(J22-L22)>=1,"Yes","No")) | N22: =IF(B22=0,"",IF((VLOOKUP(A22,'All Meals'!$A$12:$S$62,19))="",0,(VLOOKUP(A22,'All Meals'!$A$12:$S$62,19)))) | O22: =IF(B22=0,"",IF(N22="","No",IF(N22>=1,"Yes","No"))) | Q22: The decimal entered above has been converted to the following fraction: | V22: =FLOOR(V20,0.125) -> 0
A23: 1 | B23: =INDEX(meals,A23) -> 0 | C23: 17 | E23: =IF(B23=0,"",IF((VLOOKUP(A23,'All Meals'!$A$12:$S$62,9))="",0,(VLOOKUP(A23,'All Meals'!$A$12:$S$62,9)))) | F23: =IF(B23=0,"",IF((VLOOKUP(A23,'All Meals'!$A$12:$S$62,12))="",0,(VLOOKUP(A23,'All Meals'!$A$12:$S$62,12)))) | G23: =IF(B23=0,"",IF((VLOOKUP(A23,'All Meals'!$A$12:$S$62,15))="",0,(VLOOKUP(A23,'All Meals'!$A$12:$S$62,15)))) | H23: =IF(B23=0,"",IF((VLOOKUP(A23,'All Meals'!$A$12:$S$62,18))="",0,(VLOOKUP(A23,'All Meals'!$A$12:$S$62,18)))) | I23: =IF(B23=0,"",IF(E23="","No",IF(E23>=0.5,"Yes","No"))) | J23: =IF(B23=0,"",IF((VLOOKUP(A23,'All Meals'!$A$12:$S$62,4))="",0,(VLOOKUP(A23,'All Meals'!$A$12:$S$62,4)))) | K23: =IF(B23=0,"",IF((VLOOKUP(A23,'All Meals'!$A$12:$S$62,5))="",0,(VLOOKUP(A23,'All Meals'!$A$12:$S$62,5)))) | L23: =IF(B23=0,"",IF((VLOOKUP(A23,'All Meals'!$A$12:$S$62,6))="",0,(VLOOKUP(A23,'All Meals'!$A$12:$S$62,6)))) | M23: =IF(B23=0,"",IF(SUM(J23-L23)>=1,"Yes","No")) | N23: =IF(B23=0,"",IF((VLOOKUP(A23,'All Meals'!$A$12:$S$62,19))="",0,(VLOOKUP(A23,'All Meals'!$A$12:$S$62,19)))) | O23: =IF(B23=0,"",IF(N23="","No",IF(N23>=1,"Yes","No")))
A24: 1 | B24: =INDEX(meals,A24) -> 0 | C24: 18 | E24: =IF(B24=0,"",IF((VLOOKUP(A24,'All Meals'!$A$12:$S$62,9))="",0,(VLOOKUP(A24,'All Meals'!$A$12:$S$62,9)))) | F24: =IF(B24=0,"",IF((VLOOKUP(A24,'All Meals'!$A$12:$S$62,12))="",0,(VLOOKUP(A24,'All Meals'!$A$12:$S$62,12)))) | G24: =IF(B24=0,"",IF((VLOOKUP(A24,'All Meals'!$A$12:$S$62,15))="",0,(VLOOKUP(A24,'All Meals'!$A$12:$S$62,15)))) | H24: =IF(B24=0,"",IF((VLOOKUP(A24,'All Meals'!$A$12:$S$62,18))="",0,(VLOOKUP(A24,'All Meals'!$A$12:$S$62,18)))) | I24: =IF(B24=0,"",IF(E24="","No",IF(E24>=0.5,"Yes","No"))) | J24: =IF(B24=0,"",IF((VLOOKUP(A24,'All Meals'!$A$12:$S$62,4))="",0,(VLOOKUP(A24,'All Meals'!$A$12:$S$62,4)))) | K24: =IF(B24=0,"",IF((VLOOKUP(A24,'All Meals'!$A$12:$S$62,5))="",0,(VLOOKUP(A24,'All Meals'!$A$12:$S$62,5)))) | L24: =IF(B24=0,"",IF((VLOOKUP(A24,'All Meals'!$A$12:$S$62,6))="",0,(VLOOKUP(A24,'All Meals'!$A$12:$S$62,6)))) | M24: =IF(B24=0,"",IF(SUM(J24-L24)>=1,"Yes","No")) | N24: =IF(B24=0,"",IF((VLOOKUP(A24,'All Meals'!$A$12:$S$62,19))="",0,(VLOOKUP(A24,'All Meals'!$A$12:$S$62,19)))) | O24: =IF(B24=0,"",IF(N24="","No",IF(N24>=1,"Yes","No")))
A25: 1 | B25: =INDEX(meals,A25) -> 0 | C25: 19 | E25: =IF(B25=0,"",IF((VLOOKUP(A25,'All Meals'!$A$12:$S$62,9))="",0,(VLOOKUP(A25,'All Meals'!$A$12:$S$62,9)))) | F25: =IF(B25=0,"",IF((VLOOKUP(A25,'All Meals'!$A$12:$S$62,12))="",0,(VLOOKUP(A25,'All Meals'!$A$12:$S$62,12)))) | G25: =IF(B25=0,"",IF((VLOOKUP(A25,'All Meals'!$A$12:$S$62,15))="",0,(VLOOKUP(A25,'All Meals'!$A$12:$S$62,15)))) | H25: =IF(B25=0,"",IF((VLOOKUP(A25,'All Meals'!$A$12:$S$62,18))="",0,(VLOOKUP(A25,'All Meals'!$A$12:$S$62,18)))) | I25: =IF(B25=0,"",IF(E25="","No",IF(E25>=0.5,"Yes","No"))) | J25: =IF(B25=0,"",IF((VLOOKUP(A25,'All Meals'!$A$12:$S$62,4))="",0,(VLOOKUP(A25,'All Meals'!$A$12:$S$62,4)))) | K25: =IF(B25=0,"",IF((VLOOKUP(A25,'All Meals'!$A$12:$S$62,5))="",0,(VLOOKUP(A25,'All Meals'!$A$12:$S$62,5)))) | L25: =IF(B25=0,"",IF((VLOOKUP(A25,'All Meals'!$A$12:$S$62,6))="",0,(VLOOKUP(A25,'All Meals'!$A$12:$S$62,6)))) | M25: =IF(B25=0,"",IF(SUM(J25-L25)>=1,"Yes","No")) | N25: =IF(B25=0,"",IF((VLOOKUP(A25,'All Meals'!$A$12:$S$62,19))="",0,(VLOOKUP(A25,'All Meals'!$A$12:$S$62,19)))) | O25: =IF(B25=0,"",IF(N25="","No",IF(N25>=1,"Yes","No")))
A26: 1 | B26: =INDEX(meals,A26) -> 0 | C26: 20 | E26: =IF(B26=0,"",IF((VLOOKUP(A26,'All Meals'!$A$12:$S$62,9))="",0,(VLOOKUP(A26,'All Meals'!$A$12:$S$62,9)))) | F26: =IF(B26=0,"",IF((VLOOKUP(A26,'All Meals'!$A$12:$S$62,12))="",0,(VLOOKUP(A26,'All Meals'!$A$12:$S$62,12)))) | G26: =IF(B26=0,"",IF((VLOOKUP(A26,'All Meals'!$A$12:$S$62,15))="",0,(VLOOKUP(A26,'All Meals'!$A$12:$S$62,15)))) | H26: =IF(B26=0,"",IF((VLOOKUP(A26,'All Meals'!$A$12:$S$62,18))="",0,(VLOOKUP(A26,'All Meals'!$A$12:$S$62,18)))) | I26: =IF(B26=0,"",IF(E26="","No",IF(E26>=0.5,"Yes","No"))) | J26: =IF(B26=0,"",IF((VLOOKUP(A26,'All Meals'!$A$12:$S$62,4))="",0,(VLOOKUP(A26,'All Meals'!$A$12:$S$62,4)))) | K26: =IF(B26=0,"",IF((VLOOKUP(A26,'All Meals'!$A$12:$S$62,5))="",0,(VLOOKUP(A26,'All Meals'!$A$12:$S$62,5)))) | L26: =IF(B26=0,"",IF((VLOOKUP(A26,'All Meals'!$A$12:$S$62,6))="",0,(VLOOKUP(A26,'All Meals'!$A$12:$S$62,6)))) | M26: =IF(B26=0,"",IF(SUM(J26-L26)>=1,"Yes","No")) | N26: =IF(B26=0,"",IF((VLOOKUP(A26,'All Meals'!$A$12:$S$62,19))="",0,(VLOOKUP(A26,'All Meals'!$A$12:$S$62,19)))) | O26: =IF(B26=0,"",IF(N26="","No",IF(N26>=1,"Yes","No")))

Sheet Thursday
C1: Thursday Daily Breakfast Requirement Check | R1: Go to Weekly Report
C2: The daily worksheet will perform daily requirement checks for the reimbursable meals offered each day. Requirements met are flagged "Yes" and the cell turns green. Requirements NOT met are flagged "No" and the cell turns red. NOTE: The top row is frozen to display the column headers as the daily meals are entered. Grains are rounded down to the nearest quarter ounce. Once you are finished selecting the meals offered each day, make sure to scroll to the right to enter milk type information. | R2: Go to Instructions
A3: K-12 Menu #: | C3: Thursday
C4: Select the reimbursable breakfasts offered on Thursday | E4: Fruits / Vegetables / 100% Juice | J4: Grains All grains served in the SFSP must be whole grain, whole grain-rich or enriched. Cereal may be fortififed. | M4: Daily Grains Requirement Check (1 oz equivalent) | N4: Milk | P4: Milk Type Check the type of milk below if it is offered to students on Thursday. All types of milk included.
C5: Meal Name Note: You may not delete lines, if you want to clear a meal select the first blank in the drop down list | E5: Total fruit/ vegetable/ juice cups | F5: Cups of fruit/vegetable juice | G5: Cups of non-starchy vegetables | H5: Cups of starchy vegetables | I5: Daily Requirement Check (1/2 cup) | J5: Number of oz eq of GRAINS | K5: Number of oz eq of Whole Grain-Rich GRAINS | L5: Number of oz eq of Meats/Meat Alternates | N5: Milk cups | O5: Daily Milk Requirement Check (1 cup) | P5: Skim/fat-free, unflavored | U5: FALSE | W5: =IF(OR(U5=TRUE,U6=TRUE,U7=TRUE,U8=TRUE,U9=TRUE),"Yes","")
P6: Skim/fat-free, flavored | U6: FALSE
A7: 1 | B7: =INDEX(meals,A7) -> 0 | C7: 1 | E7: =IF(B7=0,"",IF((VLOOKUP(A7,'All Meals'!$A$12:$S$62,9))="",0,(VLOOKUP(A7,'All Meals'!$A$12:$S$62,9)))) | F7: =IF(B7=0,"",IF((VLOOKUP(A7,'All Meals'!$A$12:$S$62,12))="",0,(VLOOKUP(A7,'All Meals'!$A$12:$S$62,12)))) | G7: =IF(B7=0,"",IF((VLOOKUP(A7,'All Meals'!$A$12:$S$62,15))="",0,(VLOOKUP(A7,'All Meals'!$A$12:$S$62,15)))) | H7: =IF(B7=0,"",IF((VLOOKUP(A7,'All Meals'!$A$12:$S$62,18))="",0,(VLOOKUP(A7,'All Meals'!$A$12:$S$62,18)))) | I7: =IF(B7=0,"",IF(E7="","No",IF(E7>=0.5,"Yes","No"))) | J7: =IF(B7=0,"",IF((VLOOKUP(A7,'All Meals'!$A$12:$S$62,4))="",0,(VLOOKUP(A7,'All Meals'!$A$12:$S$62,4)))) | K7: =IF(B7=0,"",IF((VLOOKUP(A7,'All Meals'!$A$12:$S$62,5))="",0,(VLOOKUP(A7,'All Meals'!$A$12:$S$62,5)))) | L7: =IF(B7=0,"",IF((VLOOKUP(A7,'All Meals'!$A$12:$S$62,6))="",0,(VLOOKUP(A7,'All Meals'!$A$12:$S$62,6)))) | M7: =IF(B7=0,"",IF(SUM(J7-L7)>=1,"Yes","No")) | N7: =IF(B7=0,"",IF((VLOOKUP(A7,'All Meals'!$A$12:$S$62,19))="",0,(VLOOKUP(A7,'All Meals'!$A$12:$S$62,19)))) | O7: =IF(B7=0,"",IF(N7="","No",IF(N7>=1,"Yes","No"))) | P7: Low-fat (1% or less), unflavored | U7: FALSE
A8: 1 | B8: =INDEX(meals,A8) -> 0 | C8: 2 | E8: =IF(B8=0,"",IF((VLOOKUP(A8,'All Meals'!$A$12:$S$62,9))="",0,(VLOOKUP(A8,'All Meals'!$A$12:$S$62,9)))) | F8: =IF(B8=0,"",IF((VLOOKUP(A8,'All Meals'!$A$12:$S$62,12))="",0,(VLOOKUP(A8,'All Meals'!$A$12:$S$62,12)))) | G8: =IF(B8=0,"",IF((VLOOKUP(A8,'All Meals'!$A$12:$S$62,15))="",0,(VLOOKUP(A8,'All Meals'!$A$12:$S$62,15)))) | H8: =IF(B8=0,"",IF((VLOOKUP(A8,'All Meals'!$A$12:$S$62,18))="",0,(VLOOKUP(A8,'All Meals'!$A$12:$S$62,18)))) | I8: =IF(B8=0,"",IF(E8="","No",IF(E8>=0.5,"Yes","No"))) | J8: =IF(B8=0,"",IF((VLOOKUP(A8,'All Meals'!$A$12:$S$62,4))="",0,(VLOOKUP(A8,'All Meals'!$A$12:$S$62,4)))) | K8: =IF(B8=0,"",IF((VLOOKUP(A8,'All Meals'!$A$12:$S$62,5))="",0,(VLOOKUP(A8,'All Meals'!$A$12:$S$62,5)))) | L8: =IF(B8=0,"",IF((VLOOKUP(A8,'All Meals'!$A$12:$S$62,6))="",0,(VLOOKUP(A8,'All Meals'!$A$12:$S$62,6)))) | M8: =IF(B8=0,"",IF(SUM(J8-L8)>=1,"Yes","No")) | N8: =IF(B8=0,"",IF((VLOOKUP(A8,'All Meals'!$A$12:$S$62,19))="",0,(VLOOKUP(A8,'All Meals'!$A$12:$S$62,19)))) | O8: =IF(B8=0,"",IF(N8="","No",IF(N8>=1,"Yes","No"))) | P8: Low-fat (1% or less), flavored | U8: FALSE
A9: 1 | B9: =INDEX(meals,A9) -> 0 | C9: 3 | E9: =IF(B9=0,"",IF((VLOOKUP(A9,'All Meals'!$A$12:$S$62,9))="",0,(VLOOKUP(A9,'All Meals'!$A$12:$S$62,9)))) | F9: =IF(B9=0,"",IF((VLOOKUP(A9,'All Meals'!$A$12:$S$62,12))="",0,(VLOOKUP(A9,'All Meals'!$A$12:$S$62,12)))) | G9: =IF(B9=0,"",IF((VLOOKUP(A9,'All Meals'!$A$12:$S$62,15))="",0,(VLOOKUP(A9,'All Meals'!$A$12:$S$62,15)))) | H9: =IF(B9=0,"",IF((VLOOKUP(A9,'All Meals'!$A$12:$S$62,18))="",0,(VLOOKUP(A9,'All Meals'!$A$12:$S$62,18)))) | I9: =IF(B9=0,"",IF(E9="","No",IF(E9>=0.5,"Yes","No"))) | J9: =IF(B9=0,"",IF((VLOOKUP(A9,'All Meals'!$A$12:$S$62,4))="",0,(VLOOKUP(A9,'All Meals'!$A$12:$S$62,4)))) | K9: =IF(B9=0,"",IF((VLOOKUP(A9,'All Meals'!$A$12:$S$62,5))="",0,(VLOOKUP(A9,'All Meals'!$A$12:$S$62,5)))) | L9: =IF(B9=0,"",IF((VLOOKUP(A9,'All Meals'!$A$12:$S$62,6))="",0,(VLOOKUP(A9,'All Meals'!$A$12:$S$62,6)))) | M9: =IF(B9=0,"",IF(SUM(J9-L9)>=1,"Yes","No")) | N9: =IF(B9=0,"",IF((VLOOKUP(A9,'All Meals'!$A$12:$S$62,19))="",0,(VLOOKUP(A9,'All Meals'!$A$12:$S$62,19)))) | O9: =IF(B9=0,"",IF(N9="","No",IF(N9>=1,"Yes","No"))) | P9: Reduced fat (2% fat) or whole, unflavored and flavored | U9: FALSE
A10: 1 | B10: =INDEX(meals,A10) -> 0 | C10: 4 | E10: =IF(B10=0,"",IF((VLOOKUP(A10,'All Meals'!$A$12:$S$62,9))="",0,(VLOOKUP(A10,'All Meals'!$A$12:$S$62,9)))) | F10: =IF(B10=0,"",IF((VLOOKUP(A10,'All Meals'!$A$12:$S$62,12))="",0,(VLOOKUP(A10,'All Meals'!$A$12:$S$62,12)))) | G10: =IF(B10=0,"",IF((VLOOKUP(A10,'All Meals'!$A$12:$S$62,15))="",0,(VLOOKUP(A10,'All Meals'!$A$12:$S$62,15)))) | H10: =IF(B10=0,"",IF((VLOOKUP(A10,'All Meals'!$A$12:$S$62,18))="",0,(VLOOKUP(A10,'All Meals'!$A$12:$S$62,18)))) | I10: =IF(B10=0,"",IF(E10="","No",IF(E10>=0.5,"Yes","No"))) | J10: =IF(B10=0,"",IF((VLOOKUP(A10,'All Meals'!$A$12:$S$62,4))="",0,(VLOOKUP(A10,'All Meals'!$A$12:$S$62,4)))) | K10: =IF(B10=0,"",IF((VLOOKUP(A10,'All Meals'!$A$12:$S$62,5))="",0,(VLOOKUP(A10,'All Meals'!$A$12:$S$62,5)))) | L10: =IF(B10=0,"",IF((VLOOKUP(A10,'All Meals'!$A$12:$S$62,6))="",0,(VLOOKUP(A10,'All Meals'!$A$12:$S$62,6)))) | M10: =IF(B10=0,"",IF(SUM(J10-L10)>=1,"Yes","No")) | N10: =IF(B10=0,"",IF((VLOOKUP(A10,'All Meals'!$A$12:$S$62,19))="",0,(VLOOKUP(A10,'All Meals'!$A$12:$S$62,19)))) | O10: =IF(B10=0,"",IF(N10="","No",IF(N10>=1,"Yes","No")))
A11: 1 | B11: =INDEX(meals,A11) -> 0 | C11: 5 | E11: =IF(B11=0,"",IF((VLOOKUP(A11,'All Meals'!$A$12:$S$62,9))="",0,(VLOOKUP(A11,'All Meals'!$A$12:$S$62,9)))) | F11: =IF(B11=0,"",IF((VLOOKUP(A11,'All Meals'!$A$12:$S$62,12))="",0,(VLOOKUP(A11,'All Meals'!$A$12:$S$62,12)))) | G11: =IF(B11=0,"",IF((VLOOKUP(A11,'All Meals'!$A$12:$S$62,15))="",0,(VLOOKUP(A11,'All Meals'!$A$12:$S$62,15)))) | H11: =IF(B11=0,"",IF((VLOOKUP(A11,'All Meals'!$A$12:$S$62,18))="",0,(VLOOKUP(A11,'All Meals'!$A$12:$S$62,18)))) | I11: =IF(B11=0,"",IF(E11="","No",IF(E11>=0.5,"Yes","No"))) | J11: =IF(B11=0,"",IF((VLOOKUP(A11,'All Meals'!$A$12:$S$62,4))="",0,(VLOOKUP(A11,'All Meals'!$A$12:$S$62,4)))) | K11: =IF(B11=0,"",IF((VLOOKUP(A11,'All Meals'!$A$12:$S$62,5))="",0,(VLOOKUP(A11,'All Meals'!$A$12:$S$62,5)))) | L11: =IF(B11=0,"",IF((VLOOKUP(A11,'All Meals'!$A$12:$S$62,6))="",0,(VLOOKUP(A11,'All Meals'!$A$12:$S$62,6)))) | M11: =IF(B11=0,"",IF(SUM(J11-L11)>=1,"Yes","No")) | N11: =IF(B11=0,"",IF((VLOOKUP(A11,'All Meals'!$A$12:$S$62,19))="",0,(VLOOKUP(A11,'All Meals'!$A$12:$S$62,19)))) | O11: =IF(B11=0,"",IF(N11="","No",IF(N11>=1,"Yes","No"))) | Q11: OPTIONAL Tools to Assist in Fraction and Decimal Calculations
A12: 1 | B12: =INDEX(meals,A12) -> 0 | C12: 6 | E12: =IF(B12=0,"",IF((VLOOKUP(A12,'All Meals'!$A$12:$S$62,9))="",0,(VLOOKUP(A12,'All Meals'!$A$12:$S$62,9)))) | F12: =IF(B12=0,"",IF((VLOOKUP(A12,'All Meals'!$A$12:$S$62,12))="",0,(VLOOKUP(A12,'All Meals'!$A$12:$S$62,12)))) | G12: =IF(B12=0,"",IF((VLOOKUP(A12,'All Meals'!$A$12:$S$62,15))="",0,(VLOOKUP(A12,'All Meals'!$A$12:$S$62,15)))) | H12: =IF(B12=0,"",IF((VLOOKUP(A12,'All Meals'!$A$12:$S$62,18))="",0,(VLOOKUP(A12,'All Meals'!$A$12:$S$62,18)))) | I12: =IF(B12=0,"",IF(E12="","No",IF(E12>=0.5,"Yes","No"))) | J12: =IF(B12=0,"",IF((VLOOKUP(A12,'All Meals'!$A$12:$S$62,4))="",0,(VLOOKUP(A12,'All Meals'!$A$12:$S$62,4)))) | K12: =IF(B12=0,"",IF((VLOOKUP(A12,'All Meals'!$A$12:$S$62,5))="",0,(VLOOKUP(A12,'All Meals'!$A$12:$S$62,5)))) | L12: =IF(B12=0,"",IF((VLOOKUP(A12,'All Meals'!$A$12:$S$62,6))="",0,(VLOOKUP(A12,'All Meals'!$A$12:$S$62,6)))) | M12: =IF(B12=0,"",IF(SUM(J12-L12)>=1,"Yes","No")) | N12: =IF(B12=0,"",IF((VLOOKUP(A12,'All Meals'!$A$12:$S$62,19))="",0,(VLOOKUP(A12,'All Meals'!$A$12:$S$62,19)))) | O12: =IF(B12=0,"",IF(N12="","No",IF(N12>=1,"Yes","No")))
A13: 1 | B13: =INDEX(meals,A13) -> 0 | C13: 7 | E13: =IF(B13=0,"",IF((VLOOKUP(A13,'All Meals'!$A$12:$S$62,9))="",0,(VLOOKUP(A13,'All Meals'!$A$12:$S$62,9)))) | F13: =IF(B13=0,"",IF((VLOOKUP(A13,'All Meals'!$A$12:$S$62,12))="",0,(VLOOKUP(A13,'All Meals'!$A$12:$S$62,12)))) | G13: =IF(B13=0,"",IF((VLOOKUP(A13,'All Meals'!$A$12:$S$62,15))="",0,(VLOOKUP(A13,'All Meals'!$A$12:$S$62,15)))) | H13: =IF(B13=0,"",IF((VLOOKUP(A13,'All Meals'!$A$12:$S$62,18))="",0,(VLOOKUP(A13,'All Meals'!$A$12:$S$62,18)))) | I13: =IF(B13=0,"",IF(E13="","No",IF(E13>=0.5,"Yes","No"))) | J13: =IF(B13=0,"",IF((VLOOKUP(A13,'All Meals'!$A$12:$S$62,4))="",0,(VLOOKUP(A13,'All Meals'!$A$12:$S$62,4)))) | K13: =IF(B13=0,"",IF((VLOOKUP(A13,'All Meals'!$A$12:$S$62,5))="",0,(VLOOKUP(A13,'All Meals'!$A$12:$S$62,5)))) | L13: =IF(B13=0,"",IF((VLOOKUP(A13,'All Meals'!$A$12:$S$62,6))="",0,(VLOOKUP(A13,'All Meals'!$A$12:$S$62,6)))) | M13: =IF(B13=0,"",IF(SUM(J13-L13)>=1,"Yes","No")) | N13: =IF(B13=0,"",IF((VLOOKUP(A13,'All Meals'!$A$12:$S$62,19))="",0,(VLOOKUP(A13,'All Meals'!$A$12:$S$62,19)))) | O13: =IF(B13=0,"",IF(N13="","No",IF(N13>=1,"Yes","No"))) | Q13: Fraction Calculator: Use this calculator to add the number of cups. | T13: 1 | U13: =INDEX(Cups,T13) -> 0
A14: 1 | B14: =INDEX(meals,A14) -> 0 | C14: 8 | E14: =IF(B14=0,"",IF((VLOOKUP(A14,'All Meals'!$A$12:$S$62,9))="",0,(VLOOKUP(A14,'All Meals'!$A$12:$S$62,9)))) | F14: =IF(B14=0,"",IF((VLOOKUP(A14,'All Meals'!$A$12:$S$62,12))="",0,(VLOOKUP(A14,'All Meals'!$A$12:$S$62,12)))) | G14: =IF(B14=0,"",IF((VLOOKUP(A14,'All Meals'!$A$12:$S$62,15))="",0,(VLOOKUP(A14,'All Meals'!$A$12:$S$62,15)))) | H14: =IF(B14=0,"",IF((VLOOKUP(A14,'All Meals'!$A$12:$S$62,18))="",0,(VLOOKUP(A14,'All Meals'!$A$12:$S$62,18)))) | I14: =IF(B14=0,"",IF(E14="","No",IF(E14>=0.5,"Yes","No"))) | J14: =IF(B14=0,"",IF((VLOOKUP(A14,'All Meals'!$A$12:$S$62,4))="",0,(VLOOKUP(A14,'All Meals'!$A$12:$S$62,4)))) | K14: =IF(B14=0,"",IF((VLOOKUP(A14,'All Meals'!$A$12:$S$62,5))="",0,(VLOOKUP(A14,'All Meals'!$A$12:$S$62,5)))) | L14: =IF(B14=0,"",IF((VLOOKUP(A14,'All Meals'!$A$12:$S$62,6))="",0,(VLOOKUP(A14,'All Meals'!$A$12:$S$62,6)))) | M14: =IF(B14=0,"",IF(SUM(J14-L14)>=1,"Yes","No")) | N14: =IF(B14=0,"",IF((VLOOKUP(A14,'All Meals'!$A$12:$S$62,19))="",0,(VLOOKUP(A14,'All Meals'!$A$12:$S$62,19)))) | O14: =IF(B14=0,"",IF(N14="","No",IF(N14>=1,"Yes","No"))) | T14: 1 | U14: =INDEX(Cups,T14) -> 0
A15: 1 | B15: =INDEX(meals,A15) -> 0 | C15: 9 | E15: =IF(B15=0,"",IF((VLOOKUP(A15,'All Meals'!$A$12:$S$62,9))="",0,(VLOOKUP(A15,'All Meals'!$A$12:$S$62,9)))) | F15: =IF(B15=0,"",IF((VLOOKUP(A15,'All Meals'!$A$12:$S$62,12))="",0,(VLOOKUP(A15,'All Meals'!$A$12:$S$62,12)))) | G15: =IF(B15=0,"",IF((VLOOKUP(A15,'All Meals'!$A$12:$S$62,15))="",0,(VLOOKUP(A15,'All Meals'!$A$12:$S$62,15)))) | H15: =IF(B15=0,"",IF((VLOOKUP(A15,'All Meals'!$A$12:$S$62,18))="",0,(VLOOKUP(A15,'All Meals'!$A$12:$S$62,18)))) | I15: =IF(B15=0,"",IF(E15="","No",IF(E15>=0.5,"Yes","No"))) | J15: =IF(B15=0,"",IF((VLOOKUP(A15,'All Meals'!$A$12:$S$62,4))="",0,(VLOOKUP(A15,'All Meals'!$A$12:$S$62,4)))) | K15: =IF(B15=0,"",IF((VLOOKUP(A15,'All Meals'!$A$12:$S$62,5))="",0,(VLOOKUP(A15,'All Meals'!$A$12:$S$62,5)))) | L15: =IF(B15=0,"",IF((VLOOKUP(A15,'All Meals'!$A$12:$S$62,6))="",0,(VLOOKUP(A15,'All Meals'!$A$12:$S$62,6)))) | M15: =IF(B15=0,"",IF(SUM(J15-L15)>=1,"Yes","No")) | N15: =IF(B15=0,"",IF((VLOOKUP(A15,'All Meals'!$A$12:$S$62,19))="",0,(VLOOKUP(A15,'All Meals'!$A$12:$S$62,19)))) | O15: =IF(B15=0,"",IF(N15="","No",IF(N15>=1,"Yes","No"))) | T15: 1 | U15: =INDEX(Cups,T15) -> 0
A16: 1 | B16: =INDEX(meals,A16) -> 0 | C16: 10 | E16: =IF(B16=0,"",IF((VLOOKUP(A16,'All Meals'!$A$12:$S$62,9))="",0,(VLOOKUP(A16,'All Meals'!$A$12:$S$62,9)))) | F16: =IF(B16=0,"",IF((VLOOKUP(A16,'All Meals'!$A$12:$S$62,12))="",0,(VLOOKUP(A16,'All Meals'!$A$12:$S$62,12)))) | G16: =IF(B16=0,"",IF((VLOOKUP(A16,'All Meals'!$A$12:$S$62,15))="",0,(VLOOKUP(A16,'All Meals'!$A$12:$S$62,15)))) | H16: =IF(B16=0,"",IF((VLOOKUP(A16,'All Meals'!$A$12:$S$62,18))="",0,(VLOOKUP(A16,'All Meals'!$A$12:$S$62,18)))) | I16: =IF(B16=0,"",IF(E16="","No",IF(E16>=0.5,"Yes","No"))) | J16: =IF(B16=0,"",IF((VLOOKUP(A16,'All Meals'!$A$12:$S$62,4))="",0,(VLOOKUP(A16,'All Meals'!$A$12:$S$62,4)))) | K16: =IF(B16=0,"",IF((VLOOKUP(A16,'All Meals'!$A$12:$S$62,5))="",0,(VLOOKUP(A16,'All Meals'!$A$12:$S$62,5)))) | L16: =IF(B16=0,"",IF((VLOOKUP(A16,'All Meals'!$A$12:$S$62,6))="",0,(VLOOKUP(A16,'All Meals'!$A$12:$S$62,6)))) | M16: =IF(B16=0,"",IF(SUM(J16-L16)>=1,"Yes","No")) | N16: =IF(B16=0,"",IF((VLOOKUP(A16,'All Meals'!$A$12:$S$62,19))="",0,(VLOOKUP(A16,'All Meals'!$A$12:$S$62,19)))) | O16: =IF(B16=0,"",IF(N16="","No",IF(N16>=1,"Yes","No"))) | T16: 1 | U16: =INDEX(Cups,T16) -> 0
A17: 1 | B17: =INDEX(meals,A17) -> 0 | C17: 11 | E17: =IF(B17=0,"",IF((VLOOKUP(A17,'All Meals'!$A$12:$S$62,9))="",0,(VLOOKUP(A17,'All Meals'!$A$12:$S$62,9)))) | F17: =IF(B17=0,"",IF((VLOOKUP(A17,'All Meals'!$A$12:$S$62,12))="",0,(VLOOKUP(A17,'All Meals'!$A$12:$S$62,12)))) | G17: =IF(B17=0,"",IF((VLOOKUP(A17,'All Meals'!$A$12:$S$62,15))="",0,(VLOOKUP(A17,'All Meals'!$A$12:$S$62,15)))) | H17: =IF(B17=0,"",IF((VLOOKUP(A17,'All Meals'!$A$12:$S$62,18))="",0,(VLOOKUP(A17,'All Meals'!$A$12:$S$62,18)))) | I17: =IF(B17=0,"",IF(E17="","No",IF(E17>=0.5,"Yes","No"))) | J17: =IF(B17=0,"",IF((VLOOKUP(A17,'All Meals'!$A$12:$S$62,4))="",0,(VLOOKUP(A17,'All Meals'!$A$12:$S$62,4)))) | K17: =IF(B17=0,"",IF((VLOOKUP(A17,'All Meals'!$A$12:$S$62,5))="",0,(VLOOKUP(A17,'All Meals'!$A$12:$S$62,5)))) | L17: =IF(B17=0,"",IF((VLOOKUP(A17,'All Meals'!$A$12:$S$62,6))="",0,(VLOOKUP(A17,'All Meals'!$A$12:$S$62,6)))) | M17: =IF(B17=0,"",IF(SUM(J17-L17)>=1,"Yes","No")) | N17: =IF(B17=0,"",IF((VLOOKUP(A17,'All Meals'!$A$12:$S$62,19))="",0,(VLOOKUP(A17,'All Meals'!$A$12:$S$62,19)))) | O17: =IF(B17=0,"",IF(N17="","No",IF(N17>=1,"Yes","No"))) | T17: 1 | U17: =INDEX(Cups,T17) -> 0
A18: 1 | B18: =INDEX(meals,A18) -> 0 | C18: 12 | E18: =IF(B18=0,"",IF((VLOOKUP(A18,'All Meals'!$A$12:$S$62,9))="",0,(VLOOKUP(A18,'All Meals'!$A$12:$S$62,9)))) | F18: =IF(B18=0,"",IF((VLOOKUP(A18,'All Meals'!$A$12:$S$62,12))="",0,(VLOOKUP(A18,'All Meals'!$A$12:$S$62,12)))) | G18: =IF(B18=0,"",IF((VLOOKUP(A18,'All Meals'!$A$12:$S$62,15))="",0,(VLOOKUP(A18,'All Meals'!$A$12:$S$62,15)))) | H18: =IF(B18=0,"",IF((VLOOKUP(A18,'All Meals'!$A$12:$S$62,18))="",0,(VLOOKUP(A18,'All Meals'!$A$12:$S$62,18)))) | I18: =IF(B18=0,"",IF(E18="","No",IF(E18>=0.5,"Yes","No"))) | J18: =IF(B18=0,"",IF((VLOOKUP(A18,'All Meals'!$A$12:$S$62,4))="",0,(VLOOKUP(A18,'All Meals'!$A$12:$S$62,4)))) | K18: =IF(B18=0,"",IF((VLOOKUP(A18,'All Meals'!$A$12:$S$62,5))="",0,(VLOOKUP(A18,'All Meals'!$A$12:$S$62,5)))) | L18: =IF(B18=0,"",IF((VLOOKUP(A18,'All Meals'!$A$12:$S$62,6))="",0,(VLOOKUP(A18,'All Meals'!$A$12:$S$62,6)))) | M18: =IF(B18=0,"",IF(SUM(J18-L18)>=1,"Yes","No")) | N18: =IF(B18=0,"",IF((VLOOKUP(A18,'All Meals'!$A$12:$S$62,19))="",0,(VLOOKUP(A18,'All Meals'!$A$12:$S$62,19)))) | O18: =IF(B18=0,"",IF(N18="","No",IF(N18>=1,"Yes","No"))) | V18: =SUM(U13:U17) -> 0
A19: 1 | B19: =INDEX(meals,A19) -> 0 | C19: 13 | E19: =IF(B19=0,"",IF((VLOOKUP(A19,'All Meals'!$A$12:$S$62,9))="",0,(VLOOKUP(A19,'All Meals'!$A$12:$S$62,9)))) | F19: =IF(B19=0,"",IF((VLOOKUP(A19,'All Meals'!$A$12:$S$62,12))="",0,(VLOOKUP(A19,'All Meals'!$A$12:$S$62,12)))) | G19: =IF(B19=0,"",IF((VLOOKUP(A19,'All Meals'!$A$12:$S$62,15))="",0,(VLOOKUP(A19,'All Meals'!$A$12:$S$62,15)))) | H19: =IF(B19=0,"",IF((VLOOKUP(A19,'All Meals'!$A$12:$S$62,18))="",0,(VLOOKUP(A19,'All Meals'!$A$12:$S$62,18)))) | I19: =IF(B19=0,"",IF(E19="","No",IF(E19>=0.5,"Yes","No"))) | J19: =IF(B19=0,"",IF((VLOOKUP(A19,'All Meals'!$A$12:$S$62,4))="",0,(VLOOKUP(A19,'All Meals'!$A$12:$S$62,4)))) | K19: =IF(B19=0,"",IF((VLOOKUP(A19,'All Meals'!$A$12:$S$62,5))="",0,(VLOOKUP(A19,'All Meals'!$A$12:$S$62,5)))) | L19: =IF(B19=0,"",IF((VLOOKUP(A19,'All Meals'!$A$12:$S$62,6))="",0,(VLOOKUP(A19,'All Meals'!$A$12:$S$62,6)))) | M19: =IF(B19=0,"",IF(SUM(J19-L19)>=1,"Yes","No")) | N19: =IF(B19=0,"",IF((VLOOKUP(A19,'All Meals'!$A$12:$S$62,19))="",0,(VLOOKUP(A19,'All Meals'!$A$12:$S$62,19)))) | O19: =IF(B19=0,"",IF(N19="","No",IF(N19>=1,"Yes","No"))) | Q19: Decimal/Fraction Converter (Rounded down to the nearest 1/8)
A20: 1 | B20: =INDEX(meals,A20) -> 0 | C20: 14 | E20: =IF(B20=0,"",IF((VLOOKUP(A20,'All Meals'!$A$12:$S$62,9))="",0,(VLOOKUP(A20,'All Meals'!$A$12:$S$62,9)))) | F20: =IF(B20=0,"",IF((VLOOKUP(A20,'All Meals'!$A$12:$S$62,12))="",0,(VLOOKUP(A20,'All Meals'!$A$12:$S$62,12)))) | G20: =IF(B20=0,"",IF((VLOOKUP(A20,'All Meals'!$A$12:$S$62,15))="",0,(VLOOKUP(A20,'All Meals'!$A$12:$S$62,15)))) | H20: =IF(B20=0,"",IF((VLOOKUP(A20,'All Meals'!$A$12:$S$62,18))="",0,(VLOOKUP(A20,'All Meals'!$A$12:$S$62,18)))) | I20: =IF(B20=0,"",IF(E20="","No",IF(E20>=0.5,"Yes","No"))) | J20: =IF(B20=0,"",IF((VLOOKUP(A20,'All Meals'!$A$12:$S$62,4))="",0,(VLOOKUP(A20,'All Meals'!$A$12:$S$62,4)))) | K20: =IF(B20=0,"",IF((VLOOKUP(A20,'All Meals'!$A$12:$S$62,5))="",0,(VLOOKUP(A20,'All Meals'!$A$12:$S$62,5)))) | L20: =IF(B20=0,"",IF((VLOOKUP(A20,'All Meals'!$A$12:$S$62,6))="",0,(VLOOKUP(A20,'All Meals'!$A$12:$S$62,6)))) | M20: =IF(B20=0,"",IF(SUM(J20-L20)>=1,"Yes","No")) | N20: =IF(B20=0,"",IF((VLOOKUP(A20,'All Meals'!$A$12:$S$62,19))="",0,(VLOOKUP(A20,'All Meals'!$A$12:$S$62,19)))) | O20: =IF(B20=0,"",IF(N20="","No",IF(N20>=1,"Yes","No"))) | Q20: Enter the decimal you wish to convert to a fraction in the box:
A21: 1 | B21: =INDEX(meals,A21) -> 0 | C21: 15 | E21: =IF(B21=0,"",IF((VLOOKUP(A21,'All Meals'!$A$12:$S$62,9))="",0,(VLOOKUP(A21,'All Meals'!$A$12:$S$62,9)))) | F21: =IF(B21=0,"",IF((VLOOKUP(A21,'All Meals'!$A$12:$S$62,12))="",0,(VLOOKUP(A21,'All Meals'!$A$12:$S$62,12)))) | G21: =IF(B21=0,"",IF((VLOOKUP(A21,'All Meals'!$A$12:$S$62,15))="",0,(VLOOKUP(A21,'All Meals'!$A$12:$S$62,15)))) | H21: =IF(B21=0,"",IF((VLOOKUP(A21,'All Meals'!$A$12:$S$62,18))="",0,(VLOOKUP(A21,'All Meals'!$A$12:$S$62,18)))) | I21: =IF(B21=0,"",IF(E21="","No",IF(E21>=0.5,"Yes","No"))) | J21: =IF(B21=0,"",IF((VLOOKUP(A21,'All Meals'!$A$12:$S$62,4))="",0,(VLOOKUP(A21,'All Meals'!$A$12:$S$62,4)))) | K21: =IF(B21=0,"",IF((VLOOKUP(A21,'All Meals'!$A$12:$S$62,5))="",0,(VLOOKUP(A21,'All Meals'!$A$12:$S$62,5)))) | L21: =IF(B21=0,"",IF((VLOOKUP(A21,'All Meals'!$A$12:$S$62,6))="",0,(VLOOKUP(A21,'All Meals'!$A$12:$S$62,6)))) | M21: =IF(B21=0,"",IF(SUM(J21-L21)>=1,"Yes","No")) | N21: =IF(B21=0,"",IF((VLOOKUP(A21,'All Meals'!$A$12:$S$62,19))="",0,(VLOOKUP(A21,'All Meals'!$A$12:$S$62,19)))) | O21: =IF(B21=0,"",IF(N21="","No",IF(N21>=1,"Yes","No")))
A22: 1 | B22: =INDEX(meals,A22) -> 0 | C22: 16 | E22: =IF(B22=0,"",IF((VLOOKUP(A22,'All Meals'!$A$12:$S$62,9))="",0,(VLOOKUP(A22,'All Meals'!$A$12:$S$62,9)))) | F22: =IF(B22=0,"",IF((VLOOKUP(A22,'All Meals'!$A$12:$S$62,12))="",0,(VLOOKUP(A22,'All Meals'!$A$12:$S$62,12)))) | G22: =IF(B22=0,"",IF((VLOOKUP(A22,'All Meals'!$A$12:$S$62,15))="",0,(VLOOKUP(A22,'All Meals'!$A$12:$S$62,15)))) | H22: =IF(B22=0,"",IF((VLOOKUP(A22,'All Meals'!$A$12:$S$62,18))="",0,(VLOOKUP(A22,'All Meals'!$A$12:$S$62,18)))) | I22: =IF(B22=0,"",IF(E22="","No",IF(E22>=0.5,"Yes","No"))) | J22: =IF(B22=0,"",IF((VLOOKUP(A22,'All Meals'!$A$12:$S$62,4))="",0,(VLOOKUP(A22,'All Meals'!$A$12:$S$62,4)))) | K22: =IF(B22=0,"",IF((VLOOKUP(A22,'All Meals'!$A$12:$S$62,5))="",0,(VLOOKUP(A22,'All Meals'!$A$12:$S$62,5)))) | L22: =IF(B22=0,"",IF((VLOOKUP(A22,'All Meals'!$A$12:$S$62,6))="",0,(VLOOKUP(A22,'All Meals'!$A$12:$S$62,6)))) | M22: =IF(B22=0,"",IF(SUM(J22-L22)>=1,"Yes","No")) | N22: =IF(B22=0,"",IF((VLOOKUP(A22,'All Meals'!$A$12:$S$62,19))="",0,(VLOOKUP(A22,'All Meals'!$A$12:$S$62,19)))) | O22: =IF(B22=0,"",IF(N22="","No",IF(N22>=1,"Yes","No"))) | Q22: The decimal entered above has been converted to the following fraction: | V22: =FLOOR(V20,0.125) -> 0
A23: 1 | B23: =INDEX(meals,A23) -> 0 | C23: 17 | E23: =IF(B23=0,"",IF((VLOOKUP(A23,'All Meals'!$A$12:$S$62,9))="",0,(VLOOKUP(A23,'All Meals'!$A$12:$S$62,9)))) | F23: =IF(B23=0,"",IF((VLOOKUP(A23,'All Meals'!$A$12:$S$62,12))="",0,(VLOOKUP(A23,'All Meals'!$A$12:$S$62,12)))) | G23: =IF(B23=0,"",IF((VLOOKUP(A23,'All Meals'!$A$12:$S$62,15))="",0,(VLOOKUP(A23,'All Meals'!$A$12:$S$62,15)))) | H23: =IF(B23=0,"",IF((VLOOKUP(A23,'All Meals'!$A$12:$S$62,18))="",0,(VLOOKUP(A23,'All Meals'!$A$12:$S$62,18)))) | I23: =IF(B23=0,"",IF(E23="","No",IF(E23>=0.5,"Yes","No"))) | J23: =IF(B23=0,"",IF((VLOOKUP(A23,'All Meals'!$A$12:$S$62,4))="",0,(VLOOKUP(A23,'All Meals'!$A$12:$S$62,4)))) | K23: =IF(B23=0,"",IF((VLOOKUP(A23,'All Meals'!$A$12:$S$62,5))="",0,(VLOOKUP(A23,'All Meals'!$A$12:$S$62,5)))) | L23: =IF(B23=0,"",IF((VLOOKUP(A23,'All Meals'!$A$12:$S$62,6))="",0,(VLOOKUP(A23,'All Meals'!$A$12:$S$62,6)))) | M23: =IF(B23=0,"",IF(SUM(J23-L23)>=1,"Yes","No")) | N23: =IF(B23=0,"",IF((VLOOKUP(A23,'All Meals'!$A$12:$S$62,19))="",0,(VLOOKUP(A23,'All Meals'!$A$12:$S$62,19)))) | O23: =IF(B23=0,"",IF(N23="","No",IF(N23>=1,"Yes","No")))
A24: 1 | B24: =INDEX(meals,A24) -> 0 | C24: 18 | E24: =IF(B24=0,"",IF((VLOOKUP(A24,'All Meals'!$A$12:$S$62,9))="",0,(VLOOKUP(A24,'All Meals'!$A$12:$S$62,9)))) | F24: =IF(B24=0,"",IF((VLOOKUP(A24,'All Meals'!$A$12:$S$62,12))="",0,(VLOOKUP(A24,'All Meals'!$A$12:$S$62,12)))) | G24: =IF(B24=0,"",IF((VLOOKUP(A24,'All Meals'!$A$12:$S$62,15))="",0,(VLOOKUP(A24,'All Meals'!$A$12:$S$62,15)))) | H24: =IF(B24=0,"",IF((VLOOKUP(A24,'All Meals'!$A$12:$S$62,18))="",0,(VLOOKUP(A24,'All Meals'!$A$12:$S$62,18)))) | I24: =IF(B24=0,"",IF(E24="","No",IF(E24>=0.5,"Yes","No"))) | J24: =IF(B24=0,"",IF((VLOOKUP(A24,'All Meals'!$A$12:$S$62,4))="",0,(VLOOKUP(A24,'All Meals'!$A$12:$S$62,4)))) | K24: =IF(B24=0,"",IF((VLOOKUP(A24,'All Meals'!$A$12:$S$62,5))="",0,(VLOOKUP(A24,'All Meals'!$A$12:$S$62,5)))) | L24: =IF(B24=0,"",IF((VLOOKUP(A24,'All Meals'!$A$12:$S$62,6))="",0,(VLOOKUP(A24,'All Meals'!$A$12:$S$62,6)))) | M24: =IF(B24=0,"",IF(SUM(J24-L24)>=1,"Yes","No")) | N24: =IF(B24=0,"",IF((VLOOKUP(A24,'All Meals'!$A$12:$S$62,19))="",0,(VLOOKUP(A24,'All Meals'!$A$12:$S$62,19)))) | O24: =IF(B24=0,"",IF(N24="","No",IF(N24>=1,"Yes","No")))
A25: 1 | B25: =INDEX(meals,A25) -> 0 | C25: 19 | E25: =IF(B25=0,"",IF((VLOOKUP(A25,'All Meals'!$A$12:$S$62,9))="",0,(VLOOKUP(A25,'All Meals'!$A$12:$S$62,9)))) | F25: =IF(B25=0,"",IF((VLOOKUP(A25,'All Meals'!$A$12:$S$62,12))="",0,(VLOOKUP(A25,'All Meals'!$A$12:$S$62,12)))) | G25: =IF(B25=0,"",IF((VLOOKUP(A25,'All Meals'!$A$12:$S$62,15))="",0,(VLOOKUP(A25,'All Meals'!$A$12:$S$62,15)))) | H25: =IF(B25=0,"",IF((VLOOKUP(A25,'All Meals'!$A$12:$S$62,18))="",0,(VLOOKUP(A25,'All Meals'!$A$12:$S$62,18)))) | I25: =IF(B25=0,"",IF(E25="","No",IF(E25>=0.5,"Yes","No"))) | J25: =IF(B25=0,"",IF((VLOOKUP(A25,'All Meals'!$A$12:$S$62,4))="",0,(VLOOKUP(A25,'All Meals'!$A$12:$S$62,4)))) | K25: =IF(B25=0,"",IF((VLOOKUP(A25,'All Meals'!$A$12:$S$62,5))="",0,(VLOOKUP(A25,'All Meals'!$A$12:$S$62,5)))) | L25: =IF(B25=0,"",IF((VLOOKUP(A25,'All Meals'!$A$12:$S$62,6))="",0,(VLOOKUP(A25,'All Meals'!$A$12:$S$62,6)))) | M25: =IF(B25=0,"",IF(SUM(J25-L25)>=1,"Yes","No")) | N25: =IF(B25=0,"",IF((VLOOKUP(A25,'All Meals'!$A$12:$S$62,19))="",0,(VLOOKUP(A25,'All Meals'!$A$12:$S$62,19)))) | O25: =IF(B25=0,"",IF(N25="","No",IF(N25>=1,"Yes","No")))
A26: 1 | B26: =INDEX(meals,A26) -> 0 | C26: 20 | E26: =IF(B26=0,"",IF((VLOOKUP(A26,'All Meals'!$A$12:$S$62,9))="",0,(VLOOKUP(A26,'All Meals'!$A$12:$S$62,9)))) | F26: =IF(B26=0,"",IF((VLOOKUP(A26,'All Meals'!$A$12:$S$62,12))="",0,(VLOOKUP(A26,'All Meals'!$A$12:$S$62,12)))) | G26: =IF(B26=0,"",IF((VLOOKUP(A26,'All Meals'!$A$12:$S$62,15))="",0,(VLOOKUP(A26,'All Meals'!$A$12:$S$62,15)))) | H26: =IF(B26=0,"",IF((VLOOKUP(A26,'All Meals'!$A$12:$S$62,18))="",0,(VLOOKUP(A26,'All Meals'!$A$12:$S$62,18)))) | I26: =IF(B26=0,"",IF(E26="","No",IF(E26>=0.5,"Yes","No"))) | J26: =IF(B26=0,"",IF((VLOOKUP(A26,'All Meals'!$A$12:$S$62,4))="",0,(VLOOKUP(A26,'All Meals'!$A$12:$S$62,4)))) | K26: =IF(B26=0,"",IF((VLOOKUP(A26,'All Meals'!$A$12:$S$62,5))="",0,(VLOOKUP(A26,'All Meals'!$A$12:$S$62,5)))) | L26: =IF(B26=0,"",IF((VLOOKUP(A26,'All Meals'!$A$12:$S$62,6))="",0,(VLOOKUP(A26,'All Meals'!$A$12:$S$62,6)))) | M26: =IF(B26=0,"",IF(SUM(J26-L26)>=1,"Yes","No")) | N26: =IF(B26=0,"",IF((VLOOKUP(A26,'All Meals'!$A$12:$S$62,19))="",0,(VLOOKUP(A26,'All Meals'!$A$12:$S$62,19)))) | O26: =IF(B26=0,"",IF(N26="","No",IF(N26>=1,"Yes","No")))

Sheet Friday
C1: Friday Daily Breakfast Requirement Check | R1: Go to Weekly Report
C2: The daily worksheet will perform daily requirement checks for the reimbursable meals offered each day. Requirements met are flagged "Yes" and the cell turns green. Requirements NOT met are flagged "No" and the cell turns red. NOTE: The top row is frozen to display the column headers as the daily meals are entered. Grains are rounded down to the nearest quarter ounce. Once you are finished selecting the meals offered each day, make sure to scroll to the right to enter milk type information. | R2: Go to Instructions
A3: K-12 Menu #: | C3: Friday
C4: Select the reimbursable breakfasts offered on Friday | E4: Fruits / Vegetables / 100% Juice | J4: Grains All grains served in the SFSP must be whole grain, whole grain-rich or enriched. Cereal may be fortififed. | M4: Daily Grains Requirement Check (1 oz equivalent) | N4: Milk | P4: Milk Type Check the type of milk below if it is offered to students on Friday. All types of milk included.
C5: Meal Name Note: You may not delete lines, if you want to clear a meal select the first blank in the drop down list | E5: Total fruit/ vegetable/ juice cups | F5: Cups of fruit/vegetable juice | G5: Cups of non-starchy vegetables | H5: Cups of starchy vegetables | I5: Daily Requirement Check (1/2 cup) | J5: Number of oz eq of GRAINS | K5: Number of oz eq of Whole Grain-Rich GRAINS | L5: Number of oz eq of Meats/Meat Alternates | N5: Milk cups | O5: Daily Milk Requirement Check (1 cup) | P5: Skim/fat-free, unflavored | U5: FALSE | W5: =IF(OR(U5=TRUE,U6=TRUE,U7=TRUE,U8=TRUE,U9=TRUE),"Yes","")
P6: Skim/fat-free, flavored | U6: FALSE
A7: 1 | B7: =INDEX(meals,A7) -> 0 | C7: 1 | E7: =IF(B7=0,"",IF((VLOOKUP(A7,'All Meals'!$A$12:$S$62,9))="",0,(VLOOKUP(A7,'All Meals'!$A$12:$S$62,9)))) | F7: =IF(B7=0,"",IF((VLOOKUP(A7,'All Meals'!$A$12:$S$62,12))="",0,(VLOOKUP(A7,'All Meals'!$A$12:$S$62,12)))) | G7: =IF(B7=0,"",IF((VLOOKUP(A7,'All Meals'!$A$12:$S$62,15))="",0,(VLOOKUP(A7,'All Meals'!$A$12:$S$62,15)))) | H7: =IF(B7=0,"",IF((VLOOKUP(A7,'All Meals'!$A$12:$S$62,18))="",0,(VLOOKUP(A7,'All Meals'!$A$12:$S$62,18)))) | I7: =IF(B7=0,"",IF(E7="","No",IF(E7>=0.5,"Yes","No"))) | J7: =IF(B7=0,"",IF((VLOOKUP(A7,'All Meals'!$A$12:$S$62,4))="",0,(VLOOKUP(A7,'All Meals'!$A$12:$S$62,4)))) | K7: =IF(B7=0,"",IF((VLOOKUP(A7,'All Meals'!$A$12:$S$62,5))="",0,(VLOOKUP(A7,'All Meals'!$A$12:$S$62,5)))) | L7: =IF(B7=0,"",IF((VLOOKUP(A7,'All Meals'!$A$12:$S$62,6))="",0,(VLOOKUP(A7,'All Meals'!$A$12:$S$62,6)))) | M7: =IF(B7=0,"",IF(SUM(J7-L7)>=1,"Yes","No")) | N7: =IF(B7=0,"",IF((VLOOKUP(A7,'All Meals'!$A$12:$S$62,19))="",0,(VLOOKUP(A7,'All Meals'!$A$12:$S$62,19)))) | O7: =IF(B7=0,"",IF(N7="","No",IF(N7>=1,"Yes","No"))) | P7: Low-fat (1% or less), unflavored | U7: FALSE
A8: 1 | B8: =INDEX(meals,A8) -> 0 | C8: 2 | E8: =IF(B8=0,"",IF((VLOOKUP(A8,'All Meals'!$A$12:$S$62,9))="",0,(VLOOKUP(A8,'All Meals'!$A$12:$S$62,9)))) | F8: =IF(B8=0,"",IF((VLOOKUP(A8,'All Meals'!$A$12:$S$62,12))="",0,(VLOOKUP(A8,'All Meals'!$A$12:$S$62,12)))) | G8: =IF(B8=0,"",IF((VLOOKUP(A8,'All Meals'!$A$12:$S$62,15))="",0,(VLOOKUP(A8,'All Meals'!$A$12:$S$62,15)))) | H8: =IF(B8=0,"",IF((VLOOKUP(A8,'All Meals'!$A$12:$S$62,18))="",0,(VLOOKUP(A8,'All Meals'!$A$12:$S$62,18)))) | I8: =IF(B8=0,"",IF(E8="","No",IF(E8>=0.5,"Yes","No"))) | J8: =IF(B8=0,"",IF((VLOOKUP(A8,'All Meals'!$A$12:$S$62,4))="",0,(VLOOKUP(A8,'All Meals'!$A$12:$S$62,4)))) | K8: =IF(B8=0,"",IF((VLOOKUP(A8,'All Meals'!$A$12:$S$62,5))="",0,(VLOOKUP(A8,'All Meals'!$A$12:$S$62,5)))) | L8: =IF(B8=0,"",IF((VLOOKUP(A8,'All Meals'!$A$12:$S$62,6))="",0,(VLOOKUP(A8,'All Meals'!$A$12:$S$62,6)))) | M8: =IF(B8=0,"",IF(SUM(J8-L8)>=1,"Yes","No")) | N8: =IF(B8=0,"",IF((VLOOKUP(A8,'All Meals'!$A$12:$S$62,19))="",0,(VLOOKUP(A8,'All Meals'!$A$12:$S$62,19)))) | O8: =IF(B8=0,"",IF(N8="","No",IF(N8>=1,"Yes","No"))) | P8: Low-fat (1% or less), flavored | U8: FALSE
A9: 1 | B9: =INDEX(meals,A9) -> 0 | C9: 3 | E9: =IF(B9=0,"",IF((VLOOKUP(A9,'All Meals'!$A$12:$S$62,9))="",0,(VLOOKUP(A9,'All Meals'!$A$12:$S$62,9)))) | F9: =IF(B9=0,"",IF((VLOOKUP(A9,'All Meals'!$A$12:$S$62,12))="",0,(VLOOKUP(A9,'All Meals'!$A$12:$S$62,12)))) | G9: =IF(B9=0,"",IF((VLOOKUP(A9,'All Meals'!$A$12:$S$62,15))="",0,(VLOOKUP(A9,'All Meals'!$A$12:$S$62,15)))) | H9: =IF(B9=0,"",IF((VLOOKUP(A9,'All Meals'!$A$12:$S$62,18))="",0,(VLOOKUP(A9,'All Meals'!$A$12:$S$62,18)))) | I9: =IF(B9=0,"",IF(E9="","No",IF(E9>=0.5,"Yes","No"))) | J9: =IF(B9=0,"",IF((VLOOKUP(A9,'All Meals'!$A$12:$S$62,4))="",0,(VLOOKUP(A9,'All Meals'!$A$12:$S$62,4)))) | K9: =IF(B9=0,"",IF((VLOOKUP(A9,'All Meals'!$A$12:$S$62,5))="",0,(VLOOKUP(A9,'All Meals'!$A$12:$S$62,5)))) | L9: =IF(B9=0,"",IF((VLOOKUP(A9,'All Meals'!$A$12:$S$62,6))="",0,(VLOOKUP(A9,'All Meals'!$A$12:$S$62,6)))) | M9: =IF(B9=0,"",IF(SUM(J9-L9)>=1,"Yes","No")) | N9: =IF(B9=0,"",IF((VLOOKUP(A9,'All Meals'!$A$12:$S$62,19))="",0,(VLOOKUP(A9,'All Meals'!$A$12:$S$62,19)))) | O9: =IF(B9=0,"",IF(N9="","No",IF(N9>=1,"Yes","No"))) | P9: Reduced fat (2% fat) or whole, unflavored and flavored | U9: FALSE
A10: 1 | B10: =INDEX(meals,A10) -> 0 | C10: 4 | E10: =IF(B10=0,"",IF((VLOOKUP(A10,'All Meals'!$A$12:$S$62,9))="",0,(VLOOKUP(A10,'All Meals'!$A$12:$S$62,9)))) | F10: =IF(B10=0,"",IF((VLOOKUP(A10,'All Meals'!$A$12:$S$62,12))="",0,(VLOOKUP(A10,'All Meals'!$A$12:$S$62,12)))) | G10: =IF(B10=0,"",IF((VLOOKUP(A10,'All Meals'!$A$12:$S$62,15))="",0,(VLOOKUP(A10,'All Meals'!$A$12:$S$62,15)))) | H10: =IF(B10=0,"",IF((VLOOKUP(A10,'All Meals'!$A$12:$S$62,18))="",0,(VLOOKUP(A10,'All Meals'!$A$12:$S$62,18)))) | I10: =IF(B10=0,"",IF(E10="","No",IF(E10>=0.5,"Yes","No"))) | J10: =IF(B10=0,"",IF((VLOOKUP(A10,'All Meals'!$A$12:$S$62,4))="",0,(VLOOKUP(A10,'All Meals'!$A$12:$S$62,4)))) | K10: =IF(B10=0,"",IF((VLOOKUP(A10,'All Meals'!$A$12:$S$62,5))="",0,(VLOOKUP(A10,'All Meals'!$A$12:$S$62,5)))) | L10: =IF(B10=0,"",IF((VLOOKUP(A10,'All Meals'!$A$12:$S$62,6))="",0,(VLOOKUP(A10,'All Meals'!$A$12:$S$62,6)))) | M10: =IF(B10=0,"",IF(SUM(J10-L10)>=1,"Yes","No")) | N10: =IF(B10=0,"",IF((VLOOKUP(A10,'All Meals'!$A$12:$S$62,19))="",0,(VLOOKUP(A10,'All Meals'!$A$12:$S$62,19)))) | O10: =IF(B10=0,"",IF(N10="","No",IF(N10>=1,"Yes","No")))
A11: 1 | B11: =INDEX(meals,A11) -> 0 | C11: 5 | E11: =IF(B11=0,"",IF((VLOOKUP(A11,'All Meals'!$A$12:$S$62,9))="",0,(VLOOKUP(A11,'All Meals'!$A$12:$S$62,9)))) | F11: =IF(B11=0,"",IF((VLOOKUP(A11,'All Meals'!$A$12:$S$62,12))="",0,(VLOOKUP(A11,'All Meals'!$A$12:$S$62,12)))) | G11: =IF(B11=0,"",IF((VLOOKUP(A11,'All Meals'!$A$12:$S$62,15))="",0,(VLOOKUP(A11,'All Meals'!$A$12:$S$62,15)))) | H11: =IF(B11=0,"",IF((VLOOKUP(A11,'All Meals'!$A$12:$S$62,18))="",0,(VLOOKUP(A11,'All Meals'!$A$12:$S$62,18)))) | I11: =IF(B11=0,"",IF(E11="","No",IF(E11>=0.5,"Yes","No"))) | J11: =IF(B11=0,"",IF((VLOOKUP(A11,'All Meals'!$A$12:$S$62,4))="",0,(VLOOKUP(A11,'All Meals'!$A$12:$S$62,4)))) | K11: =IF(B11=0,"",IF((VLOOKUP(A11,'All Meals'!$A$12:$S$62,5))="",0,(VLOOKUP(A11,'All Meals'!$A$12:$S$62,5)))) | L11: =IF(B11=0,"",IF((VLOOKUP(A11,'All Meals'!$A$12:$S$62,6))="",0,(VLOOKUP(A11,'All Meals'!$A$12:$S$62,6)))) | M11: =IF(B11=0,"",IF(SUM(J11-L11)>=1,"Yes","No")) | N11: =IF(B11=0,"",IF((VLOOKUP(A11,'All Meals'!$A$12:$S$62,19))="",0,(VLOOKUP(A11,'All Meals'!$A$12:$S$62,19)))) | O11: =IF(B11=0,"",IF(N11="","No",IF(N11>=1,"Yes","No"))) | Q11: OPTIONAL Tools to Assist in Fraction and Decimal Calculations
A12: 1 | B12: =INDEX(meals,A12) -> 0 | C12: 6 | E12: =IF(B12=0,"",IF((VLOOKUP(A12,'All Meals'!$A$12:$S$62,9))="",0,(VLOOKUP(A12,'All Meals'!$A$12:$S$62,9)))) | F12: =IF(B12=0,"",IF((VLOOKUP(A12,'All Meals'!$A$12:$S$62,12))="",0,(VLOOKUP(A12,'All Meals'!$A$12:$S$62,12)))) | G12: =IF(B12=0,"",IF((VLOOKUP(A12,'All Meals'!$A$12:$S$62,15))="",0,(VLOOKUP(A12,'All Meals'!$A$12:$S$62,15)))) | H12: =IF(B12=0,"",IF((VLOOKUP(A12,'All Meals'!$A$12:$S$62,18))="",0,(VLOOKUP(A12,'All Meals'!$A$12:$S$62,18)))) | I12: =IF(B12=0,"",IF(E12="","No",IF(E12>=0.5,"Yes","No"))) | J12: =IF(B12=0,"",IF((VLOOKUP(A12,'All Meals'!$A$12:$S$62,4))="",0,(VLOOKUP(A12,'All Meals'!$A$12:$S$62,4)))) | K12: =IF(B12=0,"",IF((VLOOKUP(A12,'All Meals'!$A$12:$S$62,5))="",0,(VLOOKUP(A12,'All Meals'!$A$12:$S$62,5)))) | L12: =IF(B12=0,"",IF((VLOOKUP(A12,'All Meals'!$A$12:$S$62,6))="",0,(VLOOKUP(A12,'All Meals'!$A$12:$S$62,6)))) | M12: =IF(B12=0,"",IF(SUM(J12-L12)>=1,"Yes","No")) | N12: =IF(B12=0,"",IF((VLOOKUP(A12,'All Meals'!$A$12:$S$62,19))="",0,(VLOOKUP(A12,'All Meals'!$A$12:$S$62,19)))) | O12: =IF(B12=0,"",IF(N12="","No",IF(N12>=1,"Yes","No")))
A13: 1 | B13: =INDEX(meals,A13) -> 0 | C13: 7 | E13: =IF(B13=0,"",IF((VLOOKUP(A13,'All Meals'!$A$12:$S$62,9))="",0,(VLOOKUP(A13,'All Meals'!$A$12:$S$62,9)))) | F13: =IF(B13=0,"",IF((VLOOKUP(A13,'All Meals'!$A$12:$S$62,12))="",0,(VLOOKUP(A13,'All Meals'!$A$12:$S$62,12)))) | G13: =IF(B13=0,"",IF((VLOOKUP(A13,'All Meals'!$A$12:$S$62,15))="",0,(VLOOKUP(A13,'All Meals'!$A$12:$S$62,15)))) | H13: =IF(B13=0,"",IF((VLOOKUP(A13,'All Meals'!$A$12:$S$62,18))="",0,(VLOOKUP(A13,'All Meals'!$A$12:$S$62,18)))) | I13: =IF(B13=0,"",IF(E13="","No",IF(E13>=0.5,"Yes","No"))) | J13: =IF(B13=0,"",IF((VLOOKUP(A13,'All Meals'!$A$12:$S$62,4))="",0,(VLOOKUP(A13,'All Meals'!$A$12:$S$62,4)))) | K13: =IF(B13=0,"",IF((VLOOKUP(A13,'All Meals'!$A$12:$S$62,5))="",0,(VLOOKUP(A13,'All Meals'!$A$12:$S$62,5)))) | L13: =IF(B13=0,"",IF((VLOOKUP(A13,'All Meals'!$A$12:$S$62,6))="",0,(VLOOKUP(A13,'All Meals'!$A$12:$S$62,6)))) | M13: =IF(B13=0,"",IF(SUM(J13-L13)>=1,"Yes","No")) | N13: =IF(B13=0,"",IF((VLOOKUP(A13,'All Meals'!$A$12:$S$62,19))="",0,(VLOOKUP(A13,'All Meals'!$A$12:$S$62,19)))) | O13: =IF(B13=0,"",IF(N13="","No",IF(N13>=1,"Yes","No"))) | Q13: Fraction Calculator: Use this calculator to add the number of cups. | T13: 1 | U13: =INDEX(Cups,T13) -> 0
A14: 1 | B14: =INDEX(meals,A14) -> 0 | C14: 8 | E14: =IF(B14=0,"",IF((VLOOKUP(A14,'All Meals'!$A$12:$S$62,9))="",0,(VLOOKUP(A14,'All Meals'!$A$12:$S$62,9)))) | F14: =IF(B14=0,"",IF((VLOOKUP(A14,'All Meals'!$A$12:$S$62,12))="",0,(VLOOKUP(A14,'All Meals'!$A$12:$S$62,12)))) | G14: =IF(B14=0,"",IF((VLOOKUP(A14,'All Meals'!$A$12:$S$62,15))="",0,(VLOOKUP(A14,'All Meals'!$A$12:$S$62,15)))) | H14: =IF(B14=0,"",IF((VLOOKUP(A14,'All Meals'!$A$12:$S$62,18))="",0,(VLOOKUP(A14,'All Meals'!$A$12:$S$62,18)))) | I14: =IF(B14=0,"",IF(E14="","No",IF(E14>=0.5,"Yes","No"))) | J14: =IF(B14=0,"",IF((VLOOKUP(A14,'All Meals'!$A$12:$S$62,4))="",0,(VLOOKUP(A14,'All Meals'!$A$12:$S$62,4)))) | K14: =IF(B14=0,"",IF((VLOOKUP(A14,'All Meals'!$A$12:$S$62,5))="",0,(VLOOKUP(A14,'All Meals'!$A$12:$S$62,5)))) | L14: =IF(B14=0,"",IF((VLOOKUP(A14,'All Meals'!$A$12:$S$62,6))="",0,(VLOOKUP(A14,'All Meals'!$A$12:$S$62,6)))) | M14: =IF(B14=0,"",IF(SUM(J14-L14)>=1,"Yes","No")) | N14: =IF(B14=0,"",IF((VLOOKUP(A14,'All Meals'!$A$12:$S$62,19))="",0,(VLOOKUP(A14,'All Meals'!$A$12:$S$62,19)))) | O14: =IF(B14=0,"",IF(N14="","No",IF(N14>=1,"Yes","No"))) | T14: 1 | U14: =INDEX(Cups,T14) -> 0
A15: 1 | B15: =INDEX(meals,A15) -> 0 | C15: 9 | E15: =IF(B15=0,"",IF((VLOOKUP(A15,'All Meals'!$A$12:$S$62,9))="",0,(VLOOKUP(A15,'All Meals'!$A$12:$S$62,9)))) | F15: =IF(B15=0,"",IF((VLOOKUP(A15,'All Meals'!$A$12:$S$62,12))="",0,(VLOOKUP(A15,'All Meals'!$A$12:$S$62,12)))) | G15: =IF(B15=0,"",IF((VLOOKUP(A15,'All Meals'!$A$12:$S$62,15))="",0,(VLOOKUP(A15,'All Meals'!$A$12:$S$62,15)))) | H15: =IF(B15=0,"",IF((VLOOKUP(A15,'All Meals'!$A$12:$S$62,18))="",0,(VLOOKUP(A15,'All Meals'!$A$12:$S$62,18)))) | I15: =IF(B15=0,"",IF(E15="","No",IF(E15>=0.5,"Yes","No"))) | J15: =IF(B15=0,"",IF((VLOOKUP(A15,'All Meals'!$A$12:$S$62,4))="",0,(VLOOKUP(A15,'All Meals'!$A$12:$S$62,4)))) | K15: =IF(B15=0,"",IF((VLOOKUP(A15,'All Meals'!$A$12:$S$62,5))="",0,(VLOOKUP(A15,'All Meals'!$A$12:$S$62,5)))) | L15: =IF(B15=0,"",IF((VLOOKUP(A15,'All Meals'!$A$12:$S$62,6))="",0,(VLOOKUP(A15,'All Meals'!$A$12:$S$62,6)))) | M15: =IF(B15=0,"",IF(SUM(J15-L15)>=1,"Yes","No")) | N15: =IF(B15=0,"",IF((VLOOKUP(A15,'All Meals'!$A$12:$S$62,19))="",0,(VLOOKUP(A15,'All Meals'!$A$12:$S$62,19)))) | O15: =IF(B15=0,"",IF(N15="","No",IF(N15>=1,"Yes","No"))) | T15: 1 | U15: =INDEX(Cups,T15) -> 0
A16: 1 | B16: =INDEX(meals,A16) -> 0 | C16: 10 | E16: =IF(B16=0,"",IF((VLOOKUP(A16,'All Meals'!$A$12:$S$62,9))="",0,(VLOOKUP(A16,'All Meals'!$A$12:$S$62,9)))) | F16: =IF(B16=0,"",IF((VLOOKUP(A16,'All Meals'!$A$12:$S$62,12))="",0,(VLOOKUP(A16,'All Meals'!$A$12:$S$62,12)))) | G16: =IF(B16=0,"",IF((VLOOKUP(A16,'All Meals'!$A$12:$S$62,15))="",0,(VLOOKUP(A16,'All Meals'!$A$12:$S$62,15)))) | H16: =IF(B16=0,"",IF((VLOOKUP(A16,'All Meals'!$A$12:$S$62,18))="",0,(VLOOKUP(A16,'All Meals'!$A$12:$S$62,18)))) | I16: =IF(B16=0,"",IF(E16="","No",IF(E16>=0.5,"Yes","No"))) | J16: =IF(B16=0,"",IF((VLOOKUP(A16,'All Meals'!$A$12:$S$62,4))="",0,(VLOOKUP(A16,'All Meals'!$A$12:$S$62,4)))) | K16: =IF(B16=0,"",IF((VLOOKUP(A16,'All Meals'!$A$12:$S$62,5))="",0,(VLOOKUP(A16,'All Meals'!$A$12:$S$62,5)))) | L16: =IF(B16=0,"",IF((VLOOKUP(A16,'All Meals'!$A$12:$S$62,6))="",0,(VLOOKUP(A16,'All Meals'!$A$12:$S$62,6)))) | M16: =IF(B16=0,"",IF(SUM(J16-L16)>=1,"Yes","No")) | N16: =IF(B16=0,"",IF((VLOOKUP(A16,'All Meals'!$A$12:$S$62,19))="",0,(VLOOKUP(A16,'All Meals'!$A$12:$S$62,19)))) | O16: =IF(B16=0,"",IF(N16="","No",IF(N16>=1,"Yes","No"))) | T16: 1 | U16: =INDEX(Cups,T16) -> 0
A17: 1 | B17: =INDEX(meals,A17) -> 0 | C17: 11 | E17: =IF(B17=0,"",IF((VLOOKUP(A17,'All Meals'!$A$12:$S$62,9))="",0,(VLOOKUP(A17,'All Meals'!$A$12:$S$62,9)))) | F17: =IF(B17=0,"",IF((VLOOKUP(A17,'All Meals'!$A$12:$S$62,12))="",0,(VLOOKUP(A17,'All Meals'!$A$12:$S$62,12)))) | G17: =IF(B17=0,"",IF((VLOOKUP(A17,'All Meals'!$A$12:$S$62,15))="",0,(VLOOKUP(A17,'All Meals'!$A$12:$S$62,15)))) | H17: =IF(B17=0,"",IF((VLOOKUP(A17,'All Meals'!$A$12:$S$62,18))="",0,(VLOOKUP(A17,'All Meals'!$A$12:$S$62,18)))) | I17: =IF(B17=0,"",IF(E17="","No",IF(E17>=0.5,"Yes","No"))) | J17: =IF(B17=0,"",IF((VLOOKUP(A17,'All Meals'!$A$12:$S$62,4))="",0,(VLOOKUP(A17,'All Meals'!$A$12:$S$62,4)))) | K17: =IF(B17=0,"",IF((VLOOKUP(A17,'All Meals'!$A$12:$S$62,5))="",0,(VLOOKUP(A17,'All Meals'!$A$12:$S$62,5)))) | L17: =IF(B17=0,"",IF((VLOOKUP(A17,'All Meals'!$A$12:$S$62,6))="",0,(VLOOKUP(A17,'All Meals'!$A$12:$S$62,6)))) | M17: =IF(B17=0,"",IF(SUM(J17-L17)>=1,"Yes","No")) | N17: =IF(B17=0,"",IF((VLOOKUP(A17,'All Meals'!$A$12:$S$62,19))="",0,(VLOOKUP(A17,'All Meals'!$A$12:$S$62,19)))) | O17: =IF(B17=0,"",IF(N17="","No",IF(N17>=1,"Yes","No"))) | T17: 1 | U17: =INDEX(Cups,T17) -> 0
A18: 1 | B18: =INDEX(meals,A18) -> 0 | C18: 12 | E18: =IF(B18=0,"",IF((VLOOKUP(A18,'All Meals'!$A$12:$S$62,9))="",0,(VLOOKUP(A18,'All Meals'!$A$12:$S$62,9)))) | F18: =IF(B18=0,"",IF((VLOOKUP(A18,'All Meals'!$A$12:$S$62,12))="",0,(VLOOKUP(A18,'All Meals'!$A$12:$S$62,12)))) | G18: =IF(B18=0,"",IF((VLOOKUP(A18,'All Meals'!$A$12:$S$62,15))="",0,(VLOOKUP(A18,'All Meals'!$A$12:$S$62,15)))) | H18: =IF(B18=0,"",IF((VLOOKUP(A18,'All Meals'!$A$12:$S$62,18))="",0,(VLOOKUP(A18,'All Meals'!$A$12:$S$62,18)))) | I18: =IF(B18=0,"",IF(E18="","No",IF(E18>=0.5,"Yes","No"))) | J18: =IF(B18=0,"",IF((VLOOKUP(A18,'All Meals'!$A$12:$S$62,4))="",0,(VLOOKUP(A18,'All Meals'!$A$12:$S$62,4)))) | K18: =IF(B18=0,"",IF((VLOOKUP(A18,'All Meals'!$A$12:$S$62,5))="",0,(VLOOKUP(A18,'All Meals'!$A$12:$S$62,5)))) | L18: =IF(B18=0,"",IF((VLOOKUP(A18,'All Meals'!$A$12:$S$62,6))="",0,(VLOOKUP(A18,'All Meals'!$A$12:$S$62,6)))) | M18: =IF(B18=0,"",IF(SUM(J18-L18)>=1,"Yes","No")) | N18: =IF(B18=0,"",IF((VLOOKUP(A18,'All Meals'!$A$12:$S$62,19))="",0,(VLOOKUP(A18,'All Meals'!$A$12:$S$62,19)))) | O18: =IF(B18=0,"",IF(N18="","No",IF(N18>=1,"Yes","No"))) | V18: =SUM(U13:U17) -> 0
A19: 1 | B19: =INDEX(meals,A19) -> 0 | C19: 13 | E19: =IF(B19=0,"",IF((VLOOKUP(A19,'All Meals'!$A$12:$S$62,9))="",0,(VLOOKUP(A19,'All Meals'!$A$12:$S$62,9)))) | F19: =IF(B19=0,"",IF((VLOOKUP(A19,'All Meals'!$A$12:$S$62,12))="",0,(VLOOKUP(A19,'All Meals'!$A$12:$S$62,12)))) | G19: =IF(B19=0,"",IF((VLOOKUP(A19,'All Meals'!$A$12:$S$62,15))="",0,(VLOOKUP(A19,'All Meals'!$A$12:$S$62,15)))) | H19: =IF(B19=0,"",IF((VLOOKUP(A19,'All Meals'!$A$12:$S$62,18))="",0,(VLOOKUP(A19,'All Meals'!$A$12:$S$62,18)))) | I19: =IF(B19=0,"",IF(E19="","No",IF(E19>=0.5,"Yes","No"))) | J19: =IF(B19=0,"",IF((VLOOKUP(A19,'All Meals'!$A$12:$S$62,4))="",0,(VLOOKUP(A19,'All Meals'!$A$12:$S$62,4)))) | K19: =IF(B19=0,"",IF((VLOOKUP(A19,'All Meals'!$A$12:$S$62,5))="",0,(VLOOKUP(A19,'All Meals'!$A$12:$S$62,5)))) | L19: =IF(B19=0,"",IF((VLOOKUP(A19,'All Meals'!$A$12:$S$62,6))="",0,(VLOOKUP(A19,'All Meals'!$A$12:$S$62,6)))) | M19: =IF(B19=0,"",IF(SUM(J19-L19)>=1,"Yes","No")) | N19: =IF(B19=0,"",IF((VLOOKUP(A19,'All Meals'!$A$12:$S$62,19))="",0,(VLOOKUP(A19,'All Meals'!$A$12:$S$62,19)))) | O19: =IF(B19=0,"",IF(N19="","No",IF(N19>=1,"Yes","No"))) | Q19: Decimal/Fraction Converter (Rounded down to the nearest 1/8)
A20: 1 | B20: =INDEX(meals,A20) -> 0 | C20: 14 | E20: =IF(B20=0,"",IF((VLOOKUP(A20,'All Meals'!$A$12:$S$62,9))="",0,(VLOOKUP(A20,'All Meals'!$A$12:$S$62,9)))) | F20: =IF(B20=0,"",IF((VLOOKUP(A20,'All Meals'!$A$12:$S$62,12))="",0,(VLOOKUP(A20,'All Meals'!$A$12:$S$62,12)))) | G20: =IF(B20=0,"",IF((VLOOKUP(A20,'All Meals'!$A$12:$S$62,15))="",0,(VLOOKUP(A20,'All Meals'!$A$12:$S$62,15)))) | H20: =IF(B20=0,"",IF((VLOOKUP(A20,'All Meals'!$A$12:$S$62,18))="",0,(VLOOKUP(A20,'All Meals'!$A$12:$S$62,18)))) | I20: =IF(B20=0,"",IF(E20="","No",IF(E20>=0.5,"Yes","No"))) | J20: =IF(B20=0,"",IF((VLOOKUP(A20,'All Meals'!$A$12:$S$62,4))="",0,(VLOOKUP(A20,'All Meals'!$A$12:$S$62,4)))) | K20: =IF(B20=0,"",IF((VLOOKUP(A20,'All Meals'!$A$12:$S$62,5))="",0,(VLOOKUP(A20,'All Meals'!$A$12:$S$62,5)))) | L20: =IF(B20=0,"",IF((VLOOKUP(A20,'All Meals'!$A$12:$S$62,6))="",0,(VLOOKUP(A20,'All Meals'!$A$12:$S$62,6)))) | M20: =IF(B20=0,"",IF(SUM(J20-L20)>=1,"Yes","No")) | N20: =IF(B20=0,"",IF((VLOOKUP(A20,'All Meals'!$A$12:$S$62,19))="",0,(VLOOKUP(A20,'All Meals'!$A$12:$S$62,19)))) | O20: =IF(B20=0,"",IF(N20="","No",IF(N20>=1,"Yes","No"))) | Q20: Enter the decimal you wish to convert to a fraction in the box:
A21: 1 | B21: =INDEX(meals,A21) -> 0 | C21: 15 | E21: =IF(B21=0,"",IF((VLOOKUP(A21,'All Meals'!$A$12:$S$62,9))="",0,(VLOOKUP(A21,'All Meals'!$A$12:$S$62,9)))) | F21: =IF(B21=0,"",IF((VLOOKUP(A21,'All Meals'!$A$12:$S$62,12))="",0,(VLOOKUP(A21,'All Meals'!$A$12:$S$62,12)))) | G21: =IF(B21=0,"",IF((VLOOKUP(A21,'All Meals'!$A$12:$S$62,15))="",0,(VLOOKUP(A21,'All Meals'!$A$12:$S$62,15)))) | H21: =IF(B21=0,"",IF((VLOOKUP(A21,'All Meals'!$A$12:$S$62,18))="",0,(VLOOKUP(A21,'All Meals'!$A$12:$S$62,18)))) | I21: =IF(B21=0,"",IF(E21="","No",IF(E21>=0.5,"Yes","No"))) | J21: =IF(B21=0,"",IF((VLOOKUP(A21,'All Meals'!$A$12:$S$62,4))="",0,(VLOOKUP(A21,'All Meals'!$A$12:$S$62,4)))) | K21: =IF(B21=0,"",IF((VLOOKUP(A21,'All Meals'!$A$12:$S$62,5))="",0,(VLOOKUP(A21,'All Meals'!$A$12:$S$62,5)))) | L21: =IF(B21=0,"",IF((VLOOKUP(A21,'All Meals'!$A$12:$S$62,6))="",0,(VLOOKUP(A21,'All Meals'!$A$12:$S$62,6)))) | M21: =IF(B21=0,"",IF(SUM(J21-L21)>=1,"Yes","No")) | N21: =IF(B21=0,"",IF((VLOOKUP(A21,'All Meals'!$A$12:$S$62,19))="",0,(VLOOKUP(A21,'All Meals'!$A$12:$S$62,19)))) | O21: =IF(B21=0,"",IF(N21="","No",IF(N21>=1,"Yes","No")))
A22: 1 | B22: =INDEX(meals,A22) -> 0 | C22: 16 | E22: =IF(B22=0,"",IF((VLOOKUP(A22,'All Meals'!$A$12:$S$62,9))="",0,(VLOOKUP(A22,'All Meals'!$A$12:$S$62,9)))) | F22: =IF(B22=0,"",IF((VLOOKUP(A22,'All Meals'!$A$12:$S$62,12))="",0,(VLOOKUP(A22,'All Meals'!$A$12:$S$62,12)))) | G22: =IF(B22=0,"",IF((VLOOKUP(A22,'All Meals'!$A$12:$S$62,15))="",0,(VLOOKUP(A22,'All Meals'!$A$12:$S$62,15)))) | H22: =IF(B22=0,"",IF((VLOOKUP(A22,'All Meals'!$A$12:$S$62,18))="",0,(VLOOKUP(A22,'All Meals'!$A$12:$S$62,18)))) | I22: =IF(B22=0,"",IF(E22="","No",IF(E22>=0.5,"Yes","No"))) | J22: =IF(B22=0,"",IF((VLOOKUP(A22,'All Meals'!$A$12:$S$62,4))="",0,(VLOOKUP(A22,'All Meals'!$A$12:$S$62,4)))) | K22: =IF(B22=0,"",IF((VLOOKUP(A22,'All Meals'!$A$12:$S$62,5))="",0,(VLOOKUP(A22,'All Meals'!$A$12:$S$62,5)))) | L22: =IF(B22=0,"",IF((VLOOKUP(A22,'All Meals'!$A$12:$S$62,6))="",0,(VLOOKUP(A22,'All Meals'!$A$12:$S$62,6)))) | M22: =IF(B22=0,"",IF(SUM(J22-L22)>=1,"Yes","No")) | N22: =IF(B22=0,"",IF((VLOOKUP(A22,'All Meals'!$A$12:$S$62,19))="",0,(VLOOKUP(A22,'All Meals'!$A$12:$S$62,19)))) | O22: =IF(B22=0,"",IF(N22="","No",IF(N22>=1,"Yes","No"))) | Q22: The decimal entered above has been converted to the following fraction: | V22: =FLOOR(V20,0.125) -> 0
A23: 1 | B23: =INDEX(meals,A23) -> 0 | C23: 17 | E23: =IF(B23=0,"",IF((VLOOKUP(A23,'All Meals'!$A$12:$S$62,9))="",0,(VLOOKUP(A23,'All Meals'!$A$12:$S$62,9)))) | F23: =IF(B23=0,"",IF((VLOOKUP(A23,'All Meals'!$A$12:$S$62,12))="",0,(VLOOKUP(A23,'All Meals'!$A$12:$S$62,12)))) | G23: =IF(B23=0,"",IF((VLOOKUP(A23,'All Meals'!$A$12:$S$62,15))="",0,(VLOOKUP(A23,'All Meals'!$A$12:$S$62,15)))) | H23: =IF(B23=0,"",IF((VLOOKUP(A23,'All Meals'!$A$12:$S$62,18))="",0,(VLOOKUP(A23,'All Meals'!$A$12:$S$62,18)))) | I23: =IF(B23=0,"",IF(E23="","No",IF(E23>=0.5,"Yes","No"))) | J23: =IF(B23=0,"",IF((VLOOKUP(A23,'All Meals'!$A$12:$S$62,4))="",0,(VLOOKUP(A23,'All Meals'!$A$12:$S$62,4)))) | K23: =IF(B23=0,"",IF((VLOOKUP(A23,'All Meals'!$A$12:$S$62,5))="",0,(VLOOKUP(A23,'All Meals'!$A$12:$S$62,5)))) | L23: =IF(B23=0,"",IF((VLOOKUP(A23,'All Meals'!$A$12:$S$62,6))="",0,(VLOOKUP(A23,'All Meals'!$A$12:$S$62,6)))) | M23: =IF(B23=0,"",IF(SUM(J23-L23)>=1,"Yes","No")) | N23: =IF(B23=0,"",IF((VLOOKUP(A23,'All Meals'!$A$12:$S$62,19))="",0,(VLOOKUP(A23,'All Meals'!$A$12:$S$62,19)))) | O23: =IF(B23=0,"",IF(N23="","No",IF(N23>=1,"Yes","No")))
A24: 1 | B24: =INDEX(meals,A24) -> 0 | C24: 18 | E24: =IF(B24=0,"",IF((VLOOKUP(A24,'All Meals'!$A$12:$S$62,9))="",0,(VLOOKUP(A24,'All Meals'!$A$12:$S$62,9)))) | F24: =IF(B24=0,"",IF((VLOOKUP(A24,'All Meals'!$A$12:$S$62,12))="",0,(VLOOKUP(A24,'All Meals'!$A$12:$S$62,12)))) | G24: =IF(B24=0,"",IF((VLOOKUP(A24,'All Meals'!$A$12:$S$62,15))="",0,(VLOOKUP(A24,'All Meals'!$A$12:$S$62,15)))) | H24: =IF(B24=0,"",IF((VLOOKUP(A24,'All Meals'!$A$12:$S$62,18))="",0,(VLOOKUP(A24,'All Meals'!$A$12:$S$62,18)))) | I24: =IF(B24=0,"",IF(E24="","No",IF(E24>=0.5,"Yes","No"))) | J24: =IF(B24=0,"",IF((VLOOKUP(A24,'All Meals'!$A$12:$S$62,4))="",0,(VLOOKUP(A24,'All Meals'!$A$12:$S$62,4)))) | K24: =IF(B24=0,"",IF((VLOOKUP(A24,'All Meals'!$A$12:$S$62,5))="",0,(VLOOKUP(A24,'All Meals'!$A$12:$S$62,5)))) | L24: =IF(B24=0,"",IF((VLOOKUP(A24,'All Meals'!$A$12:$S$62,6))="",0,(VLOOKUP(A24,'All Meals'!$A$12:$S$62,6)))) | M24: =IF(B24=0,"",IF(SUM(J24-L24)>=1,"Yes","No")) | N24: =IF(B24=0,"",IF((VLOOKUP(A24,'All Meals'!$A$12:$S$62,19))="",0,(VLOOKUP(A24,'All Meals'!$A$12:$S$62,19)))) | O24: =IF(B24=0,"",IF(N24="","No",IF(N24>=1,"Yes","No")))
A25: 1 | B25: =INDEX(meals,A25) -> 0 | C25: 19 | E25: =IF(B25=0,"",IF((VLOOKUP(A25,'All Meals'!$A$12:$S$62,9))="",0,(VLOOKUP(A25,'All Meals'!$A$12:$S$62,9)))) | F25: =IF(B25=0,"",IF((VLOOKUP(A25,'All Meals'!$A$12:$S$62,12))="",0,(VLOOKUP(A25,'All Meals'!$A$12:$S$62,12)))) | G25: =IF(B25=0,"",IF((VLOOKUP(A25,'All Meals'!$A$12:$S$62,15))="",0,(VLOOKUP(A25,'All Meals'!$A$12:$S$62,15)))) | H25: =IF(B25=0,"",IF((VLOOKUP(A25,'All Meals'!$A$12:$S$62,18))="",0,(VLOOKUP(A25,'All Meals'!$A$12:$S$62,18)))) | I25: =IF(B25=0,"",IF(E25="","No",IF(E25>=0.5,"Yes","No"))) | J25: =IF(B25=0,"",IF((VLOOKUP(A25,'All Meals'!$A$12:$S$62,4))="",0,(VLOOKUP(A25,'All Meals'!$A$12:$S$62,4)))) | K25: =IF(B25=0,"",IF((VLOOKUP(A25,'All Meals'!$A$12:$S$62,5))="",0,(VLOOKUP(A25,'All Meals'!$A$12:$S$62,5)))) | L25: =IF(B25=0,"",IF((VLOOKUP(A25,'All Meals'!$A$12:$S$62,6))="",0,(VLOOKUP(A25,'All Meals'!$A$12:$S$62,6)))) | M25: =IF(B25=0,"",IF(SUM(J25-L25)>=1,"Yes","No")) | N25: =IF(B25=0,"",IF((VLOOKUP(A25,'All Meals'!$A$12:$S$62,19))="",0,(VLOOKUP(A25,'All Meals'!$A$12:$S$62,19)))) | O25: =IF(B25=0,"",IF(N25="","No",IF(N25>=1,"Yes","No")))
A26: 1 | B26: =INDEX(meals,A26) -> 0 | C26: 20 | E26: =IF(B26=0,"",IF((VLOOKUP(A26,'All Meals'!$A$12:$S$62,9))="",0,(VLOOKUP(A26,'All Meals'!$A$12:$S$62,9)))) | F26: =IF(B26=0,"",IF((VLOOKUP(A26,'All Meals'!$A$12:$S$62,12))="",0,(VLOOKUP(A26,'All Meals'!$A$12:$S$62,12)))) | G26: =IF(B26=0,"",IF((VLOOKUP(A26,'All Meals'!$A$12:$S$62,15))="",0,(VLOOKUP(A26,'All Meals'!$A$12:$S$62,15)))) | H26: =IF(B26=0,"",IF((VLOOKUP(A26,'All Meals'!$A$12:$S$62,18))="",0,(VLOOKUP(A26,'All Meals'!$A$12:$S$62,18)))) | I26: =IF(B26=0,"",IF(E26="","No",IF(E26>=0.5,"Yes","No"))) | J26: =IF(B26=0,"",IF((VLOOKUP(A26,'All Meals'!$A$12:$S$62,4))="",0,(VLOOKUP(A26,'All Meals'!$A$12:$S$62,4)))) | K26: =IF(B26=0,"",IF((VLOOKUP(A26,'All Meals'!$A$12:$S$62,5))="",0,(VLOOKUP(A26,'All Meals'!$A$12:$S$62,5)))) | L26: =IF(B26=0,"",IF((VLOOKUP(A26,'All Meals'!$A$12:$S$62,6))="",0,(VLOOKUP(A26,'All Meals'!$A$12:$S$62,6)))) | M26: =IF(B26=0,"",IF(SUM(J26-L26)>=1,"Yes","No")) | N26: =IF(B26=0,"",IF((VLOOKUP(A26,'All Meals'!$A$12:$S$62,19))="",0,(VLOOKUP(A26,'All Meals'!$A$12:$S$62,19)))) | O26: =IF(B26=0,"",IF(N26="","No",IF(N26>=1,"Yes","No")))

Sheet Weekly Report
A1: Weekly SFSP Report Breakfast
A3: Go to instructions | B3: Monday | C3: Tuesday | D3: Wednesday | E3: Thursday | F3: Friday | G3: Weekly Total | H3: Weekly Requirement (cups) | I3: Weekly Requirement Check | K3: Weekly Fruit Juice Limit (no more than half of total fruit) | M3: Total Weekly Fruit | O3: Total Weekly Juice | Q3: Percent of totally weekly fruit that is juice | S3: Weekly Requirement check
A4: Minimum Fruit, Vegetable and/or 100% Juice (cups) | B4: =MIN(Monday!E7:E26) -> 0 | C4: =MIN(Tuesday!E7:E26) -> 0 | D4: =MIN(Wednesday!E7:E26) -> 0 | E4: =MIN(Thursday!E7:E26) -> 0 | F4: =MIN(Friday!E7:E26) -> 0 | G4: =SUM(B4:F4) -> 0 | H4: 2.5 | I4: =IF(G4>=H4, "Yes", "No") -> No | M4: =R6 -> 0 | O4: =R5 -> 0 | Q4: =IF(ISERROR(O4/M4),0,O4/M4) -> 0 | S4: =IF(Q4<=0.5, "Yes", "No") -> Yes
K5: Juice | M5: =MAX(Monday!F7:F26) -> 0 | N5: =MAX(Tuesday!F7:F26) -> 0 | O5: =MAX(Wednesday!F7:F26) -> 0 | P5: =MAX(Thursday!F7:F26) -> 0 | Q5: =MAX(Friday!F7:F26) -> 0 | R5: =SUM(M5:Q5) -> 0
K6: fruit | M6: =MAX(Monday!E7:E26) -> 0 | N6: =MAX(Tuesday!E7:E26) -> 0 | O6: =MAX(Wednesday!E7:E26) -> 0 | P6: =MAX(Thursday!E7:E26) -> 0 | Q6: =MAX(Friday!E7:E26) -> 0 | R6: =SUM(M6:Q6) -> 0
B8: Monday | C8: Tuesday | D8: Wednesday | E8: Thursday | F8: Friday | G8: Weekly Total | H8: Weekly Requirement (oz equivalents) | I8: Weekly Requirement Check | K8: Starchy vegetable fruit crediting | N8: Monday | O8: Tuesday | P8: Wednesday | Q8: Thursday | R8: Friday | S8: Weekly Total
A9: Minimum Grain | B9: =IF(COUNTIF(Monday!M7:M26,"No")>0, "Check grains and m/ma crediting", MIN(Monday!J7:J26)) -> 0 | C9: =IF(COUNTIF(Tuesday!M7:M26,"No")>0, "Check grains and m/ma crediting", MIN(Tuesday!J7:J26)) -> 0 | D9: =IF(COUNTIF(Wednesday!M7:M26,"No")>0, "Check grains and m/ma crediting", MIN(Wednesday!J7:J26)) -> 0 | E9: =IF(COUNTIF(Thursday!M7:M26,"No")>0, "Check grains and m/ma crediting", MIN(Thursday!J7:J26)) -> 0 | F9: =IF(COUNTIF(Friday!M7:M26,"No")>0, "Check grains and m/ma crediting", MIN(Friday!J7:J26)) -> 0 | G9: =SUM(B9:F9) -> 0 | H9: 5 | I9: =IF(G9>=H9, "Yes","No") -> No | K9: Must serve at least 2 cups of non-starchy prior to crediting starchy vegetables as fruit | M9: Non-starchy | N9: =MAX(Monday!G7:G26) -> 0 | O9: =MAX(Tuesday!G7:G26) -> 0 | P9: =MAX(Wednesday!G7:G26) -> 0 | Q9: =MAX(Thursday!G7:G26) -> 0 | R9: =MAX(Friday!G7:G26) -> 0 | S9: =SUM(N9:R9) -> 0 | U9: Notes from the State Agency: While there is no maximum amount of grains that may be served as part of the meal pattern, the Maximum Grain Requirement is here to remind sponsors to keep portion sizes reasonable. Additionally Whole grain (WG) and Whole Grain-Rich (WGR) grains are not a requirement for the Summer Food Service Program but it is a best practice to serve at least two servings of whole-grains per day.
A10: Maximum Grain | B10: =IF(COUNTIF(Monday!M7:M26,"No")>0,"Check grains and m/ma crediting",MAX(Monday!J7:J26)) -> 0 | C10: =IF(COUNTIF(Tuesday!M7:M26,"No")>0,"Check grains and m/ma crediting",MAX(Tuesday!J7:J26)) -> 0 | D10: =IF(COUNTIF(Wednesday!M7:M26,"No")>0,"Check grains and m/ma crediting",MAX(Wednesday!J7:J26)) -> 0 | E10: =IF(COUNTIF(Thursday!M7:M26,"No")>0,"Check grains and m/ma crediting",MAX(Thursday!J7:J26)) -> 0 | F10: =IF(COUNTIF(Friday!M7:M26,"No")>0,"Check grains and m/ma crediting",MAX(Friday!J7:J26)) -> 0 | G10: =SUM(B10:F10) -> 0 | H10: 10 | I10: =IF(G10=0,"",IF(G10>H10,"No","Yes")) | M10: Starchy | N10: =MAX(Monday!H7:H26) -> 0 | O10: =MAX(Tuesday!H7:H26) -> 0 | P10: =MAX(Wednesday!H7:H26) -> 0 | Q10: =MAX(Thursday!H7:H26) -> 0 | R10: =MAX(Friday!H7:H26) -> 0 | S10: =SUM(N10:R10) -> 0
A11: Whole Grain Rich Weekly Amount (oz eq) | B11: Weekly Grains Total | C11: =IF(COUNTIF(B9:F9,"Check grains and m/ma crediting")>0,"Check grains and m/ma crediting",SUM(Monday:Friday!J7:J26)-SUM(Monday:Friday!L7:L26)) -> 0 | D11: Weekly Whole Grain-Rich Total | E11: =SUM(Monday:Friday!K7:K26) -> 0 | F11: Percent of Whole Grain-Rich | G11: =IF(ISERROR(E11/C11),"",E11/C11) | H11: 1 | I11: =IF(G11>=1,"Yes",IF(G11<0.5,"No","Check for Waiver")) -> Yes | K11: Starchy vegetable crediting check | N11: =IF(AND(S10>0,S9<2), "Check starchy vegetable crediting", "")
B13: Monday | C13: Tuesday | D13: Wednesday | E13: Thursday | F13: Friday | G13: Weekly Total | H13: Weekly Requirement (cups) | I13: Weekly Requirement Check
A14: Minimum Fluid Milk (cups) | B14: =MIN(Monday!N7:N26) -> 0 | C14: =MIN(Tuesday!N7:N26) -> 0 | D14: =MIN(Wednesday!N7:N26) -> 0 | E14: =MIN(Thursday!N7:N26) -> 0 | F14: =MIN(Friday!N7:N26) -> 0 | G14: =SUM(B14:F14) -> 0 | H14: 5 | I14: =IF(G14>=H14, "Yes", "No") -> No
A15: Variety: Skim/fat-free unflavored, Skim/fat-free flavored, Low-fat (less than 1%) unflavored, Low-fat (1% or less) flavored, Reduced fat (2% fat) or whole unflavored or flavored. | B15: =Monday!W5 | C15: =Tuesday!W5 | D15: =Wednesday!W5 | E15: =Thursday!W5 | F15: =Friday!W5
A16: Low-fat (1% or less), flavored | B16: =Monday!W8 -> 0 | C16: =Tuesday!W8 -> 0 | D16: =Wednesday!W8 -> 0 | E16: =Thursday!W8 -> 0 | F16: =Friday!W8 -> 0
A17: Reduced fat (2% fat) or whole, unflavored and flavored | B17: =Monday!W9 -> 0 | C17: =Tuesday!W9 -> 0 | D17: =Wednesday!W9 -> 0 | E17: =Thursday!W9 -> 0 | F17: =Friday!W9 -> 0
